{"text_format":"2","workbook":"xlsx","n_sheets":4,"sheets":["Statistik","Turniere","BH_VT","Listen"],"not_rendered":{"charts":0,"images":0,"macros":0,"external_links":0,"defined_names":1,"comments":0,"pivot_tables":0},"unopened":[],"bounds":{"document_bytes":16777216,"sheet_cells":100000,"run_cost":"one","rows_first":2000,"rows_last":500,"rows_between":2000,"halvings":0,"cell_chars":16384,"cell_head_chars":4096},"cells_cut":0,"cells_raw":0,"read":"whole","date_system":"1900"}

{"sheet":"Statistik","index":0,"n_rows":81,"n_cols":10,"rows_kept":81,"cut":false,"hidden":false,"merged":[[44,9,45,9],[41,0,41,1],[43,0,43,1],[45,0,45,1],[42,0,42,1],[28,0,29,7],[38,0,39,7],[23,0,24,0],[35,0,35,2],[36,3,36,5],[30,2,30,3],[31,2,31,3],[30,0,31,1],[32,2,32,3],[33,2,33,3],[34,2,34,3],[21,0,22,0],[15,0,16,0],[13,0,14,0],[19,0,20,0],[17,0,18,0],[4,0,4,1],[0,20,0,21],[0,10,0,19],[1,10,1,11],[11,0,12,0],[9,0,10,0],[2,0,2,1],[3,0,3,1],[1,0,1,1],[7,0,8,0],[5,0,6,0],[12,22,13,22],[12,20,13,21],[52,0,52,1],[0,22,1,22],[11,10,11,18],[9,10,9,11],[2,10,2,11],[3,10,3,11],[4,10,4,11],[5,10,5,11],[6,10,6,11],[7,10,7,11],[8,10,8,11],[12,10,13,17],[12,19,13,19],[0,0,0,3],[57,0,57,1],[61,9,62,9],[61,10,62,11],[61,12,62,12],[49,7,50,7],[61,4,62,4],[61,5,62,5],[61,7,62,7],[49,10,49,11],[49,12,50,12],[49,2,49,4],[73,0,73,3],[74,0,74,3],[65,0,65,3],[66,0,66,3],[67,0,67,3],[68,0,68,3],[69,0,69,3],[49,0,49,1],[70,0,70,3],[71,0,71,3],[72,0,72,3],[61,0,62,3],[63,0,63,3],[64,0,64,3],[50,0,50,1],[51,0,51,1],[60,0,60,8],[58,0,58,1],[59,0,59,1],[53,0,53,1],[54,0,54,1],[55,0,55,1],[56,0,56,1],[80,0,80,3],[75,0,75,3],[76,0,76,3],[77,0,77,3],[78,0,78,3]]}
["Turnierhundsport Statistik ",null,null,null,2025]
["Disziplin  ",null,"Jugend-  \nklasse  \n(bis 18 J.)  ","Aktiven-  \nklasse  \n(19-49 J.)  ","Senioren-  \nklasse  \n(ab 50 J.)  ","PARA  \nStarter  ",null,"Summe  "]
["Vorprüfung  VP - V",null,{"$f":"IF(Turniere!B306=\"\",\"\",Turniere!B306)","v":2},{"$f":"IF(Turniere!B307=\"\",\"\",Turniere!B307)","v":13},{"$f":"IF(Turniere!B308=\"\",\"\",Turniere!B308)","v":2},{"$f":"IF(Turniere!B309=\"\",\"\",Turniere!B309)","v":0},null,{"$f":"SUM(C3:F3)","v":17}]
["Vorprüfung VP - VK",null,{"$f":"IF(Turniere!C306=\"\",\"\",Turniere!C306)","v":0},{"$f":"IF(Turniere!C307=\"\",\"\",Turniere!C307)","v":4},{"$f":"IF(Turniere!C308=\"\",\"\",Turniere!C308)","v":0},{"$f":"IF(Turniere!C309=\"\",\"\",Turniere!C309)","v":0},null,{"$f":"SUM(C4:F4)","v":4}]
["Vorprüfung VP - CC",null,{"$f":"IF(Turniere!C307=\"\",\"\",Turniere!C307)","v":4},{"$f":"IF(Turniere!C308=\"\",\"\",Turniere!C308)","v":0},{"$f":"IF(Turniere!C309=\"\",\"\",Turniere!C309)","v":0},{"$f":"IF(Turniere!D309=\"\",\"\",Turniere!D309)","v":0},null,{"$f":"SUM(C5:F5)","v":4}]
["Vierkampf\n  1-3  ","männlich  ",{"$f":"IF(Turniere!F$306=\"\",\"\",Turniere!F$306)","v":5},{"$f":"IF(Turniere!F307=\"\",\"\",Turniere!F307)","v":12},{"$f":"IF(Turniere!F308=\"\",\"\",Turniere!F308)","v":4},{"$f":"IF(Turniere!F309=\"\",\"\",Turniere!F309)","v":0},null,{"$f":"SUM(C6:F6)","v":21}]
[null,"weiblich  ",{"$f":"IF(Turniere!G306=\"\",\"\",Turniere!G306)","v":6},{"$f":"IF(Turniere!G307=\"\",\"\",Turniere!G307)","v":119},{"$f":"IF(Turniere!G308=\"\",\"\",Turniere!G308)","v":30},{"$f":"IF(Turniere!G309=\"\",\"\",Turniere!G309)","v":0},null,155]
["Sprimt Vierkampf","männlich  ",{"$f":"IF(Turniere!H$306=\"\",\"\",Turniere!H$306)","v":5},{"$f":"IF(Turniere!$H307=\"\",\"\",Turniere!$H307)","v":12},{"$f":"IF(Turniere!$H308=\"\",\"\",Turniere!$H308)","v":9},{"$f":"IF(Turniere!$H309=\"\",\"\",Turniere!$H309)","v":0},null,26]
[null,"weiblich  ",{"$f":"IF(Turniere!I306=\"\",\"\",Turniere!I306)","v":0},{"$f":"IF(Turniere!I307=\"\",\"\",Turniere!I307)","v":29},{"$f":"IF(Turniere!I308=\"\",\"\",Turniere!I308)","v":6},{"$f":"IF(Turniere!I309=\"\",\"\",Turniere!I309)","v":0},null,35]
["CSC","männlich  ",{"$f":"IF(Turniere!J306=\"\",\"\",Turniere!J306)","v":0},{"$f":"IF(Turniere!J307=\"\",\"\",Turniere!J307)","v":0},{"$f":"IF(Turniere!J308=\"\",\"\",Turniere!J308)","v":1},{"$f":"IF(Turniere!J309=\"\",\"\",Turniere!J309)","v":0},null,1]
[null,"weiblich  ",{"$f":"IF(Turniere!K306=\"\",\"\",Turniere!K306)","v":0},{"$f":"IF(Turniere!L306=\"\",\"\",Turniere!L306)","v":7},{"$f":"IF(Turniere!K308=\"\",\"\",Turniere!K308)","v":0},{"$f":"IF(Turniere!K309=\"\",\"\",Turniere!K309)","v":0},null,7]
["CSC Mannschaft","männlich  ",{"$f":"IF(Turniere!L306=\"\",\"\",Turniere!L306)","v":7},{"$f":"IF(Turniere!L307=\"\",\"\",Turniere!L307)","v":10},{"$f":"IF(Turniere!L308=\"\",\"\",Turniere!L308)","v":6},{"$f":"IF(Turniere!L309=\"\",\"\",Turniere!L309)","v":0},null,23]
[null,"weiblich  ",{"$f":"IF(Turniere!M306=\"\",\"\",Turniere!M306)","v":8},{"$f":"IF(Turniere!M307=\"\",\"\",Turniere!M307)","v":45},{"$f":"IF(Turniere!M308=\"\",\"\",Turniere!M308)","v":20},{"$f":"IF(Turniere!M309=\"\",\"\",Turniere!M309)","v":0},null,73]
["Cani Cross   Geländelauf","männlich  ",{"$f":"IF(Turniere!N306=\"\",\"\",Turniere!N306)","v":4},{"$f":"IF(Turniere!N307=\"\",\"\",Turniere!N307)","v":33},{"$f":"IF(Turniere!N308=\"\",\"\",Turniere!N308)","v":9},{"$f":"IF(Turniere!N309=\"\",\"\",Turniere!N309)","v":0},null,46]
[null,"weiblich  ",{"$f":"IF(Turniere!O306=\"\",\"\",Turniere!O306)","v":2},{"$f":"IF(Turniere!O307=\"\",\"\",Turniere!O307)","v":70},{"$f":"IF(Turniere!O308=\"\",\"\",Turniere!O308)","v":13},{"$f":"IF(Turniere!O309=\"\",\"\",Turniere!O309)","v":0},null,85]
["CaniCross         Bikejöring","männlich  ",{"$f":"IF(Turniere!P306=\"\",\"\",Turniere!P306)","v":0},{"$f":"IF(Turniere!P307=\"\",\"\",Turniere!P307)","v":3},{"$f":"IF(Turniere!P308=\"\",\"\",Turniere!P308)","v":8},{"$f":"IF(Turniere!P309=\"\",\"\",Turniere!P309)","v":0},null,11]
[null,"weiblich  ",{"$f":"IF(Turniere!Q306=\"\",\"\",Turniere!Q306)","v":0},{"$f":"IF(Turniere!Q307=\"\",\"\",Turniere!Q307)","v":12},{"$f":"IF(Turniere!Q308=\"\",\"\",Turniere!Q308)","v":3},{"$f":"IF(Turniere!Q309=\"\",\"\",Turniere!Q309)","v":0},null,15]
["CaniCross     DogScooter","männlich  ",{"$f":"IF(Turniere!R306=\"\",\"\",Turniere!R306)","v":0},{"$f":"IF(Turniere!R307=\"\",\"\",Turniere!R307)","v":0},{"$f":"IF(Turniere!R308=\"\",\"\",Turniere!R308)","v":4},{"$f":"IF(Turniere!R309=\"\",\"\",Turniere!R309)","v":0},null,4]
[null,"weiblich  ",{"$f":"IF(Turniere!S306=\"\",\"\",Turniere!S306)","v":0},{"$f":"IF(Turniere!S307=\"\",\"\",Turniere!S307)","v":12},{"$f":"IF(Turniere!S308=\"\",\"\",Turniere!S308)","v":0},{"$f":"IF(Turniere!S309=\"\",\"\",Turniere!S309)","v":0},null,12]
["Hindernislauf","männlich  ",{"$f":"IF(Turniere!T306=\"\",\"\",Turniere!T306)","v":3},{"$f":"IF(Turniere!T307=\"\",\"\",Turniere!T307)","v":7},{"$f":"IF(Turniere!T308=\"\",\"\",Turniere!T308)","v":4},{"$f":"IF(Turniere!T309=\"\",\"\",Turniere!T309)","v":0},null,14]
[null,"weiblich  ",{"$f":"IF(Turniere!U306=\"\",\"\",Turniere!U306)","v":4},{"$f":"IF(Turniere!U307=\"\",\"\",Turniere!U307)","v":17},{"$f":"IF(Turniere!U308=\"\",\"\",Turniere!U308)","v":7},{"$f":"IF(Turniere!U309=\"\",\"\",Turniere!U309)","v":0},null,28]
["Dreikampf","männlich  ",{"$f":"IF(Turniere!V306=\"\",\"\",Turniere!V306)","v":1},{"$f":"IF(Turniere!V307=\"\",\"\",Turniere!V307)","v":7},{"$f":"IF(Turniere!V308=\"\",\"\",Turniere!V308)","v":1},{"$f":"IF(Turniere!V309=\"\",\"\",Turniere!V309)","v":0},null,9]
[null,"weiblich  ",{"$f":"IF(Turniere!W306=\"\",\"\",Turniere!W306)","v":6},{"$f":"IF(Turniere!W307=\"\",\"\",Turniere!W307)","v":23},{"$f":"IF(Turniere!W308=\"\",\"\",Turniere!W308)","v":8},{"$f":"IF(Turniere!W309=\"\",\"\",Turniere!W309)","v":0},null,37]
["Shorty  ","männlich  ",{"$f":"IF(Turniere!X306=\"\",\"\",Turniere!X306)","v":7},{"$f":"IF(Turniere!X307=\"\",\"\",Turniere!X307)","v":21},{"$f":"IF(Turniere!X308=\"\",\"\",Turniere!X308)","v":10},{"$f":"IF(Turniere!X309=\"\",\"\",Turniere!X309)","v":0},null,38]
[null,"weiblich  ",{"$f":"IF(Turniere!Y306=\"\",\"\",Turniere!Y306)","v":6},{"$f":"IF(Turniere!Y307=\"\",\"\",Turniere!Y307)","v":63},{"$f":"IF(Turniere!Y308=\"\",\"\",Turniere!Y308)","v":21},{"$f":"IF(Turniere!Y309=\"\",\"\",Turniere!Y309)","v":0},null,90]
[]
["Gesamt  ",null,{"$f":"SUM(C3:C25)","v":70},{"$f":"SUM(D3:D25)","v":519},166,0,null,{"$f":"SUM(H3:H25)","v":755},{"$f":"SUM(C27:F27)","v":755}]
[]
["Statistik Begleithundprüfung & Vorprüfung"]
[]
["Unbefangenheitsprüfung       Wesenstest",null,"Bestanden",{"$nulls":4},{"$f":"BH_VT!F184","v":0}]
[null,null,"nicht Bestanden",{"$nulls":4},{"$f":"BH_VT!F185","v":0}]
[" BH - VT ohne AK",{"$f":"BH_VT!D184","v":0},{"$nulls":5},{"$f":"BH_VT!F186","v":8}]
[" BH - VT bestanden",{"$f":"BH_VT!D186","v":0},{"$nulls":5},{"$f":"BH_VT!F187","v":58}]
[" BH -VT nur Sachkunde",{"$f":"BH_VT!D180","v":0},{"$nulls":4},{"$f":"#REF!+G34","v":{"$error":"#REF!"}},{"$f":"BH_VT!F188","v":0}]
[]
[null,null,null,"Gesamt",null,null,null,{"$f":"SUM(H31:H35)","v":66}]
[]
["Gesamt Vorprüfung  Turnierhundsport"]
[]
[null,null,"Jugend\nbis 18 J.","Aktive\n19 - 49 J.","Senioren\nab 50 J.","PARA",null,"Gesamt"]
["Vorprüfung  VP - V",null,{"$f":"Turniere!B306","v":2},{"$f":"Turniere!B307","v":13},{"$f":"Turniere!B308","v":2},{"$f":"Turniere!B309","v":0},null,{"$f":"C42+D42+E42+F42","v":17}]
["Vorprüfung VP - VK",null,{"$f":"Turniere!C306","v":0},{"$f":"Turniere!C307","v":4},{"$f":"Turniere!C308","v":0},{"$f":"Turniere!C309","v":0},null,{"$f":"C43+D43+E43+F43","v":4}]
["Vorprüfung VP - CC",null,{"$f":"Turniere!D306","v":1},{"$f":"Turniere!D307","v":15},{"$f":"Turniere!D308","v":2},{"$f":"Turniere!D309","v":0},null,18]
[{"$nulls":9},{"$f":"C46+D46+E46+F46","v":39}]
["Gesamt",null,{"$f":"C42+C43+C44","v":3},{"$f":"D42+D43+D44","v":32},{"$f":"E42+E43+E44","v":4},{"$f":"F42+F43+F44","v":0},null,{"$f":"H42+H43+H44","v":39}]
[]
[]
[]
["Leistungsrichter Einsatz",null,"THS",null,null,"BH - VT",null,"Gesamt\nEinsatz"]
["Name",null,"LR 1","LR 2","LR 3","LR",null,null,null,"Summe"]
["Bormann, Aloys",null,3,{"$f":"Turniere!AF354","v":0},{"$f":"Turniere!AF354","v":0},{"$f":"BH_VT!L183","v":1},null,{"$f":"SUM(C52:F52)","v":4},null,{"$f":"D52+F52+H52","v":5}]
["Geber, Harald",null,2,{"$f":"Turniere!AN354","v":0},{"$f":"Turniere!AN354","v":0},{"$f":"BH_VT!P183","v":0},null,{"$f":"SUM(C53:F53)","v":2},null,{"$f":"D53+F53+H53","v":2}]
["Gensrich, Michael",null,3,1,{"$f":"Turniere!AR354","v":0},{"$f":"BH_VT!R183","v":1},null,5,null,7]
["Grünig, Rainer",null,1,2,{"$f":"Turniere!AV354","v":0},{"$f":"BH_VT!T183","v":3},null,6,null,11]
["Lausch, Christian",null,2,{"$f":"Turniere!AZ354","v":0},{"$f":"Turniere!AZ354","v":0},{"$f":"BH_VT!V183","v":0},null,2,null,2]
["Sprenger, Beate",null,1,{"$f":"Turniere!BD354","v":0},{"$f":"Turniere!BD354","v":0},{"$f":"BH_VT!X183","v":1},null,2,null,3]
["Volkmann, Claudia",null,{"$f":"Turniere!BH354","v":0},1,{"$f":"Turniere!BH354","v":0},{"$f":"BH_VT!Z183","v":0},null,1,null,2]
["Fiedler Anwärterin",null,{"$f":"Turniere!AJ354","v":0},{"$f":"Turniere!AJ354","v":0},{"$f":"Turniere!AJ354","v":0},{"$f":"BH_VT!N183","v":0},null,0,null,0]
["Gesamt",null,{"$f":"SUM(C52:C59)","v":12},{"$f":"SUM(D52:D59)","v":4},{"$f":"SUM(E52:E59)","v":0},{"$f":"SUM(F52:F59)","v":6},null,{"$f":"SUM(H52:H59)","v":22},null,{"$f":"J52+J53+J55+J56+J57+J58+J59","v":25}]
[]
["Veranstaltungen Verein",null,null,null,"THS","BH-VT",null,"Gesamt",null,"THS"]
[]
["HSV Bockenem",null,null,null,{"$f":"Turniere!BX305","v":1},{"$f":"BH_VT!AD183","v":0},null,{"$f":"SUM(E64:F64)","v":1}]
["PHV Göttingen",null,null,null,{"$f":"Turniere!BY305","v":0},{"$f":"BH_VT!AE183","v":0},null,{"$f":"SUM(E65:F65)","v":0}]
["Hundefreunde Göttingen",null,null,null,{"$f":"Turniere!BZ305","v":0},{"$f":"BH_VT!AF183","v":0},null,0]
["PHV Hambühren",null,null,null,{"$f":"Turniere!CA305","v":1},{"$f":"BH_VT!AG183","v":0},null,1]
["PHV Hameln",null,null,null,{"$f":"Turniere!CB305","v":1},{"$f":"BH_VT!AH183","v":0},null,1]
["PHV Hannover",null,null,null,{"$f":"Turniere!CC305","v":0},{"$f":"BH_VT!AJ183","v":0},null,0]
["GHV Hildesheim",null,null,null,{"$f":"Turniere!CD305","v":0},0,null,0]
["PHV Laatzen",null,null,null,{"$f":"Turniere!CE305","v":0},2,null,2]
["HC Lachtetal",null,null,null,{"$f":"Turniere!CF305","v":1},0,null,1]
["SGSV Langelsheim",null,null,null,{"$f":"Turniere!CG305","v":2},1,null,3]
["VdH Lindhorst",null,null,null,{"$f":"Turniere!CH305","v":0},{"$f":"BH_VT!AO183","v":0},null,0]
["PHV Misburg",null,null,null,{"$f":"Turniere!CI305","v":2},{"$f":"BH_VT!AP183","v":0},null,2]
["HSV Osterode",null,null,null,{"$f":"Turniere!CJ305","v":1},{"$f":"BH_VT!AQ183","v":0},null,1]
["MV Schöningen",null,null,null,{"$f":"Turniere!CK305","v":0},{"$f":"BH_VT!AR183","v":0},null,0]
["HSV Velstove",null,null,null,{"$f":"Turniere!CL305","v":0},{"$f":"BH_VT!AS183","v":0},null,0]
["1. PHV Goslar",null,null,null,2,0,null,{"$f":"SUM(E79:F79)","v":2}]
[]
["Gesamt",null,null,null,13,6,null,19]

{"sheet":"Turniere","index":1,"n_rows":312,"n_cols":90,"rows_kept":312,"cut":false,"hidden":false,"merged":[[1,70,1,72],[12,1,13,3],[2,1,3,3],[12,9,13,10],[12,11,13,12],[1,14,1,17],[1,19,1,22],[1,24,1,27],[11,1,11,2],[11,5,11,6],[11,7,11,12],[11,14,11,17],[11,19,11,22],[11,24,11,27],[2,25,3,26],[2,27,4,27],[2,5,3,6],[261,24,261,27],[271,5,271,6],[1,42,1,44],[1,46,1,48],[1,50,1,52],[1,54,1,56],[1,58,1,60],[1,62,1,64],[1,66,1,68],[241,1,241,2],[271,1,271,2],[302,0,303,0],[272,13,273,14],[232,11,233,12],[232,13,233,14],[42,0,43,0],[42,5,43,6],[42,7,43,8],[301,14,301,27],[102,1,103,3],[101,1,101,4],[112,1,113,3],[62,1,63,3],[52,1,53,3],[42,1,43,3],[302,1,303,3],[281,24,281,27],[242,25,243,26],[242,27,244,27],[242,21,243,22],[242,23,243,24],[291,24,291,27],[261,19,261,22],[272,27,274,27],[281,1,281,2],[281,5,281,6],[281,7,281,12],[281,14,281,17],[32,1,33,3],[22,1,23,3],[301,0,301,13],[201,1,201,2],[32,11,33,12],[32,13,33,14],[142,1,143,3],[152,1,153,3],[162,1,163,3],[172,1,173,3],[182,1,183,3],[192,1,193,3],[202,1,203,3],[231,1,231,2],[222,1,223,3],[232,1,233,3],[242,1,243,3],[252,1,253,3],[262,1,263,3],[282,25,283,26],[272,11,273,12],[281,19,281,22],[251,1,251,2],[251,5,251,6],[251,7,251,12],[251,14,251,17],[251,19,251,22],[251,24,251,27],[261,1,261,2],[261,5,261,6],[261,7,261,12],[252,11,253,12],[252,17,253,18],[252,19,253,20],[252,21,253,22],[252,7,253,8],[252,9,253,10],[271,7,271,12],[271,14,271,17],[271,19,271,22],[271,24,271,27],[272,23,273,24],[272,25,273,26],[232,23,233,24],[232,25,233,26],[241,7,241,12],[241,14,241,17],[242,13,243,14],[242,15,243,16],[242,17,243,18],[242,19,243,20],[232,27,234,27],[232,15,233,16],[232,17,233,18],[232,19,233,20],[232,21,233,22],[241,19,241,22],[241,24,241,27],[201,24,201,27],[211,1,211,2],[211,5,211,6],[211,7,211,12],[211,14,211,17],[211,19,211,22],[211,24,211,27],[181,19,181,22],[181,24,181,27],[191,1,191,2],[191,5,191,6],[191,7,191,12],[191,14,191,17],[191,19,191,22],[191,24,191,27],[202,25,203,26],[202,27,204,27],[202,21,203,22],[202,23,203,24],[192,23,193,24],[192,25,193,26],[201,7,201,12],[201,14,201,17],[192,15,193,16],[161,24,161,27],[171,1,171,2],[171,5,171,6],[171,7,171,12],[171,14,171,17],[171,19,171,22],[171,24,171,27],[141,19,141,22],[141,24,141,27],[151,1,151,2],[151,5,151,6],[151,7,151,12],[151,14,151,17],[151,19,151,22],[151,24,151,27],[162,25,163,26],[162,27,164,27],[162,21,163,22],[162,23,163,24],[152,23,153,24],[152,25,153,26],[161,1,161,2],[161,7,161,12],[161,14,161,17],[121,24,121,27],[131,1,131,2],[131,5,131,6],[131,7,131,12],[131,14,131,17],[131,19,131,22],[131,24,131,27],[101,19,101,22],[101,24,101,27],[111,1,111,2],[111,5,111,6],[111,7,111,12],[111,14,111,17],[111,19,111,22],[111,24,111,27],[122,25,123,26],[122,27,124,27],[122,21,123,22],[122,23,123,24],[112,23,113,24],[112,25,113,26],[121,1,121,2],[121,7,121,12],[121,14,121,17],[81,24,81,27],[91,1,91,2],[91,5,91,6],[91,7,91,12],[91,14,91,17],[91,19,91,22],[91,24,91,27],[61,19,61,22],[61,24,61,27],[71,1,71,2],[71,5,71,6],[71,7,71,12],[71,14,71,17],[71,19,71,22],[71,24,71,27],[82,25,83,26],[82,27,84,27],[82,21,83,22],[82,23,83,24],[72,23,73,24],[72,25,73,26],[81,1,81,2],[81,7,81,12],[81,14,81,17],[51,24,51,27],[31,1,31,2],[31,5,31,6],[31,7,31,12],[31,14,31,17],[31,19,31,22],[31,24,31,27],[42,25,43,26],[42,27,44,27],[42,21,43,22],[42,23,43,24],[32,23,33,24],[32,25,33,26],[32,27,34,27],[41,1,41,2],[41,5,41,6],[41,7,41,12],[42,13,43,14],[42,15,43,16],[42,17,43,18],[42,19,43,20],[51,14,51,17],[41,14,41,17],[51,19,51,22],[2,7,3,8],[2,9,3,10],[2,11,3,12],[2,13,3,14],[2,21,3,22],[2,23,3,24],[2,17,3,18],[2,19,3,20],[32,15,33,16],[32,17,33,18],[32,19,33,20],[32,21,33,22],[21,7,21,12],[21,14,21,17],[21,19,21,22],[21,24,21,27],[12,27,14,27],[12,15,13,16],[12,17,13,18],[12,19,13,20],[12,21,13,22],[12,23,13,24],[12,13,13,14],[12,25,13,26],[22,25,23,26],[22,27,24,27],[22,21,23,22],[22,23,23,24],[41,19,41,22],[41,24,41,27],[22,17,23,18],[22,19,23,20],[302,25,303,26],[302,27,304,27],[292,25,293,26],[292,27,294,27],[282,27,284,27],[272,19,273,20],[272,21,273,22],[262,25,263,26],[262,27,264,27],[262,23,263,24],[252,23,253,24],[252,25,253,26],[252,27,254,27],[261,14,261,17],[252,13,253,14],[252,15,253,16],[1,1,1,2],[1,5,1,6],[1,7,1,12],[302,13,303,14],[302,15,303,16],[302,17,303,18],[302,19,303,20],[302,21,303,22],[302,23,303,24],[302,5,303,6],[302,7,303,8],[302,9,303,10],[302,11,303,12],[292,23,293,24],[292,11,293,12],[292,13,293,14],[292,15,293,16],[292,17,293,18],[292,19,293,20],[292,21,293,22],[282,21,283,22],[282,23,283,24],[272,15,273,16],[272,17,273,18],[292,0,293,0],[292,5,293,6],[292,7,293,8],[292,9,293,10],[282,13,283,14],[282,15,283,16],[282,17,283,18],[282,19,283,20],[282,0,283,0],[282,5,283,6],[282,7,283,8],[282,9,283,10],[282,11,283,12],[291,1,291,2],[291,5,291,6],[291,7,291,12],[291,14,291,17],[291,19,291,22],[282,1,283,3],[292,1,293,3],[272,0,273,0],[272,5,273,6],[272,7,273,8],[272,9,273,10],[262,13,263,14],[262,15,263,16],[262,17,263,18],[262,19,263,20],[262,21,263,22],[262,0,263,0],[262,5,263,6],[262,7,263,8],[262,9,263,10],[262,11,263,12],[272,1,273,3],[242,0,243,0],[242,5,243,6],[242,7,243,8],[242,9,243,10],[242,11,243,12],[242,4,244,4],[222,25,223,26],[222,27,224,27],[232,0,233,0],[232,5,233,6],[232,7,233,8],[232,9,233,10],[222,13,223,14],[222,15,223,16],[222,17,223,18],[222,19,223,20],[222,21,223,22],[222,23,223,24],[222,0,223,0],[222,5,223,6],[222,7,223,8],[222,9,223,10],[222,11,223,12],[232,4,234,4],[212,25,213,26],[212,27,214,27],[221,1,221,2],[221,5,221,6],[221,7,221,12],[221,14,221,17],[212,11,213,12],[212,13,213,14],[212,15,213,16],[212,17,213,18],[212,19,213,20],[212,21,213,22],[221,19,221,22],[221,24,221,27],[231,5,231,6],[231,7,231,12],[231,14,231,17],[231,19,231,22],[231,24,231,27],[222,4,224,4],[192,21,193,22],[212,0,213,0],[212,5,213,6],[212,7,213,8],[212,9,213,10],[202,13,203,14],[202,15,203,16],[202,17,203,18],[202,19,203,20],[202,0,203,0],[202,5,203,6],[202,7,203,8],[202,9,203,10],[202,11,203,12],[212,4,214,4],[201,19,201,22],[212,1,213,3],[212,23,213,24],[182,25,183,26],[182,27,184,27],[192,0,193,0],[192,5,193,6],[192,7,193,8],[192,9,193,10],[182,13,183,14],[182,15,183,16],[182,17,183,18],[182,19,183,20],[182,21,183,22],[182,23,183,24],[182,0,183,0],[182,5,183,6],[182,7,183,8],[182,9,183,10],[182,11,183,12],[192,4,194,4],[182,4,184,4],[192,27,194,27],[192,11,193,12],[192,13,193,14],[192,17,193,18],[192,19,193,20],[172,23,173,24],[172,25,173,26],[172,27,174,27],[181,1,181,2],[181,5,181,6],[181,7,181,12],[181,14,181,17],[172,11,173,12],[172,13,173,14],[172,15,173,16],[172,17,173,18],[172,19,173,20],[172,21,173,22],[152,19,153,20],[152,21,153,22],[172,0,173,0],[172,5,173,6],[172,7,173,8],[172,9,173,10],[162,13,163,14],[162,15,163,16],[162,17,163,18],[162,19,163,20],[162,0,163,0],[162,5,163,6],[162,7,163,8],[162,9,163,10],[162,11,163,12],[172,4,174,4],[161,19,161,22],[142,25,143,26],[142,27,144,27],[152,0,153,0],[152,5,153,6],[152,7,153,8],[152,9,153,10],[142,13,143,14],[142,15,143,16],[142,17,143,18],[142,19,143,20],[142,21,143,22],[142,23,143,24],[142,0,143,0],[142,5,143,6],[142,7,143,8],[142,9,143,10],[142,11,143,12],[152,4,154,4],[142,4,144,4],[152,27,154,27],[152,11,153,12],[152,13,153,14],[152,15,153,16],[152,17,153,18],[132,23,133,24],[132,25,133,26],[132,27,134,27],[141,1,141,2],[141,5,141,6],[141,7,141,12],[141,14,141,17],[132,11,133,12],[132,13,133,14],[132,15,133,16],[132,17,133,18],[132,19,133,20],[132,21,133,22],[132,1,133,3],[112,19,113,20],[112,21,113,22],[132,0,133,0],[132,5,133,6],[132,7,133,8],[132,9,133,10],[122,13,123,14],[122,15,123,16],[122,17,123,18],[122,19,123,20],[122,0,123,0],[122,5,123,6],[122,7,123,8],[122,9,123,10],[122,11,123,12],[132,4,134,4],[121,19,121,22],[122,1,123,3],[102,25,103,26],[102,27,104,27],[112,0,113,0],[112,5,113,6],[112,7,113,8],[112,9,113,10],[102,13,103,14],[102,15,103,16],[102,17,103,18],[102,19,103,20],[102,21,103,22],[102,23,103,24],[102,0,103,0],[102,5,103,6],[102,7,103,8],[102,9,103,10],[102,11,103,12],[112,4,114,4],[102,4,104,4],[112,27,114,27],[112,11,113,12],[112,13,113,14],[112,15,113,16],[112,17,113,18],[92,23,93,24],[92,25,93,26],[92,27,94,27],[101,5,101,6],[101,7,101,12],[101,14,101,17],[92,11,93,12],[92,13,93,14],[92,15,93,16],[92,17,93,18],[92,19,93,20],[92,21,93,22],[72,19,73,20],[72,21,73,22],[92,0,93,0],[92,5,93,6],[92,7,93,8],[92,9,93,10],[82,13,83,14],[82,15,83,16],[82,17,83,18],[82,19,83,20],[82,0,83,0],[82,5,83,6],[82,7,83,8],[82,9,83,10],[82,11,83,12],[92,4,94,4],[81,19,81,22],[92,1,93,3],[82,1,83,3],[72,1,73,3],[62,25,63,26],[62,27,64,27],[72,0,73,0],[72,5,73,6],[72,7,73,8],[72,9,73,10],[62,13,63,14],[62,15,63,16],[62,17,63,18],[62,19,63,20],[62,21,63,22],[62,23,63,24],[62,0,63,0],[62,5,63,6],[62,7,63,8],[62,9,63,10],[62,11,63,12],[72,4,74,4],[62,4,64,4],[72,27,74,27],[72,11,73,12],[72,13,73,14],[72,15,73,16],[72,17,73,18],[52,23,53,24],[52,25,53,26],[52,27,54,27],[61,1,61,2],[61,5,61,6],[61,7,61,12],[61,14,61,17],[52,11,53,12],[52,13,53,14],[52,15,53,16],[52,17,53,18],[52,19,53,20],[52,21,53,22],[52,7,53,8],[52,9,53,10],[42,9,43,10],[42,11,43,12],[52,4,54,4],[42,4,44,4],[51,1,51,2],[51,5,51,6],[51,7,51,12],[2,0,3,0],[2,15,3,16],[12,4,14,4],[2,4,4,4],[32,0,33,0],[32,5,33,6],[32,7,33,8],[32,9,33,10],[22,13,23,14],[22,15,23,16],[22,0,23,0],[22,5,23,6],[22,7,23,8],[22,9,23,10],[22,11,23,12],[22,4,24,4],[12,7,13,8],[302,4,304,4],[292,4,294,4],[282,4,284,4],[272,4,274,4],[262,4,264,4],[252,4,254,4],[12,0,13,0],[12,5,13,6],[52,0,53,0],[52,5,53,6],[81,5,81,6],[82,4,84,4],[121,5,121,6],[122,4,124,4],[161,5,161,6],[162,4,164,4],[201,5,201,6],[202,4,204,4],[241,5,241,6],[21,1,21,2],[21,5,21,6],[32,4,34,4],[252,0,253,0],[252,5,253,6],[0,42,0,44],[0,46,0,48],[0,50,0,52],[0,54,0,56],[0,58,0,60],[0,62,0,64],[0,66,0,68],[0,70,0,72],[307,42,307,44],[307,46,307,48],[307,50,307,52],[307,54,307,56],[307,58,307,60],[307,62,307,64],[307,66,307,68],[307,70,307,72],[306,42,306,44],[306,46,306,48],[306,50,306,52],[306,54,306,56],[306,58,306,60],[306,62,306,64],[306,66,306,68],[306,70,306,72]]}
[{"$nulls":42},"Bormann Aloys",null,null,null,"Fiedler",null,null,null,"Geber Harald",null,null,null,"Gensrich Michael",null,null,null,"Grünig Rainer",null,null,null,"Lausch Christian",null,null,null,"Sprenger Beate",null,null,null,"Volkmann Claudia",{"$nulls":4},"HSV Bockenem","PHV Göttingen","Hundefreunde Göttingen","PHV Hambühren","PHV Hameln","PHV Hannover","GHV Hildesheim","PHV Laatzen","HC Lachtetal","SGSV Langelsheim","VdH Lindhorst","PHV Misburg","HSV Osterode","MV Schöningen","HSV Velstove"]
["Datum","2025-04-12",null,null,null,"Verein",null,"PHV Hameln",{"$nulls":5},"LR 1","Bormann, Aloys",null,null,null,"LR 2","Gensrich, Michael",null,null,null,"LR 3",{"$nulls":7},"Leistungsrichter 1",null,"Leistungsrichter 2",null,"Leistungsrichter 3",{"$nulls":39},{"$f":"IF($H2=BX$1,1,\"\")","v":""},{"$f":"IF($H2=BY$1,1,\"\")","v":""},"","",1,"","","","","","","","","",""]
[1,"Vorprüfung VP",null,null,"Summe","Vierkampf\n1 - 3",null,"Sprint   Vierkampf",null,"CSC",null,"CSC Mannschaft",null,"CaniCross Geländelauf",null,"CaniCross Bikejöring",null,"CaniCross DogScooter",null,"Hindernis    Lauf",null,"Dreikampf",null,"Shorty",null,"Summe",null,"Gesamt",null,null,null,{"$f":"O2","v":"Bormann, Aloys"},null,{"$f":"T2","v":"Gensrich, Michael"},null,{"$f":"Y2","v":0},{"$nulls":6},{"$f":"IF(O2=\"Bormann, Aloys\",1,\"\")","v":1},{"$f":"IF(T2=\"Bormann, Aloys\",1,\"\")","v":""},{"$f":"IF(Y2=\"Bormann, Aloys\",1,\"\")","v":""},null,{"$f":"IF(O2=\"Fiedler\",1,\"\")","v":""},{"$f":"IF(T2=\"Fiedler\",1,\"\")","v":""},{"$f":"IF(Y2=\"Fiedler\",1,\"\")","v":""},null,{"$f":"IF(O2=\"Geber, Harald\",1,\"\")","v":""},{"$f":"IF(T2=\"Geber, Harald\",1,\"\")","v":""},{"$f":"IF(Y2=\"Geber, Harald\",1,\"\")","v":""},null,{"$f":"IF(O2=\"Gensrich, Michael\",1,\"\")","v":""},{"$f":"IF(T2=\"Gensrich, Michael\",1,\"\")","v":1},{"$f":"IF(Y2=\"Gensrich, Michael\",1,\"\")","v":""},null,{"$f":"IF(O2=\"Grünig, Rainer\",1,\"\")","v":""},{"$f":"IF(T2=\"Grünig, Rainer\",1,\"\")","v":""},{"$f":"IF(Y2=\"Grünig, Rainer\",1,\"\")","v":""},null,{"$f":"IF(O2=\"Lausch, Christian\",1,\"\")","v":""},{"$f":"IF(T2=\"Lausch, Christian\",1,\"\")","v":""},{"$f":"IF(Y2=\"Lausch, Christian\",1,\"\")","v":""},null,{"$f":"IF(O2=\"Sprenger, Beate\",1,\"\")","v":""},{"$f":"IF(T2=\"Sprenger, Beate\",1,\"\")","v":""},{"$f":"IF(Y2=\"Sprenger, Beate\",1,\"\")","v":""},null,{"$f":"IF(O2=\"Volkmann, Claudia\",1,\"\")","v":""},{"$f":"IF(T2=\"Volkmann, Claudia\",1,\"\")","v":""},{"$f":"IF(Y2=\"Volkmann, Claudia\",1,\"\")","v":""}]
[{"$nulls":46},{"$f":"IF(O3=\"Fiedler\",1,\"\")","v":""},{"$f":"IF(T3=\"Fiedler\",1,\"\")","v":""},{"$f":"IF(Y3=\"Fiedler\",1,\"\")","v":""}]
["Altersklasse","V","VK","CC",null,"männlich","weiblich","männlich","weiblich","männlich","weiblich","männlich","weiblich","männlich","weiblich","männlich","weiblich","männlich","weiblich","männlich","weiblich","männlich","weiblich","männlich","weiblich","männlich","weiblich",{"$nulls":19},"","",""]
["Jugendklasse\n( bis 18 J )",null,null,null,{"$f":"SUM(B6:D6)","v":0},1,1,{"$nulls":12},1,1,null,null,1,1,{"$f":"F6+H6+J6+L6+N6+P6+R6+T6+V6+X6","v":3},{"$f":"G6+I6+K6+M6+O6+Q6+S6+U6+W6+Y6","v":3},{"$f":"B6+C6+D6+F6+G6+H6+I6+J6+K6+L6+M6+N6+O6+P6+Q6+R6+S6+T6+U6+V6+W6+X6+Y6","v":6},{"$nulls":18},"","",""]
["Aktivenklasse\n( 19 - 49 J. )",1,3,null,{"$f":"SUM(B7:D7)","v":4},null,20,2,4,null,3,null,null,null,4,{"$nulls":4},1,4,2,3,3,14,{"$f":"F7+H7+J7+L7+N7+P7+R7+T7+V7+X7","v":8},{"$f":"G7+I7+K7+M7+O7+Q7+S7+U7+W7+Y7","v":52},{"$f":"B7+C7+D7+F7+G7+H7+I7+J7+K7+L7+M7+N7+O7+P7+Q7+R7+S7+T7+U7+V7+W7+X7+Y7","v":64},{"$nulls":18},"","",""]
["Seniorenklasse\n( ab 50 J. )",null,null,null,{"$f":"SUM(B8:D8)","v":0},null,2,1,1,1,null,null,null,1,1,{"$nulls":5},1,null,1,1,4,4,10,14,{"$nulls":18},"","",""]
["PARA\nStarter",null,null,null,{"$f":"SUM(B9:D9)","v":0},{"$nulls":20},0,0,0,{"$nulls":18},"","",""]
["Gesamt",{"$f":"SUM(B6:B9)","v":1},3,0,{"$f":"SUM(E6:E9)","v":4},1,23,3,5,1,3,0,0,1,5,0,0,0,0,2,6,2,4,5,19,15,65,84,{"$nulls":18},"","",""]
[{"$nulls":46},"","",""]
["Datum","2025-05-04",null,null,null,"Verein",null,"1. PHV Goslar",{"$nulls":5},"LR 1","Gensrich, Michael",null,null,null,"LR 2",{"$nulls":4},"LR 3",{"$nulls":7},{"$f":"O12","v":"Gensrich, Michael"},null,{"$f":"T12","v":0},null,{"$f":"Y12","v":0},{"$nulls":10},"","","",{"$nulls":26},{"$f":"IF($H12=BX$1,1,\"\")","v":""},"","","","","","","","","","","","","",""]
[2,"Vorprüfung VP",null,null,"Summe","Vierkampf\n1 - 3",null,"Sprint   Vierkampf",null,"CSC",null,"CSC Mannschaft",null,"CaniCross Geländelauf",null,"CaniCross Bikejöring",null,"CaniCross DogScooter",null,"Hindernis    Lauf",null,"Dreikampf",null,"Shorty",null,"Summe",null,"Gesamt",{"$nulls":14},{"$f":"IF(O12=\"Bormann, Aloys\",1,\"\")","v":""},{"$f":"IF(T12=\"Bormann, Aloys\",1,\"\")","v":""},{"$f":"IF(Y12=\"Bormann, Aloys\",1,\"\")","v":""},null,"","","",null,{"$f":"IF(O12=\"Geber, Harald\",1,\"\")","v":""},{"$f":"IF(T12=\"Geber, Harald\",1,\"\")","v":""},{"$f":"IF(Y12=\"Geber, Harald\",1,\"\")","v":""},null,{"$f":"IF(O12=\"Gensrich, Michael\",1,\"\")","v":1},{"$f":"IF(T12=\"Gensrich, Michael\",1,\"\")","v":""},{"$f":"IF(Y12=\"Gensrich, Michael\",1,\"\")","v":""},null,{"$f":"IF(O12=\"Grünig, Rainer\",1,\"\")","v":""},{"$f":"IF(T12=\"Grünig, Rainer\",1,\"\")","v":""},{"$f":"IF(Y12=\"Grünig, Rainer\",1,\"\")","v":""},null,{"$f":"IF(O12=\"Lausch, Christian\",1,\"\")","v":""},{"$f":"IF(T12=\"Lausch, Christian\",1,\"\")","v":""},{"$f":"IF(Y12=\"Lausch, Christian\",1,\"\")","v":""},null,{"$f":"IF(O12=\"Sprenger, Beate\",1,\"\")","v":""},{"$f":"IF(T12=\"Sprenger, Beate\",1,\"\")","v":""},{"$f":"IF(Y12=\"Sprenger, Beate\",1,\"\")","v":""},null,{"$f":"IF(O12=\"Volkmann, Claudia\",1,\"\")","v":""},{"$f":"IF(T12=\"Volkmann, Claudia\",1,\"\")","v":""},{"$f":"IF(Y12=\"Volkmann, Claudia\",1,\"\")","v":""}]
[{"$nulls":46},"","",""]
["Altersklasse","V","VK","CC",null,"männlich","weiblich","männlich","weiblich","männlich","weiblich","männlich","weiblich","männlich","weiblich","männlich","weiblich","männlich","weiblich","männlich","weiblich","männlich","weiblich","männlich","weiblich","männlich","weiblich",{"$nulls":19},"","",""]
["Jugendklasse\n( bis 18 J )",null,null,null,{"$f":"SUM(B16:D16)","v":0},2,1,{"$nulls":4},1,1,{"$nulls":8},1,1,1,1,{"$f":"F16+H16+J16+L16+N16+P16+R16+T16+V16+X16","v":5},{"$f":"G16+I16+K16+M16+O16+Q16+S16+U16+W16+Y16","v":4},{"$f":"B16+C16+D16+F16+G16+H16+I16+J16+K16+L16+M16+N16+O16+P16+Q16+R16+S16+T16+U16+V16+W16+X16+Y16","v":9},{"$nulls":18},"","",""]
["Aktivenklasse\n( 19 - 49 J. )",null,1,null,{"$f":"SUM(B17:D17)","v":1},2,7,null,4,null,null,2,7,3,5,{"$nulls":6},1,2,1,null,{"$f":"F17+H17+J17+L17+N17+P17+R17+T17+V17+X17","v":9},{"$f":"G17+I17+K17+M17+O17+Q17+S17+U17+W17+Y17","v":25},{"$f":"B17+C17+D17+F17+G17+H17+I17+J17+K17+L17+M17+N17+O17+P17+Q17+R17+S17+T17+U17+V17+W17+X17+Y17","v":35},{"$nulls":18},"","",""]
["Seniorenklasse\n( ab 50 J. )",null,null,null,0,1,1,null,1,null,null,2,2,{"$nulls":10},1,null,4,4,8,{"$nulls":18},"","",""]
["PARA\nStarter",null,null,null,0,{"$nulls":20},0,0,0,{"$nulls":18},"","",""]
["Gesamt",{"$f":"SUM(B16:B19)","v":0},1,0,{"$f":"SUM(E16:E19)","v":1},5,9,0,5,0,0,5,10,3,5,0,0,0,0,0,0,2,3,3,1,18,33,52,{"$nulls":18},"","",""]
[{"$nulls":46},"","",""]
["Datum","2025-05-10",null,null,null,"Verein",null,"PHV Misburg",{"$nulls":5},"LR 1","Lausch, Christian",null,null,null,"LR 2","Grünig, Rainer",null,null,null,"LR 3",{"$nulls":7},{"$f":"O22","v":"Lausch, Christian"},null,{"$f":"T22","v":"Grünig, Rainer"},null,{"$f":"Y22","v":0},{"$nulls":10},"","","",{"$nulls":26},"","","","","","","","","","","",1,"","",""]
[3,"Vorprüfung VP",null,null,"Summe","Vierkampf\n1 - 3",null,"Sprint   Vierkampf",null,"CSC",null,"CSC Mannschaft",null,"CaniCross Geländelauf",null,"CaniCross Bikejöring",null,"CaniCross DogScooter",null,"Hindernis    Lauf",null,"Dreikampf",null,"Shorty",null,"Summe",null,"Gesamt",{"$nulls":14},"","","",null,"","","",null,"","","",null,"","","",null,"",{"$f":"IF(T22=\"Grünig, Rainer\",1,\"\")","v":1},"",null,1,"","",null,"","","",null,"","",""]
[{"$nulls":46},"","",""]
["Altersklasse","V","VK","CC",null,"männlich","weiblich","männlich","weiblich","männlich","weiblich","männlich","weiblich","männlich","weiblich","männlich","weiblich","männlich","weiblich","männlich","weiblich","männlich","weiblich","männlich","weiblich","männlich","weiblich",{"$nulls":19},"","",""]
["Jugendklasse\n( bis 18 J )",null,null,null,{"$f":"SUM(B26:D26)","v":0},1,1,{"$nulls":4},1,1,{"$nulls":12},{"$f":"F26+H26+J26+L26+N26+P26+R26+T26+V26+X26","v":2},{"$f":"G26+I26+K26+M26+O26+Q26+S26+U26+W26+Y26","v":2},{"$f":"B26+C26+D26+F26+G26+H26+I26+J26+K26+L26+M26+N26+O26+P26+Q26+R26+S26+T26+U26+V26+W26+X26+Y26","v":4},{"$nulls":18},"","",""]
["Aktivenklasse\n( 19 - 49 J. )",null,null,null,{"$f":"SUM(B27:D27)","v":0},1,13,3,2,null,null,1,10,1,4,{"$nulls":6},1,3,null,null,{"$f":"F27+H27+J27+L27+N27+P27+R27+T27+V27+X27","v":7},{"$f":"G27+I27+K27+M27+O27+Q27+S27+U27+W27+Y27","v":32},{"$f":"B27+C27+D27+F27+G27+H27+I27+J27+K27+L27+M27+N27+O27+P27+Q27+R27+S27+T27+U27+V27+W27+X27+Y27","v":39},{"$nulls":18},"","",""]
["Seniorenklasse\n( ab 50 J. )",null,null,null,0,1,5,1,2,null,null,2,6,1,1,{"$nulls":7},1,null,null,5,15,20,{"$nulls":18},"","",""]
["PARA\nStarter",null,null,null,0,{"$nulls":20},0,0,0,{"$nulls":18},"","",""]
["Gesamt",{"$f":"SUM(B26:B29)","v":0},0,0,{"$f":"SUM(E26:E29)","v":0},3,19,4,4,0,0,4,17,2,5,0,0,0,0,0,0,1,4,0,0,14,49,63,{"$nulls":18},"","",""]
[{"$nulls":46},"","",""]
["Datum","2025-05-25",null,null,null,"Verein",null,"PHV Hambühren",{"$nulls":5},"LR 1",{"$nulls":4},"LR 2",{"$nulls":4},"LR 3",{"$nulls":7},{"$f":"O32","v":0},null,{"$f":"T32","v":0},null,{"$f":"Y32","v":0},{"$nulls":10},"","","",{"$nulls":26},"","","",1,"","","","","","","","","","",""]
[4,"Vorprüfung VP",null,null,"Summe","Vierkampf\n1 - 3",null,"Sprint   Vierkampf",null,"CSC",null,"CSC Mannschaft",null,"CaniCross Geländelauf",null,"CaniCross Bikejöring",null,"CaniCross DogScooter",null,"Hindernis    Lauf",null,"Dreikampf",null,"Shorty",null,"Summe",null,"Gesamt",{"$nulls":14},{"$f":"IF(O32=\"Bormann, Aloys\",1,\"\")","v":""},"","",null,"","","",null,"","","",null,"","","",null,"","","",null,"","","",null,"","","",null,"","",""]
[{"$nulls":46},"","",""]
["Altersklasse","V","VK","CC",null,"männlich","weiblich","männlich","weiblich","männlich","weiblich","männlich","weiblich","männlich","weiblich","männlich","weiblich","männlich","weiblich","männlich","weiblich","männlich","weiblich","männlich","weiblich","männlich","weiblich",{"$nulls":19},"","",""]
["Jugendklasse\n( bis 18 J )",null,null,null,{"$f":"SUM(B36:D36)","v":0},1,1,{"$nulls":13},1,{"$nulls":4},{"$f":"F36+H36+J36+L36+N36+P36+R36+T36+V36+X36","v":1},{"$f":"G36+I36+K36+M36+O36+Q36+S36+U36+W36+Y36","v":2},{"$f":"B36+C36+D36+F36+G36+H36+I36+J36+K36+L36+M36+N36+O36+P36+Q36+R36+S36+T36+U36+V36+W36+X36+Y36","v":3},{"$nulls":18},"","",""]
["Aktivenklasse\n( 19 - 49 J. )",null,null,null,{"$f":"SUM(B37:D37)","v":0},2,11,{"$nulls":6},6,8,{"$nulls":4},4,10,null,null,9,19,{"$f":"F37+H37+J37+L37+N37+P37+R37+T37+V37+X37","v":21},{"$f":"G37+I37+K37+M37+O37+Q37+S37+U37+W37+Y37","v":48},{"$f":"B37+C37+D37+F37+G37+H37+I37+J37+K37+L37+M37+N37+O37+P37+Q37+R37+S37+T37+U37+V37+W37+X37+Y37","v":69},{"$nulls":18},"","",""]
["Seniorenklasse\n( ab 50 J. )",null,null,null,0,null,5,{"$nulls":6},4,{"$nulls":5},2,3,null,null,4,8,10,16,26,{"$nulls":18},"","",""]
["PARA\nStarter",null,null,null,0,{"$nulls":20},0,0,0,{"$nulls":18},"","",""]
["Gesamt",{"$f":"SUM(B36:B39)","v":0},0,0,{"$f":"SUM(E36:E39)","v":0},3,17,0,0,0,0,0,0,10,8,0,0,0,0,6,14,0,0,13,27,32,66,98,{"$nulls":18},"","",""]
[{"$nulls":46},"","",""]
["Datum","2025-05-31",null,null,null,"Verein",null,"SGSV Langelsheim",{"$nulls":5},"LR 1","Gensrich, Michael",null,null,null,"LR 2","Volkmann, Claudia",null,null,null,"LR 3",{"$nulls":7},{"$f":"O42","v":"Gensrich, Michael"},null,{"$f":"T42","v":"Volkmann, Claudia"},null,{"$f":"Y42","v":0},{"$nulls":10},"","","",{"$nulls":26},{"$f":"IF($H42=BX$1,1,\"\")","v":""},"","","","","","","","",1,"","","","",""]
[5,"Vorprüfung VP",null,null,"Summe","Vierkampf\n1 - 3",null,"Sprint   Vierkampf",null,"CSC",null,"CSC Mannschaft",null,"CaniCross Geländelauf",null,"CaniCross Bikejöring",null,"CaniCross DogScooter",null,"Hindernis    Lauf",null,"Dreikampf",null,"Shorty",null,"Summe",null,"Gesamt",{"$nulls":14},"","","",null,"","","",null,"","","",null,1,"","",null,"","","",null,"","","",null,"","","",null,"",1,""]
[{"$nulls":46},"","",""]
["Altersklasse","V","VK","CC",null,"männlich","weiblich","männlich","weiblich","männlich","weiblich","männlich","weiblich","männlich","weiblich","männlich","weiblich","männlich","weiblich","männlich","weiblich","männlich","weiblich","männlich","weiblich","männlich","weiblich",{"$nulls":19},"","",""]
["Jugendklasse\n( bis 18 J )",null,null,null,{"$f":"SUM(B46:D46)","v":0},null,null,1,{"$nulls":6},1,{"$nulls":4},1,null,null,1,1,null,{"$f":"F46+H46+J46+L46+N46+P46+R46+T46+V46+X46","v":3},{"$f":"G46+I46+K46+M46+O46+Q46+S46+U46+W46+Y46","v":2},{"$f":"B46+C46+D46+F46+G46+H46+I46+J46+K46+L46+M46+N46+O46+P46+Q46+R46+S46+T46+U46+V46+W46+X46+Y46","v":5},{"$nulls":18},"","",""]
["Aktivenklasse\n( 19 - 49 J. )",5,null,3,{"$f":"SUM(B47:D47)","v":8},null,22,1,4,null,null,2,10,5,5,{"$nulls":4},1,null,null,6,1,9,{"$f":"F47+H47+J47+L47+N47+P47+R47+T47+V47+X47","v":10},{"$f":"G47+I47+K47+M47+O47+Q47+S47+U47+W47+Y47","v":56},{"$f":"B47+C47+D47+F47+G47+H47+I47+J47+K47+L47+M47+N47+O47+P47+Q47+R47+S47+T47+U47+V47+W47+X47+Y47","v":74},{"$nulls":18},"","",""]
["Seniorenklasse\n( ab 50 J. )",null,null,null,0,null,3,1,{"$nulls":6},2,{"$nulls":5},2,null,1,1,null,2,8,10,{"$nulls":18},"","",""]
["PARA\nStarter",null,null,null,0,{"$nulls":20},0,0,0,{"$nulls":18},"","",""]
["Gesamt",{"$f":"SUM(B46:B49)","v":5},0,3,{"$f":"SUM(E46:E49)","v":8},0,25,3,4,0,0,2,10,5,8,0,0,0,0,2,2,0,8,3,9,15,66,89,{"$nulls":18},"","",""]
[{"$nulls":46},"","",""]
["Datum","2025-06-15",null,null,null,"Verein",null,"1. PHV Goslar",{"$nulls":5},"LR 1","Geber, Harald",null,null,null,"LR 2","Grünig, Rainer",null,null,null,"LR 3",{"$nulls":7},{"$f":"O52","v":"Geber, Harald"},null,{"$f":"T52","v":"Grünig, Rainer"},null,{"$f":"Y52","v":0},{"$nulls":10},"","","",{"$nulls":26},{"$f":"IF($H52=BX$1,1,\"\")","v":""},"","","","","","","","","","","","","",""]
[6,"Vorprüfung VP",null,null,"Summe","Vierkampf\n1 - 3",null,"Sprint   Vierkampf",null,"CSC",null,"CSC Mannschaft",null,"CaniCross Geländelauf",null,"CaniCross Bikejöring",null,"CaniCross DogScooter",null,"Hindernis    Lauf",null,"Dreikampf",null,"Shorty",null,"Summe",null,"Gesamt",{"$nulls":14},"","","",null,"","","",null,1,"","",null,"","","",null,"",1,"",null,"","","",null,"","","",null,"","",""]
[{"$nulls":46},"","",""]
["Altersklasse","V","VK","CC",null,"männlich","weiblich","männlich","weiblich","männlich","weiblich","männlich","weiblich","männlich","weiblich","männlich","weiblich","männlich","weiblich","männlich","weiblich","männlich","weiblich","männlich","weiblich","männlich","weiblich",{"$nulls":19},"","",""]
["Jugendklasse\n( bis 18 J )",1,null,null,{"$f":"SUM(B56:D56)","v":1},null,1,1,null,null,null,1,2,{"$nulls":10},1,2,{"$f":"F56+H56+J56+L56+N56+P56+R56+T56+V56+X56","v":3},{"$f":"G56+I56+K56+M56+O56+Q56+S56+U56+W56+Y56","v":5},{"$f":"B56+C56+D56+F56+G56+H56+I56+J56+K56+L56+M56+N56+O56+P56+Q56+R56+S56+T56+U56+V56+W56+X56+Y56","v":9},{"$nulls":18},"","",""]
["Aktivenklasse\n( 19 - 49 J. )",null,null,null,{"$f":"SUM(B57:D57)","v":0},2,11,1,3,null,null,1,7,1,6,{"$nulls":8},1,2,{"$f":"F57+H57+J57+L57+N57+P57+R57+T57+V57+X57","v":6},{"$f":"G57+I57+K57+M57+O57+Q57+S57+U57+W57+Y57","v":29},{"$f":"B57+C57+D57+F57+G57+H57+I57+J57+K57+L57+M57+N57+O57+P57+Q57+R57+S57+T57+U57+V57+W57+X57+Y57","v":35},{"$nulls":18},"","",""]
["Seniorenklasse\n( ab 50 J. )",null,null,null,0,null,3,null,1,null,null,null,4,null,1,{"$nulls":10},0,9,9,{"$nulls":18},"","",""]
["PARA\nStarter",null,null,null,0,{"$nulls":20},0,0,0,{"$nulls":18},"","",""]
["Gesamt",{"$f":"SUM(B56:B59)","v":1},0,0,{"$f":"SUM(E56:E59)","v":1},2,15,2,4,0,0,2,13,1,7,0,0,0,0,0,0,0,0,2,4,9,43,53,{"$nulls":18},"","",""]
[{"$nulls":46},"","",""]
["Datum","2025-06-28",null,null,null,"Verein",null,"HSV Springe",{"$nulls":5},"LR 1","Lausch, Christian",null,null,null,"LR 2",{"$nulls":4},"LR 3",{"$nulls":7},{"$f":"O62","v":"Lausch, Christian"},null,{"$f":"T62","v":0},null,{"$f":"Y62","v":0},{"$nulls":10},"","","",{"$nulls":26},"","","","","","","","","","","","","","",""]
[7,"Vorprüfung VP",null,null,"Summe","Vierkampf\n1 - 3",null,"Sprint   Vierkampf",null,"CSC",null,"CSC Mannschaft",null,"CaniCross Geländelauf",null,"CaniCross Bikejöring",null,"CaniCross DogScooter",null,"Hindernis    Lauf",null,"Dreikampf",null,"Shorty",null,"Summe",null,"Gesamt",{"$nulls":14},"","","",null,"","","",null,"","","",null,"","","",null,"","","",null,1,"","",null,"","","",null,"","",""]
[{"$nulls":46},"","",""]
["Altersklasse","V","VK","CC",null,"männlich","weiblich","männlich","weiblich","männlich","weiblich","männlich","weiblich","männlich","weiblich","männlich","weiblich","männlich","weiblich","männlich","weiblich","männlich","weiblich","männlich","weiblich","männlich","weiblich",{"$nulls":19},"","",""]
["Jugendklasse\n( bis 18 J )",null,null,null,{"$f":"SUM(B66:D66)","v":0},{"$nulls":15},1,{"$nulls":4},{"$f":"F66+H66+J66+L66+N66+P66+R66+T66+V66+X66","v":0},{"$f":"G66+I66+K66+M66+O66+Q66+S66+U66+W66+Y66","v":1},{"$f":"B66+C66+D66+F66+G66+H66+I66+J66+K66+L66+M66+N66+O66+P66+Q66+R66+S66+T66+U66+V66+W66+X66+Y66","v":1},{"$nulls":18},"","",""]
["Aktivenklasse\n( 19 - 49 J. )",null,null,null,{"$f":"SUM(B67:D67)","v":0},1,6,null,3,{"$nulls":11},1,1,2,1,4,{"$f":"F67+H67+J67+L67+N67+P67+R67+T67+V67+X67","v":3},{"$f":"G67+I67+K67+M67+O67+Q67+S67+U67+W67+Y67","v":16},{"$f":"B67+C67+D67+F67+G67+H67+I67+J67+K67+L67+M67+N67+O67+P67+Q67+R67+S67+T67+U67+V67+W67+X67+Y67","v":19},{"$nulls":18},"","",""]
["Seniorenklasse\n( ab 50 J. )",null,null,null,0,null,1,3,{"$nulls":11},2,1,null,null,2,1,7,3,10,{"$nulls":18},{"$f":"IF(O67=\"Fiedler\",1,\"\")","v":""},{"$f":"IF(T67=\"Fiedler\",1,\"\")","v":""},{"$f":"IF(Y67=\"Fiedler\",1,\"\")","v":""}]
["PARA\nStarter",null,null,null,0,{"$nulls":20},0,0,0,{"$nulls":18},"","",""]
["Gesamt",{"$f":"SUM(B66:B69)","v":0},0,0,{"$f":"SUM(E66:E69)","v":0},1,7,3,3,0,0,0,0,0,0,0,0,0,0,2,3,1,2,3,5,10,20,30,{"$nulls":18},"","",""]
[{"$nulls":46},"","",""]
["Datum","2025-08-10",null,null,null,"Verein",null,"HC Lachtetal",{"$nulls":5},"LR 1","Geber, Harald",null,null,null,"LR 2",{"$nulls":4},"LR 3",{"$nulls":7},{"$f":"O72","v":"Geber, Harald"},null,{"$f":"T72","v":0},null,{"$f":"Y72","v":0},{"$nulls":10},"","","",{"$nulls":26},{"$f":"IF($H72=BX$1,1,\"\")","v":""},"","","","","","","",1,"","","","","",""]
[8,"Vorprüfung VP",null,null,"Summe","Vierkampf\n1 - 3",null,"Sprint   Vierkampf",null,"CSC",null,"CSC Mannschaft",null,"CaniCross Geländelauf",null,"CaniCross Bikejöring",null,"CaniCross DogScooter",null,"Hindernis    Lauf",null,"Dreikampf",null,"Shorty",null,"Summe",null,"Gesamt",{"$nulls":14},"",{"$f":"IF(T72=\"Bormann, Aloys\",1,\"\")","v":""},{"$f":"IF(Y72=\"Bormann, Aloys\",1,\"\")","v":""},null,"","","",null,{"$f":"IF(O72=\"Geber, Harald\",1,\"\")","v":1},{"$f":"IF(T72=\"Geber, Harald\",1,\"\")","v":""},{"$f":"IF(Y72=\"Geber, Harald\",1,\"\")","v":""},null,{"$f":"IF(O72=\"Gensrich, Michael\",1,\"\")","v":""},{"$f":"IF(T72=\"Gensrich, Michael\",1,\"\")","v":""},{"$f":"IF(Y72=\"Gensrich, Michael\",1,\"\")","v":""},null,{"$f":"IF(O72=\"Grünig, Rainer\",1,\"\")","v":""},"",{"$f":"IF(Y72=\"Grünig, Rainer\",1,\"\")","v":""},null,{"$f":"IF(O72=\"Lausch, Christian\",1,\"\")","v":""},{"$f":"IF(T72=\"Lausch, Christian\",1,\"\")","v":""},{"$f":"IF(Y72=\"Lausch, Christian\",1,\"\")","v":""},null,{"$f":"IF(O72=\"Sprenger, Beate\",1,\"\")","v":""},{"$f":"IF(T72=\"Sprenger, Beate\",1,\"\")","v":""},{"$f":"IF(Y72=\"Sprenger, Beate\",1,\"\")","v":""},null,{"$f":"IF(O72=\"Volkmann, Claudia\",1,\"\")","v":""},{"$f":"IF(T72=\"Volkmann, Claudia\",1,\"\")","v":""},{"$f":"IF(Y72=\"Volkmann, Claudia\",1,\"\")","v":""}]
[{"$nulls":46},"","",""]
["Altersklasse","V","VK","CC",null,"männlich","weiblich","männlich","weiblich","männlich","weiblich","männlich","weiblich","männlich","weiblich","männlich","weiblich","männlich","weiblich","männlich","weiblich","männlich","weiblich","männlich","weiblich","männlich","weiblich",{"$nulls":19},"","",""]
["Jugendklasse\n( bis 18 J )",1,null,null,{"$f":"SUM(B76:D76)","v":1},null,1,2,null,null,null,3,2,{"$nulls":9},2,2,2,{"$f":"F76+H76+J76+L76+N76+P76+R76+T76+V76+X76","v":7},{"$f":"G76+I76+K76+M76+O76+Q76+S76+U76+W76+Y76","v":7},{"$f":"B76+C76+D76+F76+G76+H76+I76+J76+K76+L76+M76+N76+O76+P76+Q76+R76+S76+T76+U76+V76+W76+X76+Y76","v":15},{"$nulls":18},"","",""]
["Aktivenklasse\n( 19 - 49 J. )",4,null,2,{"$f":"SUM(B77:D77)","v":6},null,6,2,4,null,null,1,4,{"$nulls":8},1,3,2,9,{"$f":"F77+H77+J77+L77+N77+P77+R77+T77+V77+X77","v":6},{"$f":"G77+I77+K77+M77+O77+Q77+S77+U77+W77+Y77","v":26},{"$f":"B77+C77+D77+F77+G77+H77+I77+J77+K77+L77+M77+N77+O77+P77+Q77+R77+S77+T77+U77+V77+W77+X77+Y77","v":38},{"$nulls":18},"","",""]
["Seniorenklasse\n( ab 50 J. )",1,null,1,2,null,4,1,1,null,null,1,4,{"$nulls":9},2,null,1,2,12,16,{"$nulls":18},"","",""]
["PARA\nStarter",null,null,null,0,{"$nulls":20},0,0,0,{"$nulls":18},"","",""]
["Gesamt",{"$f":"SUM(B76:B79)","v":6},0,3,{"$f":"SUM(E76:E79)","v":9},0,11,5,5,0,0,5,10,0,0,0,0,0,0,0,0,1,7,4,12,15,45,69,{"$nulls":18},"","",""]
[{"$nulls":46},"","",""]
["Datum","2025-09-13",null,null,null,"Verein",null,"PHV Misburg",{"$nulls":5},"LR 1","Bormann, Aloys",null,null,null,"LR 2",{"$nulls":4},"LR 3",{"$nulls":7},{"$f":"O82","v":"Bormann, Aloys"},null,{"$f":"T82","v":0},null,{"$f":"Y82","v":0},{"$nulls":10},"","","",{"$nulls":26},"","","","","","","","","","","",1,"","",""]
[9,"Vorprüfung VP",null,null,"Summe","Vierkampf\n1 - 3",null,"Sprint   Vierkampf",null,"CSC",null,"CSC Mannschaft",null,"CaniCross Geländelauf",null,"CaniCross Bikejöring",null,"CaniCross DogScooter",null,"Hindernis    Lauf",null,"Dreikampf",null,"Shorty",null,"Summe",null,"Gesamt",{"$nulls":14},1,"","",null,"","","",null,"","","",null,"","","",null,"",{"$f":"IF(T82=\"Grünig, Rainer\",1,\"\")","v":""},"",null,"","","",null,"","","",null,"","",""]
[{"$nulls":46},"","",""]
["Altersklasse","V","VK","CC",null,"männlich","weiblich","männlich","weiblich","männlich","weiblich","männlich","weiblich","männlich","weiblich","männlich","weiblich","männlich","weiblich","männlich","weiblich","männlich","weiblich","männlich","weiblich","männlich","weiblich",{"$nulls":19},"","",""]
["Jugendklasse\n( bis 18 J )",null,null,null,{"$f":"SUM(B86:D86)","v":0},null,null,1,null,null,null,1,2,{"$nulls":9},2,null,null,{"$f":"F86+H86+J86+L86+N86+P86+R86+T86+V86+X86","v":2},{"$f":"G86+I86+K86+M86+O86+Q86+S86+U86+W86+Y86","v":4},{"$f":"B86+C86+D86+F86+G86+H86+I86+J86+K86+L86+M86+N86+O86+P86+Q86+R86+S86+T86+U86+V86+W86+X86+Y86","v":6},{"$nulls":18},"","",""]
["Aktivenklasse\n( 19 - 49 J. )",null,null,null,{"$f":"SUM(B87:D87)","v":0},4,12,1,4,null,null,3,7,null,1,{"$nulls":7},1,2,2,{"$f":"F87+H87+J87+L87+N87+P87+R87+T87+V87+X87","v":10},{"$f":"G87+I87+K87+M87+O87+Q87+S87+U87+W87+Y87","v":27},{"$f":"B87+C87+D87+F87+G87+H87+I87+J87+K87+L87+M87+N87+O87+P87+Q87+R87+S87+T87+U87+V87+W87+X87+Y87","v":37},{"$nulls":18},"","",""]
["Seniorenklasse\n( ab 50 J. )",null,null,null,0,1,3,1,null,null,null,1,4,null,1,{"$nulls":6},1,null,null,6,4,14,18,{"$nulls":18},"","",""]
["PARA\nStarter",null,null,null,0,{"$nulls":20},0,0,0,{"$nulls":18},"","",""]
["Gesamt",{"$f":"SUM(B86:B89)","v":0},0,0,{"$f":"SUM(E86:E89)","v":0},5,15,3,4,0,0,5,13,0,2,0,0,0,0,0,0,1,3,2,8,16,45,61,{"$nulls":18},"","",""]
[{"$nulls":46},"","",""]
["Datum","2025-09-28",null,null,null,"Verein",null,"HSV Osterode",{"$nulls":5},"LR 1","Bormann, Aloys",null,null,null,"LR 2",{"$nulls":4},"LR 3",{"$nulls":7},{"$f":"O92","v":"Bormann, Aloys"},null,{"$f":"T92","v":0},null,{"$f":"Y92","v":0},{"$nulls":10},"","","",{"$nulls":26},{"$f":"IF($H92=BX$1,1,\"\")","v":""},"","","","","","","","","","","",1,"",""]
[10,"Vorprüfung VP",null,null,"Summe","Vierkampf\n1 - 3",null,"Sprint   Vierkampf",null,"CSC",null,"CSC Mannschaft",null,"CaniCross Geländelauf",null,"CaniCross Bikejöring",null,"CaniCross DogScooter",null,"Hindernis    Lauf",null,"Dreikampf",null,"Shorty",null,"Summe",null,"Gesamt",{"$nulls":14},{"$f":"IF(O92=\"Bormann, Aloys\",1,\"\")","v":1},"","",null,"","","",null,"","","",null,"","","",null,"","","",null,"","","",null,"","","",null,"","",""]
[{"$nulls":46},"","",""]
["Altersklasse","V","VK","CC",null,"männlich","weiblich","männlich","weiblich","männlich","weiblich","männlich","weiblich","männlich","weiblich","männlich","weiblich","männlich","weiblich","männlich","weiblich","männlich","weiblich","männlich","weiblich","männlich","weiblich",{"$nulls":19},"","",""]
["Jugendklasse\n( bis 18 J )",null,null,null,{"$f":"SUM(B96:D96)","v":0},{"$nulls":8},2,{"$nulls":11},{"$f":"F96+H96+J96+L96+N96+P96+R96+T96+V96+X96","v":2},{"$f":"G96+I96+K96+M96+O96+Q96+S96+U96+W96+Y96","v":0},{"$f":"B96+C96+D96+F96+G96+H96+I96+J96+K96+L96+M96+N96+O96+P96+Q96+R96+S96+T96+U96+V96+W96+X96+Y96","v":2},{"$nulls":18},"","",""]
["Aktivenklasse\n( 19 - 49 J. )",2,null,2,{"$f":"SUM(B97:D97)","v":4},{"$nulls":8},7,11,null,1,null,3,{"$nulls":6},{"$f":"F97+H97+J97+L97+N97+P97+R97+T97+V97+X97","v":7},{"$f":"G97+I97+K97+M97+O97+Q97+S97+U97+W97+Y97","v":15},{"$f":"B97+C97+D97+F97+G97+H97+I97+J97+K97+L97+M97+N97+O97+P97+Q97+R97+S97+T97+U97+V97+W97+X97+Y97","v":26},{"$nulls":18},"","",""]
["Seniorenklasse\n( ab 50 J. )",1,null,1,2,{"$nulls":8},1,1,1,1,1,{"$nulls":7},3,2,7,{"$nulls":18},"","",""]
["PARA\nStarter",null,null,null,0,{"$nulls":20},0,0,0,{"$nulls":18},"","",""]
["Gesamt",{"$f":"SUM(B96:B99)","v":3},0,3,{"$f":"SUM(E96:E99)","v":6},0,0,0,0,0,0,0,0,10,12,1,2,1,3,0,0,0,0,0,0,12,17,35,{"$nulls":18},"","",""]
[{"$nulls":46},"","",""]
["Datum","2025-10-04",null,null,null,"Verein",null,"SGSV Langelsheim",{"$nulls":5},"LR 1","Grünig, Rainer",null,null,null,"LR 2",{"$nulls":4},"LR 3",{"$nulls":7},{"$f":"O102","v":"Grünig, Rainer"},null,{"$f":"T102","v":0},null,{"$f":"Y102","v":0},{"$nulls":10},"","","",{"$nulls":26},{"$f":"IF($H102=BX$1,1,\"\")","v":""},"","","","","","","","",1,"","","","",""]
[11,"Vorprüfung VP",null,null,"Summe","Vierkampf\n1 - 3",null,"Sprint   Vierkampf",null,"CSC",null,"CSC Mannschaft",null,"CaniCross Geländelauf",null,"CaniCross Bikejöring",null,"CaniCross DogScooter",null,"Hindernis    Lauf",null,"Dreikampf",null,"Shorty",null,"Summe",null,"Gesamt",{"$nulls":14},"","","",null,"","","",null,"","","",null,"","","",null,1,"","",null,"","","",null,"","","",null,"","",""]
[{"$nulls":46},"","",""]
["Altersklasse","V","VK","CC",null,"männlich","weiblich","männlich","weiblich","männlich","weiblich","männlich","weiblich","männlich","weiblich","männlich","weiblich","männlich","weiblich","männlich","weiblich","männlich","weiblich","männlich","weiblich","männlich","weiblich",{"$nulls":19},"","",""]
["Jugendklasse\n( bis 18 J )",null,null,1,{"$f":"SUM(B106:D106)","v":1},{"$nulls":14},1,1,null,null,1,null,{"$f":"F106+H106+J106+L106+N106+P106+R106+T106+V106+X106","v":2},{"$f":"G106+I106+K106+M106+O106+Q106+S106+U106+W106+Y106","v":1},{"$f":"B106+C106+D106+F106+G106+H106+I106+J106+K106+L106+M106+N106+O106+P106+Q106+R106+S106+T106+U106+V106+W106+X106+Y106","v":4},{"$nulls":18},"","",""]
["Aktivenklasse\n( 19 - 49 J. )",1,null,1,{"$f":"SUM(B107:D107)","v":2},null,11,2,1,{"$nulls":4},2,{"$nulls":5},1,2,1,3,1,4,{"$f":"F107+H107+J107+L107+N107+P107+R107+T107+V107+X107","v":7},{"$f":"G107+I107+K107+M107+O107+Q107+S107+U107+W107+Y107","v":21},{"$f":"B107+C107+D107+F107+G107+H107+I107+J107+K107+L107+M107+N107+O107+P107+Q107+R107+S107+T107+U107+V107+W107+X107+Y107","v":30},{"$nulls":18},"","",""]
["Seniorenklasse\n( ab 50 J. )",null,null,null,0,1,3,1,{"$nulls":5},1,{"$nulls":8},3,1,1,4,7,11,{"$nulls":18},"","",""]
["PARA\nStarter",null,null,null,0,{"$nulls":20},0,0,0,{"$nulls":18},"","",""]
["Gesamt",{"$f":"SUM(B106:B109)","v":1},0,2,{"$f":"SUM(E106:E109)","v":3},1,14,3,1,0,0,0,0,3,0,0,0,0,0,2,3,1,6,3,5,13,29,45,{"$nulls":18},"","",""]
[{"$nulls":46},"","",""]
["Datum","2025-10-12",null,null,null,"Verein",null,"GHS Wolfsburg",{"$nulls":5},"LR 1","Gensrich, Michael",null,null,null,"LR 2",{"$nulls":4},"LR 3",{"$nulls":7},{"$f":"O112","v":"Gensrich, Michael"},null,{"$f":"T112","v":0},null,{"$f":"Y112","v":0},{"$nulls":10},"","","",{"$nulls":26},"","","","","","","","","","","","","","",""]
[12,"Vorprüfung VP",null,null,"Summe","Vierkampf\n1 - 3",null,"Sprint   Vierkampf",null,"CSC",null,"CSC Mannschaft",null,"CaniCross Geländelauf",null,"CaniCross Bikejöring",null,"CaniCross DogScooter",null,"Hindernis    Lauf",null,"Dreikampf",null,"Shorty",null,"Summe",null,"Gesamt",{"$nulls":14},"","","",null,"","","",null,"","","",null,1,"","",null,"","","",null,"","","",null,"","","",null,"","",""]
[{"$nulls":46},"","",""]
["Altersklasse","V","VK","CC",null,"männlich","weiblich","männlich","weiblich","männlich","weiblich","männlich","weiblich","männlich","weiblich","männlich","weiblich","männlich","weiblich","männlich","weiblich","männlich","weiblich","männlich","weiblich","männlich","weiblich",{"$nulls":19},"","",""]
["Jugendklasse\n( bis 18 J )",null,null,null,{"$f":"SUM(B116:D116)","v":0},{"$nulls":20},{"$f":"F116+H116+J116+L116+N116+P116+R116+T116+V116+X116","v":0},{"$f":"G116+I116+K116+M116+O116+Q116+S116+U116+W116+Y116","v":0},{"$f":"B116+C116+D116+F116+G116+H116+I116+J116+K116+L116+M116+N116+O116+P116+Q116+R116+S116+T116+U116+V116+W116+X116+Y116","v":0},{"$nulls":18},"","",""]
["Aktivenklasse\n( 19 - 49 J. )",null,null,7,{"$f":"SUM(B117:D117)","v":7},{"$nulls":8},3,13,2,8,null,5,{"$nulls":6},{"$f":"F117+H117+J117+L117+N117+P117+R117+T117+V117+X117","v":5},{"$f":"G117+I117+K117+M117+O117+Q117+S117+U117+W117+Y117","v":26},{"$f":"B117+C117+D117+F117+G117+H117+I117+J117+K117+L117+M117+N117+O117+P117+Q117+R117+S117+T117+U117+V117+W117+X117+Y117","v":38},{"$nulls":18},"","",""]
["Seniorenklasse\n( ab 50 J. )",null,null,null,0,{"$nulls":9},4,5,1,2,{"$nulls":7},7,5,12,{"$nulls":18},"","",""]
["PARA\nStarter",null,null,null,0,{"$nulls":20},0,0,0,{"$nulls":18},"","",""]
["Gesamt",{"$f":"SUM(B116:B119)","v":0},0,7,{"$f":"SUM(E116:E119)","v":7},0,0,0,0,0,0,0,0,3,17,7,9,2,5,0,0,0,0,0,0,12,31,50,{"$nulls":18},"","",""]
[{"$nulls":46},"","",""]
["Datum","2025-11-09",null,null,null,"Verein",null,"HSV Bockenem",{"$nulls":5},"LR 1","Sprenger, Beate",null,null,null,"LR 2",{"$nulls":4},"LR 3",{"$nulls":7},{"$f":"O122","v":"Sprenger, Beate"},null,{"$f":"T122","v":0},null,{"$f":"Y122","v":0},{"$nulls":10},"","","",{"$nulls":26},{"$f":"IF($H122=BX$1,1,\"\")","v":1},"","","","","","","","","","","","","",""]
[13,"Vorprüfung VP",null,null,"Summe","Vierkampf\n1 - 3",null,"Sprint   Vierkampf",null,"CSC",null,"CSC Mannschaft",null,"CaniCross Geländelauf",null,"CaniCross Bikejöring",null,"CaniCross DogScooter",null,"Hindernis    Lauf",null,"Dreikampf",null,"Shorty",null,"Summe",null,"Gesamt",{"$nulls":14},"","","",null,"","","",null,"","","",null,"","","",null,"","","",null,"","","",null,1,"","",null,"","",""]
[{"$nulls":46},"","",""]
["Altersklasse","V","VK","CC",null,"männlich","weiblich","männlich","weiblich","männlich","weiblich","männlich","weiblich","männlich","weiblich","männlich","weiblich","männlich","weiblich","männlich","weiblich","männlich","weiblich","männlich","weiblich","männlich","weiblich",{"$nulls":19},"","",""]
["Jugendklasse\n( bis 18 J )",null,null,null,{"$f":"SUM(B126:D126)","v":0},{"$nulls":8},2,1,{"$nulls":10},{"$f":"F126+H126+J126+L126+N126+P126+R126+T126+V126+X126","v":2},{"$f":"G126+I126+K126+M126+O126+Q126+S126+U126+W126+Y126","v":1},{"$f":"B126+C126+D126+F126+G126+H126+I126+J126+K126+L126+M126+N126+O126+P126+Q126+R126+S126+T126+U126+V126+W126+X126+Y126","v":3},{"$nulls":18},"","",""]
["Aktivenklasse\n( 19 - 49 J. )",null,null,null,{"$f":"SUM(B127:D127)","v":0},{"$nulls":8},5,13,1,3,null,4,{"$nulls":6},{"$f":"F127+H127+J127+L127+N127+P127+R127+T127+V127+X127","v":6},{"$f":"G127+I127+K127+M127+O127+Q127+S127+U127+W127+Y127","v":20},{"$f":"B127+C127+D127+F127+G127+H127+I127+J127+K127+L127+M127+N127+O127+P127+Q127+R127+S127+T127+U127+V127+W127+X127+Y127","v":26},{"$nulls":18},"","",""]
["Seniorenklasse\n( ab 50 J. )",null,null,null,0,{"$nulls":8},1,2,2,1,1,{"$nulls":7},4,3,7,{"$nulls":18},"","",""]
["PARA\nStarter",null,null,null,0,{"$nulls":20},0,0,0,{"$nulls":18},"","",""]
["Gesamt",{"$f":"SUM(B126:B129)","v":0},0,0,{"$f":"SUM(E126:E129)","v":0},0,0,0,0,0,0,0,0,8,16,3,4,1,4,0,0,0,0,0,0,12,24,36,{"$nulls":18},"","",""]
[{"$nulls":46},"","",""]
["Datum",{"$nulls":4},"Verein",{"$nulls":7},"LR 1",{"$nulls":4},"LR 2",{"$nulls":4},"LR 3",{"$nulls":7},{"$f":"O132","v":0},null,{"$f":"T132","v":0},null,{"$f":"Y132","v":0},{"$nulls":10},{"$f":"IF(O131=\"Fiedler\",1,\"\")","v":""},{"$f":"IF(T131=\"Fiedler\",1,\"\")","v":""},{"$f":"IF(Y131=\"Fiedler\",1,\"\")","v":""},{"$nulls":26},"","","","","","","","","","","","","","",""]
[14,"Vorprüfung VP",null,null,"Summe","Vierkampf\n1 - 3",null,"Sprint   Vierkampf",null,"CSC",null,"CSC Mannschaft",null,"CaniCross Geländelauf",null,"CaniCross Bikejöring",null,"CaniCross DogScooter",null,"Hindernis    Lauf",null,"Dreikampf",null,"Shorty",null,"Summe",null,"Gesamt",{"$nulls":14},"",{"$f":"IF(T132=\"Bormann, Aloys\",1,\"\")","v":""},{"$f":"IF(Y132=\"Bormann, Aloys\",1,\"\")","v":""},null,"","","",null,{"$f":"IF(O132=\"Geber, Harald\",1,\"\")","v":""},{"$f":"IF(T132=\"Geber, Harald\",1,\"\")","v":""},{"$f":"IF(Y132=\"Geber, Harald\",1,\"\")","v":""},null,{"$f":"IF(O132=\"Gensrich, Michael\",1,\"\")","v":""},{"$f":"IF(T132=\"Gensrich, Michael\",1,\"\")","v":""},{"$f":"IF(Y132=\"Gensrich, Michael\",1,\"\")","v":""},null,"","","",null,{"$f":"IF(O132=\"Lausch, Christian\",1,\"\")","v":""},{"$f":"IF(T132=\"Lausch, Christian\",1,\"\")","v":""},{"$f":"IF(Y132=\"Lausch, Christian\",1,\"\")","v":""},null,{"$f":"IF(O132=\"Sprenger, Beate\",1,\"\")","v":""},{"$f":"IF(T132=\"Sprenger, Beate\",1,\"\")","v":""},{"$f":"IF(Y132=\"Sprenger, Beate\",1,\"\")","v":""},null,{"$f":"IF(O132=\"Volkmann, Claudia\",1,\"\")","v":""},{"$f":"IF(T132=\"Volkmann, Claudia\",1,\"\")","v":""},{"$f":"IF(Y132=\"Volkmann, Claudia\",1,\"\")","v":""}]
[{"$nulls":46},"","",""]
["Altersklasse","V","VK","CC",null,"männlich","weiblich","männlich","weiblich","männlich","weiblich","männlich","weiblich","männlich","weiblich","männlich","weiblich","männlich","weiblich","männlich","weiblich","männlich","weiblich","männlich","weiblich","männlich","weiblich",{"$nulls":19},"","",""]
["Jugendklasse\n( bis 18 J )",null,null,null,{"$f":"SUM(B136:D136)","v":0},{"$nulls":20},{"$f":"F136+H136+J136+L136+N136+P136+R136+T136+V136+X136","v":0},{"$f":"G136+I136+K136+M136+O136+Q136+S136+U136+W136+Y136","v":0},{"$f":"B136+C136+D136+F136+G136+H136+I136+J136+K136+L136+M136+N136+O136+P136+Q136+R136+S136+T136+U136+V136+W136+X136+Y136","v":0},{"$nulls":18},"","",""]
["Aktivenklasse\n( 19 - 49 J. )",null,null,null,{"$f":"SUM(B137:D137)","v":0},{"$nulls":20},{"$f":"F137+H137+J137+L137+N137+P137+R137+T137+V137+X137","v":0},{"$f":"G137+I137+K137+M137+O137+Q137+S137+U137+W137+Y137","v":0},{"$f":"B137+C137+D137+F137+G137+H137+I137+J137+K137+L137+M137+N137+O137+P137+Q137+R137+S137+T137+U137+V137+W137+X137+Y137","v":0},{"$nulls":18},"","",""]
["Seniorenklasse\n( ab 50 J. )",null,null,null,0,{"$nulls":20},0,0,0,{"$nulls":18},"","",""]
["PARA\nStarter",null,null,null,0,{"$nulls":20},0,0,0,{"$nulls":18},"","",""]
["Gesamt",{"$f":"SUM(B136:B139)","v":0},0,0,{"$f":"SUM(E136:E139)","v":0},0,0,0,0,0,0,0,0,0,0,0,0,0,0,0,0,0,0,0,0,0,0,0,{"$nulls":18},"","",""]
[{"$nulls":46},"","",""]
["Datum",{"$nulls":4},"Verein",{"$nulls":7},"LR 1",{"$nulls":4},"LR 2",{"$nulls":4},"LR 3",{"$nulls":7},{"$f":"O142","v":0},null,{"$f":"T142","v":0},null,{"$f":"Y142","v":0},{"$nulls":10},"","","",{"$nulls":26},{"$f":"IF($H142=BX$1,1,\"\")","v":""},"","","","","","","","","","","","","",""]
[15,"Vorprüfung VP",null,null,"Summe","Vierkampf\n1 - 3",null,"Sprint   Vierkampf",null,"CSC",null,"CSC Mannschaft",null,"CaniCross Geländelauf",null,"CaniCross Bikejöring",null,"CaniCross DogScooter",null,"Hindernis    Lauf",null,"Dreikampf",null,"Shorty",null,"Summe",null,"Gesamt",{"$nulls":14},"","","",null,"","","",null,"","","",null,"","","",null,{"$f":"IF(O142=\"Grünig, Rainer\",1,\"\")","v":""},{"$f":"IF(T142=\"Grünig, Rainer\",1,\"\")","v":""},{"$f":"IF(Y142=\"Grünig, Rainer\",1,\"\")","v":""},null,"","","",null,"","","",null,"","",""]
[{"$nulls":46},"","",""]
["Altersklasse","V","VK","CC",null,"männlich","weiblich","männlich","weiblich","männlich","weiblich","männlich","weiblich","männlich","weiblich","männlich","weiblich","männlich","weiblich","männlich","weiblich","männlich","weiblich","männlich","weiblich","männlich","weiblich",{"$nulls":19},"","",""]
["Jugendklasse\n( bis 18 J )",null,null,null,{"$f":"SUM(B146:D146)","v":0},{"$nulls":20},{"$f":"F146+H146+J146+L146+N146+P146+R146+T146+V146+X146","v":0},{"$f":"G146+I146+K146+M146+O146+Q146+S146+U146+W146+Y146","v":0},{"$f":"B146+C146+D146+F146+G146+H146+I146+J146+K146+L146+M146+N146+O146+P146+Q146+R146+S146+T146+U146+V146+W146+X146+Y146","v":0},{"$nulls":18},"","",""]
["Aktivenklasse\n( 19 - 49 J. )",null,null,null,{"$f":"SUM(B147:D147)","v":0},{"$nulls":20},{"$f":"F147+H147+J147+L147+N147+P147+R147+T147+V147+X147","v":0},{"$f":"G147+I147+K147+M147+O147+Q147+S147+U147+W147+Y147","v":0},{"$f":"B147+C147+D147+F147+G147+H147+I147+J147+K147+L147+M147+N147+O147+P147+Q147+R147+S147+T147+U147+V147+W147+X147+Y147","v":0},{"$nulls":18},"","",""]
["Seniorenklasse\n( ab 50 J. )",null,null,null,0,{"$nulls":20},0,0,0,{"$nulls":18},"","",""]
["PARA\nStarter",null,null,null,0,{"$nulls":20},0,0,0,{"$nulls":18},"","",""]
["Gesamt",{"$f":"SUM(B146:B149)","v":0},0,0,{"$f":"SUM(E146:E149)","v":0},0,0,0,0,0,0,0,0,0,0,0,0,0,0,0,0,0,0,0,0,0,0,0,{"$nulls":18},"","",""]
[{"$nulls":46},"","",""]
["Datum",{"$nulls":4},"Verein",{"$nulls":7},"LR 1",{"$nulls":4},"LR 2",{"$nulls":4},"LR 3",{"$nulls":7},{"$f":"O152","v":0},null,{"$f":"T152","v":0},null,{"$f":"Y152","v":0},{"$nulls":10},"","","",{"$nulls":26},"","","","","","","","","","","","","","",""]
[16,"Vorprüfung VP",null,null,"Summe","Vierkampf\n1 - 3",null,"Sprint   Vierkampf",null,"CSC",null,"CSC Mannschaft",null,"CaniCross Geländelauf",null,"CaniCross Bikejöring",null,"CaniCross DogScooter",null,"Hindernis    Lauf",null,"Dreikampf",null,"Shorty",null,"Summe",null,"Gesamt",{"$nulls":14},{"$f":"IF(O152=\"Bormann, Aloys\",1,\"\")","v":""},"","",null,"","","",null,"","","",null,"","","",null,"","","",null,"","","",null,"","","",null,"","",""]
[{"$nulls":46},"","",""]
["Altersklasse","V","VK","CC",null,"männlich","weiblich","männlich","weiblich","männlich","weiblich","männlich","weiblich","männlich","weiblich","männlich","weiblich","männlich","weiblich","männlich","weiblich","männlich","weiblich","männlich","weiblich","männlich","weiblich",{"$nulls":19},"","",""]
["Jugendklasse\n( bis 18 J )",null,null,null,{"$f":"SUM(B156:D156)","v":0},{"$nulls":20},{"$f":"F156+H156+J156+L156+N156+P156+R156+T156+V156+X156","v":0},{"$f":"G156+I156+K156+M156+O156+Q156+S156+U156+W156+Y156","v":0},{"$f":"B156+C156+D156+F156+G156+H156+I156+J156+K156+L156+M156+N156+O156+P156+Q156+R156+S156+T156+U156+V156+W156+X156+Y156","v":0},{"$nulls":18},"","",""]
["Aktivenklasse\n( 19 - 49 J. )",null,null,null,{"$f":"SUM(B157:D157)","v":0},{"$nulls":20},{"$f":"F157+H157+J157+L157+N157+P157+R157+T157+V157+X157","v":0},{"$f":"G157+I157+K157+M157+O157+Q157+S157+U157+W157+Y157","v":0},{"$f":"B157+C157+D157+F157+G157+H157+I157+J157+K157+L157+M157+N157+O157+P157+Q157+R157+S157+T157+U157+V157+W157+X157+Y157","v":0},{"$nulls":18},"","",""]
["Seniorenklasse\n( ab 50 J. )",null,null,null,0,{"$nulls":20},0,0,0,{"$nulls":18},"","",""]
["PARA\nStarter",null,null,null,0,{"$nulls":20},0,0,0,{"$nulls":18},"","",""]
["Gesamt",{"$f":"SUM(B156:B159)","v":0},0,0,{"$f":"SUM(E156:E159)","v":0},0,0,0,0,0,0,0,0,0,0,0,0,0,0,0,0,0,0,0,0,0,0,0,{"$nulls":18},"","",""]
[{"$nulls":46},"","",""]
["Datum",{"$nulls":4},"Verein",{"$nulls":7},"LR 1",{"$nulls":4},"LR 2",{"$nulls":4},"LR 3",{"$nulls":7},{"$f":"O162","v":0},null,{"$f":"T162","v":0},null,{"$f":"Y162","v":0},{"$nulls":10},"","","",{"$nulls":26},{"$f":"IF($H162=BX$1,1,\"\")","v":""},"","","","","","","","","","","","","",""]
[17,"Vorprüfung VP",null,null,"Summe","Vierkampf\n1 - 3",null,"Sprint   Vierkampf",null,"CSC",null,"CSC Mannschaft",null,"CaniCross Geländelauf",null,"CaniCross Bikejöring",null,"CaniCross DogScooter",null,"Hindernis    Lauf",null,"Dreikampf",null,"Shorty",null,"Summe",null,"Gesamt",{"$nulls":14},"","","",null,"","","",null,"","","",null,"","","",null,"","","",null,"","","",null,"","","",null,"","",""]
[{"$nulls":46},"","",""]
["Altersklasse","V","VK","CC",null,"männlich","weiblich","männlich","weiblich","männlich","weiblich","männlich","weiblich","männlich","weiblich","männlich","weiblich","männlich","weiblich","männlich","weiblich","männlich","weiblich","männlich","weiblich","männlich","weiblich",{"$nulls":19},"","",""]
["Jugendklasse\n( bis 18 J )",null,null,null,{"$f":"SUM(B166:D166)","v":0},{"$nulls":20},{"$f":"F166+H166+J166+L166+N166+P166+R166+T166+V166+X166","v":0},{"$f":"G166+I166+K166+M166+O166+Q166+S166+U166+W166+Y166","v":0},{"$f":"B166+C166+D166+F166+G166+H166+I166+J166+K166+L166+M166+N166+O166+P166+Q166+R166+S166+T166+U166+V166+W166+X166+Y166","v":0},{"$nulls":18},"","",""]
["Aktivenklasse\n( 19 - 49 J. )",null,null,null,{"$f":"SUM(B167:D167)","v":0},{"$nulls":20},{"$f":"F167+H167+J167+L167+N167+P167+R167+T167+V167+X167","v":0},{"$f":"G167+I167+K167+M167+O167+Q167+S167+U167+W167+Y167","v":0},{"$f":"B167+C167+D167+F167+G167+H167+I167+J167+K167+L167+M167+N167+O167+P167+Q167+R167+S167+T167+U167+V167+W167+X167+Y167","v":0},{"$nulls":18},"","",""]
["Seniorenklasse\n( ab 50 J. )",null,null,null,0,{"$nulls":20},0,0,0,{"$nulls":18},"","",""]
["PARA\nStarter",null,null,null,0,{"$nulls":20},0,0,0,{"$nulls":18},"","",""]
["Gesamt",{"$f":"SUM(B166:B169)","v":0},0,0,{"$f":"SUM(E166:E169)","v":0},0,0,0,0,0,0,0,0,0,0,0,0,0,0,0,0,0,0,0,0,0,0,0,{"$nulls":18},"","",""]
[{"$nulls":46},"","",""]
["Datum",{"$nulls":4},"Verein",{"$nulls":7},"LR 1",{"$nulls":4},"LR 2",{"$nulls":4},"LR 3",{"$nulls":7},{"$f":"O172","v":0},null,{"$f":"T172","v":0},null,{"$f":"Y172","v":0},{"$nulls":10},"","","",{"$nulls":26},{"$f":"IF($H172=BX$1,1,\"\")","v":""},"","","","","","","","","","","","","",""]
[18,"Vorprüfung VP",null,null,"Summe","Vierkampf\n1 - 3",null,"Sprint   Vierkampf",null,"CSC",null,"CSC Mannschaft",null,"CaniCross Geländelauf",null,"CaniCross Bikejöring",null,"CaniCross DogScooter",null,"Hindernis    Lauf",null,"Dreikampf",null,"Shorty",null,"Summe",null,"Gesamt",{"$nulls":14},"","","",null,"","","",null,"","","",null,"","","",null,"","","",null,"","","",null,"","","",null,"","",""]
[{"$nulls":46},"","",""]
["Altersklasse","V","VK","CC",null,"männlich","weiblich","männlich","weiblich","männlich","weiblich","männlich","weiblich","männlich","weiblich","männlich","weiblich","männlich","weiblich","männlich","weiblich","männlich","weiblich","männlich","weiblich","männlich","weiblich",{"$nulls":19},"","",""]
["Jugendklasse\n( bis 18 J )",null,null,null,{"$f":"SUM(B176:D176)","v":0},{"$nulls":20},{"$f":"F176+H176+J176+L176+N176+P176+R176+T176+V176+X176","v":0},{"$f":"G176+I176+K176+M176+O176+Q176+S176+U176+W176+Y176","v":0},{"$f":"B176+C176+D176+F176+G176+H176+I176+J176+K176+L176+M176+N176+O176+P176+Q176+R176+S176+T176+U176+V176+W176+X176+Y176","v":0},{"$nulls":18},"","",""]
["Aktivenklasse\n( 19 - 49 J. )",null,null,null,{"$f":"SUM(B177:D177)","v":0},{"$nulls":20},{"$f":"F177+H177+J177+L177+N177+P177+R177+T177+V177+X177","v":0},{"$f":"G177+I177+K177+M177+O177+Q177+S177+U177+W177+Y177","v":0},{"$f":"B177+C177+D177+F177+G177+H177+I177+J177+K177+L177+M177+N177+O177+P177+Q177+R177+S177+T177+U177+V177+W177+X177+Y177","v":0},{"$nulls":18},"","",""]
["Seniorenklasse\n( ab 50 J. )",null,null,null,0,{"$nulls":20},0,0,0,{"$nulls":18},"","",""]
["PARA\nStarter",null,null,null,0,{"$nulls":20},0,0,0,{"$nulls":18},"","",""]
["Gesamt",{"$f":"SUM(B176:B179)","v":0},0,0,{"$f":"SUM(E176:E179)","v":0},0,0,0,0,0,0,0,0,0,0,0,0,0,0,0,0,0,0,0,0,0,0,0,{"$nulls":18},"","",""]
[{"$nulls":46},"","",""]
["Datum",{"$nulls":4},"Verein",{"$nulls":7},"LR 1",{"$nulls":4},"LR 2",{"$nulls":4},"LR 3",{"$nulls":7},{"$f":"O182","v":0},null,{"$f":"T182","v":0},null,{"$f":"Y182","v":0},{"$nulls":10},"","","",{"$nulls":26},"","","","","","","","","","","","","","",""]
[19,"Vorprüfung VP",null,null,"Summe","Vierkampf\n1 - 3",null,"Sprint   Vierkampf",null,"CSC",null,"CSC Mannschaft",null,"CaniCross Geländelauf",null,"CaniCross Bikejöring",null,"CaniCross DogScooter",null,"Hindernis    Lauf",null,"Dreikampf",null,"Shorty",null,"Summe",null,"Gesamt",{"$nulls":14},"","","",null,"","","",null,"","","",null,"","","",null,"","","",null,"","","",null,"","","",null,"","",""]
[{"$nulls":46},"","",""]
["Altersklasse","V","VK","CC",null,"männlich","weiblich","männlich","weiblich","männlich","weiblich","männlich","weiblich","männlich","weiblich","männlich","weiblich","männlich","weiblich","männlich","weiblich","männlich","weiblich","männlich","weiblich","männlich","weiblich",{"$nulls":19},"","",""]
["Jugendklasse\n( bis 18 J )",null,null,null,{"$f":"SUM(B186:D186)","v":0},{"$nulls":20},{"$f":"F186+H186+J186+L186+N186+P186+R186+T186+V186+X186","v":0},{"$f":"G186+I186+K186+M186+O186+Q186+S186+U186+W186+Y186","v":0},{"$f":"B186+C186+D186+F186+G186+H186+I186+J186+K186+L186+M186+N186+O186+P186+Q186+R186+S186+T186+U186+V186+W186+X186+Y186","v":0},{"$nulls":18},"","",""]
["Aktivenklasse\n( 19 - 49 J. )",null,null,null,{"$f":"SUM(B187:D187)","v":0},{"$nulls":20},{"$f":"F187+H187+J187+L187+N187+P187+R187+T187+V187+X187","v":0},{"$f":"G187+I187+K187+M187+O187+Q187+S187+U187+W187+Y187","v":0},{"$f":"B187+C187+D187+F187+G187+H187+I187+J187+K187+L187+M187+N187+O187+P187+Q187+R187+S187+T187+U187+V187+W187+X187+Y187","v":0},{"$nulls":18},"","",""]
["Seniorenklasse\n( ab 50 J. )",null,null,null,0,{"$nulls":20},0,0,0,{"$nulls":18},"","",""]
["PARA\nStarter",null,null,null,0,{"$nulls":20},0,0,0,{"$nulls":18},"","",""]
["Gesamt",{"$f":"SUM(B186:B189)","v":0},0,0,{"$f":"SUM(E186:E189)","v":0},0,0,0,0,0,0,0,0,0,0,0,0,0,0,0,0,0,0,0,0,0,0,0,{"$nulls":18},"","",""]
[{"$nulls":46},"","",""]
["Datum",{"$nulls":4},"Verein",{"$nulls":7},"LR 1",{"$nulls":4},"LR 2",{"$nulls":4},"LR 3",{"$nulls":7},{"$f":"O192","v":0},null,{"$f":"T192","v":0},null,{"$f":"Y192","v":0},{"$nulls":10},"","","",{"$nulls":26},{"$f":"IF($H192=BX$1,1,\"\")","v":""},"","","","","","","","","","","","","",""]
[20,"Vorprüfung VP",null,null,"Summe","Vierkampf\n1 - 3",null,"Sprint   Vierkampf",null,"CSC",null,"CSC Mannschaft",null,"CaniCross Geländelauf",null,"CaniCross Bikejöring",null,"CaniCross DogScooter",null,"Hindernis    Lauf",null,"Dreikampf",null,"Shorty",null,"Summe",null,"Gesamt",{"$nulls":14},"","","",null,"","","",null,"","","",null,"","","",null,"","","",null,"","","",null,"","","",null,"","",""]
[{"$nulls":46},"","",""]
["Altersklasse","V","VK","CC",null,"männlich","weiblich","männlich","weiblich","männlich","weiblich","männlich","weiblich","männlich","weiblich","männlich","weiblich","männlich","weiblich","männlich","weiblich","männlich","weiblich","männlich","weiblich","männlich","weiblich",{"$nulls":19},"","",""]
["Jugendklasse\n( bis 18 J )",null,null,null,{"$f":"SUM(B196:D196)","v":0},{"$nulls":20},{"$f":"F196+H196+J196+L196+N196+P196+R196+T196+V196+X196","v":0},{"$f":"G196+I196+K196+M196+O196+Q196+S196+U196+W196+Y196","v":0},{"$f":"B196+C196+D196+F196+G196+H196+I196+J196+K196+L196+M196+N196+O196+P196+Q196+R196+S196+T196+U196+V196+W196+X196+Y196","v":0},{"$nulls":18},{"$f":"IF(O195=\"Fiedler\",1,\"\")","v":""},{"$f":"IF(T195=\"Fiedler\",1,\"\")","v":""},{"$f":"IF(Y195=\"Fiedler\",1,\"\")","v":""}]
["Aktivenklasse\n( 19 - 49 J. )",null,null,null,{"$f":"SUM(B197:D197)","v":0},{"$nulls":20},{"$f":"F197+H197+J197+L197+N197+P197+R197+T197+V197+X197","v":0},{"$f":"G197+I197+K197+M197+O197+Q197+S197+U197+W197+Y197","v":0},{"$f":"B197+C197+D197+F197+G197+H197+I197+J197+K197+L197+M197+N197+O197+P197+Q197+R197+S197+T197+U197+V197+W197+X197+Y197","v":0},{"$nulls":18},"","",""]
["Seniorenklasse\n( ab 50 J. )",null,null,null,0,{"$nulls":20},0,0,0,{"$nulls":18},"","",""]
["PARA\nStarter",null,null,null,0,{"$nulls":20},0,0,0,{"$nulls":18},"","",""]
["Gesamt",{"$f":"SUM(B196:B199)","v":0},0,0,{"$f":"SUM(E196:E199)","v":0},0,0,0,0,0,0,0,0,0,0,0,0,0,0,0,0,0,0,0,0,0,0,0,{"$nulls":18},"","",""]
[{"$nulls":46},"","",""]
["Datum",{"$nulls":4},"Verein",{"$nulls":7},"LR 1",{"$nulls":4},"LR 2",{"$nulls":4},"LR 3",{"$nulls":7},{"$f":"O202","v":0},null,{"$f":"T202","v":0},null,{"$f":"Y202","v":0},{"$nulls":10},"","","",{"$nulls":26},"","","","","","","","","","","","","","",""]
[21,"Vorprüfung VP",null,null,"Summe","Vierkampf\n1 - 3",null,"Sprint   Vierkampf",null,"CSC",null,"CSC Mannschaft",null,"CaniCross Geländelauf",null,"CaniCross Bikejöring",null,"CaniCross DogScooter",null,"Hindernis    Lauf",null,"Dreikampf",null,"Shorty",null,"Summe",null,"Gesamt",{"$nulls":14},"",{"$f":"IF(T202=\"Bormann, Aloys\",1,\"\")","v":""},{"$f":"IF(Y202=\"Bormann, Aloys\",1,\"\")","v":""},null,"","","",null,{"$f":"IF(O202=\"Geber, Harald\",1,\"\")","v":""},{"$f":"IF(T202=\"Geber, Harald\",1,\"\")","v":""},{"$f":"IF(Y202=\"Geber, Harald\",1,\"\")","v":""},null,{"$f":"IF(O202=\"Gensrich, Michael\",1,\"\")","v":""},{"$f":"IF(T202=\"Gensrich, Michael\",1,\"\")","v":""},{"$f":"IF(Y202=\"Gensrich, Michael\",1,\"\")","v":""},null,{"$f":"IF(O202=\"Grünig, Rainer\",1,\"\")","v":""},"",{"$f":"IF(Y202=\"Grünig, Rainer\",1,\"\")","v":""},null,{"$f":"IF(O202=\"Lausch, Christian\",1,\"\")","v":""},{"$f":"IF(T202=\"Lausch, Christian\",1,\"\")","v":""},{"$f":"IF(Y202=\"Lausch, Christian\",1,\"\")","v":""},null,{"$f":"IF(O202=\"Sprenger, Beate\",1,\"\")","v":""},{"$f":"IF(T202=\"Sprenger, Beate\",1,\"\")","v":""},{"$f":"IF(Y202=\"Sprenger, Beate\",1,\"\")","v":""},null,{"$f":"IF(O202=\"Volkmann, Claudia\",1,\"\")","v":""},{"$f":"IF(T202=\"Volkmann, Claudia\",1,\"\")","v":""},{"$f":"IF(Y202=\"Volkmann, Claudia\",1,\"\")","v":""}]
[{"$nulls":46},"","",""]
["Altersklasse","V","VK","CC",null,"männlich","weiblich","männlich","weiblich","männlich","weiblich","männlich","weiblich","männlich","weiblich","männlich","weiblich","männlich","weiblich","männlich","weiblich","männlich","weiblich","männlich","weiblich","männlich","weiblich",{"$nulls":19},"","",""]
["Jugendklasse\n( bis 18 J )",null,null,null,{"$f":"SUM(B206:D206)","v":0},{"$nulls":20},{"$f":"F206+H206+J206+L206+N206+P206+R206+T206+V206+X206","v":0},{"$f":"G206+I206+K206+M206+O206+Q206+S206+U206+W206+Y206","v":0},{"$f":"B206+C206+D206+F206+G206+H206+I206+J206+K206+L206+M206+N206+O206+P206+Q206+R206+S206+T206+U206+V206+W206+X206+Y206","v":0},{"$nulls":18},"","",""]
["Aktivenklasse\n( 19 - 49 J. )",null,null,null,{"$f":"SUM(B207:D207)","v":0},{"$nulls":20},{"$f":"F207+H207+J207+L207+N207+P207+R207+T207+V207+X207","v":0},{"$f":"G207+I207+K207+M207+O207+Q207+S207+U207+W207+Y207","v":0},{"$f":"B207+C207+D207+F207+G207+H207+I207+J207+K207+L207+M207+N207+O207+P207+Q207+R207+S207+T207+U207+V207+W207+X207+Y207","v":0},{"$nulls":18},"","",""]
["Seniorenklasse\n( ab 50 J. )",null,null,null,0,{"$nulls":20},0,0,0,{"$nulls":18},"","",""]
["PARA\nStarter",null,null,null,0,{"$nulls":20},0,0,0,{"$nulls":18},"","",""]
["Gesamt",{"$f":"SUM(B206:B209)","v":0},0,0,{"$f":"SUM(E206:E209)","v":0},0,0,0,0,0,0,0,0,0,0,0,0,0,0,0,0,0,0,0,0,0,0,0,{"$nulls":18},"","",""]
[{"$nulls":46},"","",""]
["Datum",{"$nulls":4},"Verein",{"$nulls":7},"LR 1",{"$nulls":4},"LR 2",{"$nulls":4},"LR 3",{"$nulls":7},{"$f":"O212","v":0},null,{"$f":"T212","v":0},null,{"$f":"Y212","v":0},{"$nulls":10},"","","",{"$nulls":26},{"$f":"IF($H212=BX$1,1,\"\")","v":""},"","","","","","","","","","","","","",""]
[22,"Vorprüfung VP",null,null,"Summe","Vierkampf\n1 - 3",null,"Sprint   Vierkampf",null,"CSC",null,"CSC Mannschaft",null,"CaniCross Geländelauf",null,"CaniCross Bikejöring",null,"CaniCross DogScooter",null,"Hindernis    Lauf",null,"Dreikampf",null,"Shorty",null,"Summe",null,"Gesamt",{"$nulls":14},"","","",null,"","","",null,"","","",null,"","","",null,"",{"$f":"IF(T212=\"Grünig, Rainer\",1,\"\")","v":""},"",null,"","","",null,"","","",null,"","",""]
[{"$nulls":46},"","",""]
["Altersklasse","V","VK","CC",null,"männlich","weiblich","männlich","weiblich","männlich","weiblich","männlich","weiblich","männlich","weiblich","männlich","weiblich","männlich","weiblich","männlich","weiblich","männlich","weiblich","männlich","weiblich","männlich","weiblich",{"$nulls":19},"","",""]
["Jugendklasse\n( bis 18 J )",null,null,null,{"$f":"SUM(B216:D216)","v":0},{"$nulls":20},{"$f":"F216+H216+J216+L216+N216+P216+R216+T216+V216+X216","v":0},{"$f":"G216+I216+K216+M216+O216+Q216+S216+U216+W216+Y216","v":0},{"$f":"B216+C216+D216+F216+G216+H216+I216+J216+K216+L216+M216+N216+O216+P216+Q216+R216+S216+T216+U216+V216+W216+X216+Y216","v":0},{"$nulls":18},"","",""]
["Aktivenklasse\n( 19 - 49 J. )",null,null,null,{"$f":"SUM(B217:D217)","v":0},{"$nulls":20},{"$f":"F217+H217+J217+L217+N217+P217+R217+T217+V217+X217","v":0},{"$f":"G217+I217+K217+M217+O217+Q217+S217+U217+W217+Y217","v":0},{"$f":"B217+C217+D217+F217+G217+H217+I217+J217+K217+L217+M217+N217+O217+P217+Q217+R217+S217+T217+U217+V217+W217+X217+Y217","v":0},{"$nulls":18},"","",""]
["Seniorenklasse\n( ab 50 J. )",null,null,null,0,{"$nulls":20},0,0,0,{"$nulls":18},"","",""]
["PARA\nStarter",null,null,null,0,{"$nulls":20},0,0,0,{"$nulls":18},"","",""]
["Gesamt",{"$f":"SUM(B216:B219)","v":0},0,0,{"$f":"SUM(E216:E219)","v":0},0,0,0,0,0,0,0,0,0,0,0,0,0,0,0,0,0,0,0,0,0,0,0,{"$nulls":18},"","",""]
[{"$nulls":46},"","",""]
["Datum",{"$nulls":4},"Verein",{"$nulls":7},"LR 1",{"$nulls":4},"LR 2",{"$nulls":4},"LR 3",{"$nulls":7},{"$f":"O222","v":0},null,{"$f":"T222","v":0},null,{"$f":"Y222","v":0},{"$nulls":10},"","","",{"$nulls":26},{"$f":"IF($H222=BX$1,1,\"\")","v":""},"","","","","","","","","","","","","",""]
[23,"Vorprüfung VP",null,null,"Summe","Vierkampf\n1 - 3",null,"Sprint   Vierkampf",null,"CSC",null,"CSC Mannschaft",null,"CaniCross Geländelauf",null,"CaniCross Bikejöring",null,"CaniCross DogScooter",null,"Hindernis    Lauf",null,"Dreikampf",null,"Shorty",null,"Summe",null,"Gesamt",{"$nulls":14},{"$f":"IF(O222=\"Bormann, Aloys\",1,\"\")","v":""},"","",null,"","","",null,"","","",null,"","","",null,"","","",null,"","","",null,"","","",null,"","",""]
[{"$nulls":46},"","",""]
["Altersklasse","V","VK","CC",null,"männlich","weiblich","männlich","weiblich","männlich","weiblich","männlich","weiblich","männlich","weiblich","männlich","weiblich","männlich","weiblich","männlich","weiblich","männlich","weiblich","männlich","weiblich","männlich","weiblich",{"$nulls":19},"","",""]
["Jugendklasse\n( bis 18 J )",null,null,null,{"$f":"SUM(B226:D226)","v":0},{"$nulls":20},{"$f":"F226+H226+J226+L226+N226+P226+R226+T226+V226+X226","v":0},{"$f":"G226+I226+K226+M226+O226+Q226+S226+U226+W226+Y226","v":0},{"$f":"B226+C226+D226+F226+G226+H226+I226+J226+K226+L226+M226+N226+O226+P226+Q226+R226+S226+T226+U226+V226+W226+X226+Y226","v":0},{"$nulls":18},"","",""]
["Aktivenklasse\n( 19 - 49 J. )",null,null,null,{"$f":"SUM(B227:D227)","v":0},{"$nulls":20},{"$f":"F227+H227+J227+L227+N227+P227+R227+T227+V227+X227","v":0},{"$f":"G227+I227+K227+M227+O227+Q227+S227+U227+W227+Y227","v":0},{"$f":"B227+C227+D227+F227+G227+H227+I227+J227+K227+L227+M227+N227+O227+P227+Q227+R227+S227+T227+U227+V227+W227+X227+Y227","v":0},{"$nulls":18},"","",""]
["Seniorenklasse\n( ab 50 J. )",null,null,null,0,{"$nulls":20},0,0,0,{"$nulls":18},"","",""]
["PARA\nStarter",null,null,null,0,{"$nulls":20},0,0,0,{"$nulls":18},"","",""]
["Gesamt",{"$f":"SUM(B226:B229)","v":0},0,0,{"$f":"SUM(E226:E229)","v":0},0,0,0,0,0,0,0,0,0,0,0,0,0,0,0,0,0,0,0,0,0,0,0,{"$nulls":18},"","",""]
[{"$nulls":46},"","",""]
["Datum",{"$nulls":4},"Verein",{"$nulls":7},"LR 1",{"$nulls":4},"LR 2",{"$nulls":4},"LR 3",{"$nulls":7},{"$f":"O232","v":0},null,{"$f":"T232","v":0},null,{"$f":"Y232","v":0},{"$nulls":10},"","","",{"$nulls":26},"","","","","","","","","","","","","","",""]
[24,"Vorprüfung VP",null,null,"Summe","Vierkampf\n1 - 3",null,"Sprint   Vierkampf",null,"CSC",null,"CSC Mannschaft",null,"CaniCross Geländelauf",null,"CaniCross Bikejöring",null,"CaniCross DogScooter",null,"Hindernis    Lauf",null,"Dreikampf",null,"Shorty",null,"Summe",null,"Gesamt",{"$nulls":14},"","","",null,"","","",null,"","","",null,"","","",null,"","","",null,"","","",null,"","","",null,"","",""]
[{"$nulls":46},"","",""]
["Altersklasse","V","VK","CC",null,"männlich","weiblich","männlich","weiblich","männlich","weiblich","männlich","weiblich","männlich","weiblich","männlich","weiblich","männlich","weiblich","männlich","weiblich","männlich","weiblich","männlich","weiblich","männlich","weiblich",{"$nulls":19},"","",""]
["Jugendklasse\n( bis 18 J )",null,null,null,{"$f":"SUM(B236:D236)","v":0},{"$nulls":20},{"$f":"F236+H236+J236+L236+N236+P236+R236+T236+V236+X236","v":0},{"$f":"G236+I236+K236+M236+O236+Q236+S236+U236+W236+Y236","v":0},{"$f":"B236+C236+D236+F236+G236+H236+I236+J236+K236+L236+M236+N236+O236+P236+Q236+R236+S236+T236+U236+V236+W236+X236+Y236","v":0},{"$nulls":18},"","",""]
["Aktivenklasse\n( 19 - 49 J. )",null,null,null,{"$f":"SUM(B237:D237)","v":0},{"$nulls":20},{"$f":"F237+H237+J237+L237+N237+P237+R237+T237+V237+X237","v":0},{"$f":"G237+I237+K237+M237+O237+Q237+S237+U237+W237+Y237","v":0},{"$f":"B237+C237+D237+F237+G237+H237+I237+J237+K237+L237+M237+N237+O237+P237+Q237+R237+S237+T237+U237+V237+W237+X237+Y237","v":0},{"$nulls":18},"","",""]
["Seniorenklasse\n( ab 50 J. )",null,null,null,0,{"$nulls":20},0,0,0,{"$nulls":18},"","",""]
["PARA\nStarter",null,null,null,0,{"$nulls":20},0,0,0,{"$nulls":18},"","",""]
["Gesamt",{"$f":"SUM(B236:B239)","v":0},0,0,{"$f":"SUM(E236:E239)","v":0},0,0,0,0,0,0,0,0,0,0,0,0,0,0,0,0,0,0,0,0,0,0,0,{"$nulls":18},"","",""]
[{"$nulls":46},"","",""]
["Datum",{"$nulls":4},"Verein",{"$nulls":7},"LR 1",{"$nulls":4},"LR 2",{"$nulls":4},"LR 3",{"$nulls":7},{"$f":"O242","v":0},null,{"$f":"T242","v":0},null,{"$f":"Y242","v":0},{"$nulls":10},"","","",{"$nulls":26},{"$f":"IF($H242=BX$1,1,\"\")","v":""},"","","","","","","","","","","","","",""]
[25,"Vorprüfung VP",null,null,"Summe","Vierkampf\n1 - 3",null,"Sprint   Vierkampf",null,"CSC",null,"CSC Mannschaft",null,"CaniCross Geländelauf",null,"CaniCross Bikejöring",null,"CaniCross DogScooter",null,"Hindernis    Lauf",null,"Dreikampf",null,"Shorty",null,"Summe",null,"Gesamt",{"$nulls":14},"","","",null,"","","",null,"","","",null,"","","",null,"","","",null,"","","",null,"","","",null,"","",""]
[{"$nulls":46},"","",""]
["Altersklasse","V","VK","CC",null,"männlich","weiblich","männlich","weiblich","männlich","weiblich","männlich","weiblich","männlich","weiblich","männlich","weiblich","männlich","weiblich","männlich","weiblich","männlich","weiblich","männlich","weiblich","männlich","weiblich",{"$nulls":19},"","",""]
["Jugendklasse\n( bis 18 J )",null,null,null,{"$f":"SUM(B246:D246)","v":0},{"$nulls":20},{"$f":"F246+H246+J246+L246+N246+P246+R246+T246+V246+X246","v":0},{"$f":"G246+I246+K246+M246+O246+Q246+S246+U246+W246+Y246","v":0},{"$f":"B246+C246+D246+F246+G246+H246+I246+J246+K246+L246+M246+N246+O246+P246+Q246+R246+S246+T246+U246+V246+W246+X246+Y246","v":0},{"$nulls":18},"","",""]
["Aktivenklasse\n( 19 - 49 J. )",null,null,null,{"$f":"SUM(B247:D247)","v":0},{"$nulls":20},{"$f":"F247+H247+J247+L247+N247+P247+R247+T247+V247+X247","v":0},{"$f":"G247+I247+K247+M247+O247+Q247+S247+U247+W247+Y247","v":0},{"$f":"B247+C247+D247+F247+G247+H247+I247+J247+K247+L247+M247+N247+O247+P247+Q247+R247+S247+T247+U247+V247+W247+X247+Y247","v":0},{"$nulls":18},"","",""]
["Seniorenklasse\n( ab 50 J. )",null,null,null,0,{"$nulls":20},0,0,0,{"$nulls":18},"","",""]
["PARA\nStarter",null,null,null,0,{"$nulls":20},0,0,0,{"$nulls":18},"","",""]
["Gesamt",{"$f":"SUM(B246:B249)","v":0},0,0,{"$f":"SUM(E246:E249)","v":0},0,0,0,0,0,0,0,0,0,0,0,0,0,0,0,0,0,0,0,0,0,0,0,{"$nulls":18},"","",""]
[{"$nulls":46},"","",""]
["Datum",{"$nulls":4},"Verein",{"$nulls":7},"LR 1",{"$nulls":4},"LR 2",{"$nulls":4},"LR 3",{"$nulls":7},{"$f":"O252","v":0},null,{"$f":"T252","v":0},null,{"$f":"Y252","v":0},{"$nulls":10},"","","",{"$nulls":26},"","","","","","","","","","","","","","",""]
[26,"Vorprüfung VP",null,null,"Summe","Vierkampf\n1 - 3",null,"Sprint   Vierkampf",null,"CSC",null,"CSC Mannschaft",null,"CaniCross Geländelauf",null,"CaniCross Bikejöring",null,"CaniCross DogScooter",null,"Hindernis    Lauf",null,"Dreikampf",null,"Shorty",null,"Summe",null,"Gesamt",{"$nulls":14},"","","",null,"","","",null,"","","",null,"","","",null,"","","",null,"","","",null,"","","",null,"","",""]
[{"$nulls":46},"","",""]
["Altersklasse","V","VK","CC",null,"männlich","weiblich","männlich","weiblich","männlich","weiblich","männlich","weiblich","männlich","weiblich","männlich","weiblich","männlich","weiblich","männlich","weiblich","männlich","weiblich","männlich","weiblich","männlich","weiblich",{"$nulls":19},"","",""]
["Jugendklasse\n( bis 18 J )",null,null,null,{"$f":"SUM(B256:D256)","v":0},{"$nulls":20},{"$f":"F256+H256+J256+L256+N256+P256+R256+T256+V256+X256","v":0},{"$f":"G256+I256+K256+M256+O256+Q256+S256+U256+W256+Y256","v":0},{"$f":"B256+C256+D256+F256+G256+H256+I256+J256+K256+L256+M256+N256+O256+P256+Q256+R256+S256+T256+U256+V256+W256+X256+Y256","v":0},{"$nulls":18},"","",""]
["Aktivenklasse\n( 19 - 49 J. )",null,null,null,{"$f":"SUM(B257:D257)","v":0},{"$nulls":20},{"$f":"F257+H257+J257+L257+N257+P257+R257+T257+V257+X257","v":0},{"$f":"G257+I257+K257+M257+O257+Q257+S257+U257+W257+Y257","v":0},{"$f":"B257+C257+D257+F257+G257+H257+I257+J257+K257+L257+M257+N257+O257+P257+Q257+R257+S257+T257+U257+V257+W257+X257+Y257","v":0},{"$nulls":18},"","",""]
["Seniorenklasse\n( ab 50 J. )",null,null,null,0,{"$nulls":20},0,0,0,{"$nulls":18},"","",""]
["PARA\nStarter",null,null,null,0,{"$nulls":20},0,0,0,{"$nulls":18},"","",""]
["Gesamt",{"$f":"SUM(B256:B259)","v":0},0,0,{"$f":"SUM(E256:E259)","v":0},0,0,0,0,0,0,0,0,0,0,0,0,0,0,0,0,0,0,0,0,0,0,0,{"$nulls":18},{"$f":"IF(O259=\"Fiedler\",1,\"\")","v":""},{"$f":"IF(T259=\"Fiedler\",1,\"\")","v":""},{"$f":"IF(Y259=\"Fiedler\",1,\"\")","v":""}]
[{"$nulls":46},"","",""]
["Datum",{"$nulls":4},"Verein",{"$nulls":7},"LR 1",{"$nulls":4},"LR 2",{"$nulls":4},"LR 3",{"$nulls":7},{"$f":"O262","v":0},null,{"$f":"T262","v":0},null,{"$f":"Y262","v":0},{"$nulls":10},"","","",{"$nulls":26},{"$f":"IF($H262=BX$1,1,\"\")","v":""},"","","","","","","","","","","","","",""]
[27,"Vorprüfung VP",null,null,"Summe","Vierkampf\n1 - 3",null,"Sprint   Vierkampf",null,"CSC",null,"CSC Mannschaft",null,"CaniCross Geländelauf",null,"CaniCross Bikejöring",null,"CaniCross DogScooter",null,"Hindernis    Lauf",null,"Dreikampf",null,"Shorty",null,"Summe",null,"Gesamt",{"$nulls":14},"",{"$f":"IF(T262=\"Bormann, Aloys\",1,\"\")","v":""},{"$f":"IF(Y262=\"Bormann, Aloys\",1,\"\")","v":""},null,"","","",null,{"$f":"IF(O262=\"Geber, Harald\",1,\"\")","v":""},{"$f":"IF(T262=\"Geber, Harald\",1,\"\")","v":""},{"$f":"IF(Y262=\"Geber, Harald\",1,\"\")","v":""},null,{"$f":"IF(O262=\"Gensrich, Michael\",1,\"\")","v":""},{"$f":"IF(T262=\"Gensrich, Michael\",1,\"\")","v":""},{"$f":"IF(Y262=\"Gensrich, Michael\",1,\"\")","v":""},null,"","","",null,{"$f":"IF(O262=\"Lausch, Christian\",1,\"\")","v":""},{"$f":"IF(T262=\"Lausch, Christian\",1,\"\")","v":""},{"$f":"IF(Y262=\"Lausch, Christian\",1,\"\")","v":""},null,{"$f":"IF(O262=\"Sprenger, Beate\",1,\"\")","v":""},{"$f":"IF(T262=\"Sprenger, Beate\",1,\"\")","v":""},{"$f":"IF(Y262=\"Sprenger, Beate\",1,\"\")","v":""},null,{"$f":"IF(O262=\"Volkmann, Claudia\",1,\"\")","v":""},{"$f":"IF(T262=\"Volkmann, Claudia\",1,\"\")","v":""},{"$f":"IF(Y262=\"Volkmann, Claudia\",1,\"\")","v":""}]
[{"$nulls":46},"","",""]
["Altersklasse","V","VK","CC",null,"männlich","weiblich","männlich","weiblich","männlich","weiblich","männlich","weiblich","männlich","weiblich","männlich","weiblich","männlich","weiblich","männlich","weiblich","männlich","weiblich","männlich","weiblich","männlich","weiblich",{"$nulls":19},"","",""]
["Jugendklasse\n( bis 18 J )",null,null,null,{"$f":"SUM(B266:D266)","v":0},{"$nulls":20},{"$f":"F266+H266+J266+L266+N266+P266+R266+T266+V266+X266","v":0},{"$f":"G266+I266+K266+M266+O266+Q266+S266+U266+W266+Y266","v":0},{"$f":"B266+C266+D266+F266+G266+H266+I266+J266+K266+L266+M266+N266+O266+P266+Q266+R266+S266+T266+U266+V266+W266+X266+Y266","v":0},{"$nulls":18},"","",""]
["Aktivenklasse\n( 19 - 49 J. )",null,null,null,{"$f":"SUM(B267:D267)","v":0},{"$nulls":20},{"$f":"F267+H267+J267+L267+N267+P267+R267+T267+V267+X267","v":0},{"$f":"G267+I267+K267+M267+O267+Q267+S267+U267+W267+Y267","v":0},{"$f":"B267+C267+D267+F267+G267+H267+I267+J267+K267+L267+M267+N267+O267+P267+Q267+R267+S267+T267+U267+V267+W267+X267+Y267","v":0},{"$nulls":18},"","",""]
["Seniorenklasse\n( ab 50 J. )",null,null,null,0,{"$nulls":20},0,0,0,{"$nulls":18},"","",""]
["PARA\nStarter",null,null,null,0,{"$nulls":20},0,0,0,{"$nulls":18},"","",""]
["Gesamt",{"$f":"SUM(B266:B269)","v":0},0,0,{"$f":"SUM(E266:E269)","v":0},0,0,0,0,0,0,0,0,0,0,0,0,0,0,0,0,0,0,0,0,0,0,0,{"$nulls":18},"","",""]
[{"$nulls":46},"","",""]
["Datum",{"$nulls":4},"Verein",{"$nulls":7},"LR 1",{"$nulls":4},"LR 2",{"$nulls":4},"LR 3",{"$nulls":7},{"$f":"O272","v":0},null,{"$f":"T272","v":0},null,{"$f":"Y272","v":0},{"$nulls":10},"","","",{"$nulls":26},{"$f":"IF($H272=BX$1,1,\"\")","v":""},"","","","","","","","","","","","","",""]
[28,"Vorprüfung VP",null,null,"Summe","Vierkampf\n1 - 3",null,"Sprint   Vierkampf",null,"CSC",null,"CSC Mannschaft",null,"CaniCross Geländelauf",null,"CaniCross Bikejöring",null,"CaniCross DogScooter",null,"Hindernis    Lauf",null,"Dreikampf",null,"Shorty",null,"Summe",null,"Gesamt",{"$nulls":14},"","","",null,"","","",null,"","","",null,"","","",null,{"$f":"IF(O272=\"Grünig, Rainer\",1,\"\")","v":""},{"$f":"IF(T272=\"Grünig, Rainer\",1,\"\")","v":""},{"$f":"IF(Y272=\"Grünig, Rainer\",1,\"\")","v":""},null,"","","",null,"","","",null,"","",""]
[{"$nulls":46},"","",""]
["Altersklasse","V","VK","CC",null,"männlich","weiblich","männlich","weiblich","männlich","weiblich","männlich","weiblich","männlich","weiblich","männlich","weiblich","männlich","weiblich","männlich","weiblich","männlich","weiblich","männlich","weiblich","männlich","weiblich",{"$nulls":19},"","",""]
["Jugendklasse\n( bis 18 J )",null,null,null,{"$f":"SUM(B276:D276)","v":0},{"$nulls":20},{"$f":"F276+H276+J276+L276+N276+P276+R276+T276+V276+X276","v":0},{"$f":"G276+I276+K276+M276+O276+Q276+S276+U276+W276+Y276","v":0},{"$f":"B276+C276+D276+F276+G276+H276+I276+J276+K276+L276+M276+N276+O276+P276+Q276+R276+S276+T276+U276+V276+W276+X276+Y276","v":0},{"$nulls":18},"","",""]
["Aktivenklasse\n( 19 - 49 J. )",null,null,null,{"$f":"SUM(B277:D277)","v":0},{"$nulls":20},{"$f":"F277+H277+J277+L277+N277+P277+R277+T277+V277+X277","v":0},{"$f":"G277+I277+K277+M277+O277+Q277+S277+U277+W277+Y277","v":0},{"$f":"B277+C277+D277+F277+G277+H277+I277+J277+K277+L277+M277+N277+O277+P277+Q277+R277+S277+T277+U277+V277+W277+X277+Y277","v":0},{"$nulls":18},"","",""]
["Seniorenklasse\n( ab 50 J. )",null,null,null,0,{"$nulls":20},0,0,0,{"$nulls":18},"","",""]
["PARA\nStarter",null,null,null,0,{"$nulls":20},0,0,0,{"$nulls":18},"","",""]
["Gesamt",{"$f":"SUM(B276:B279)","v":0},0,0,{"$f":"SUM(E276:E279)","v":0},0,0,0,0,0,0,0,0,0,0,0,0,0,0,0,0,0,0,0,0,0,0,0,{"$nulls":18},"","",""]
[{"$nulls":46},"","",""]
["Datum",{"$nulls":4},"Verein",{"$nulls":7},"LR 1",{"$nulls":4},"LR 2",{"$nulls":4},"LR 3",{"$nulls":7},{"$f":"O282","v":0},null,{"$f":"T282","v":0},null,{"$f":"Y282","v":0},{"$nulls":10},"","","",{"$nulls":26},"","","","","","","","","","","","","","",""]
[29,"Vorprüfung VP",null,null,"Summe","Vierkampf\n1 - 3",null,"Sprint   Vierkampf",null,"CSC",null,"CSC Mannschaft",null,"CaniCross Geländelauf",null,"CaniCross Bikejöring",null,"CaniCross DogScooter",null,"Hindernis    Lauf",null,"Dreikampf",null,"Shorty",null,"Summe",null,"Gesamt",{"$nulls":14},{"$f":"IF(O282=\"Bormann, Aloys\",1,\"\")","v":""},"","",null,"","","",null,"","","",null,"","","",null,"","","",null,"","","",null,"","","",null,"","",""]
[{"$nulls":46},"","",""]
["Altersklasse","V","VK","CC",null,"männlich","weiblich","männlich","weiblich","männlich","weiblich","männlich","weiblich","männlich","weiblich","männlich","weiblich","männlich","weiblich","männlich","weiblich","männlich","weiblich","männlich","weiblich","männlich","weiblich",{"$nulls":19},"","",""]
["Jugendklasse\n( bis 18 J )",null,null,null,{"$f":"SUM(B286:D286)","v":0},{"$nulls":20},{"$f":"F286+H286+J286+L286+N286+P286+R286+T286+V286+X286","v":0},{"$f":"G286+I286+K286+M286+O286+Q286+S286+U286+W286+Y286","v":0},{"$f":"B286+C286+D286+F286+G286+H286+I286+J286+K286+L286+M286+N286+O286+P286+Q286+R286+S286+T286+U286+V286+W286+X286+Y286","v":0},{"$nulls":18},"","",""]
["Aktivenklasse\n( 19 - 49 J. )",null,null,null,{"$f":"SUM(B287:D287)","v":0},{"$nulls":20},{"$f":"F287+H287+J287+L287+N287+P287+R287+T287+V287+X287","v":0},{"$f":"G287+I287+K287+M287+O287+Q287+S287+U287+W287+Y287","v":0},{"$f":"B287+C287+D287+F287+G287+H287+I287+J287+K287+L287+M287+N287+O287+P287+Q287+R287+S287+T287+U287+V287+W287+X287+Y287","v":0},{"$nulls":18},"","",""]
["Seniorenklasse\n( ab 50 J. )",null,null,null,0,{"$nulls":20},0,0,0,{"$nulls":18},"","",""]
["PARA\nStarter",null,null,null,0,{"$nulls":20},0,0,0,{"$nulls":18},"","",""]
["Gesamt",{"$f":"SUM(B286:B289)","v":0},0,0,{"$f":"SUM(E286:E289)","v":0},0,0,0,0,0,0,0,0,0,0,0,0,0,0,0,0,0,0,0,0,0,0,0,{"$nulls":18},"","",""]
[{"$nulls":46},"","",""]
["Datum",{"$nulls":4},"Verein",{"$nulls":7},"LR 1",{"$nulls":4},"LR 2",{"$nulls":4},"LR 3",{"$nulls":7},{"$f":"O292","v":0},null,{"$f":"T292","v":0},null,{"$f":"Y292","v":0},{"$nulls":10},"","","",{"$nulls":26},{"$f":"IF($H292=BX$1,1,\"\")","v":""},"","","","","","","","","","","","","",""]
[30,"Vorprüfung VP",null,null,"Summe","Vierkampf\n1 - 3",null,"Sprint   Vierkampf",null,"CSC",null,"CSC Mannschaft",null,"CaniCross Geländelauf",null,"CaniCross Bikejöring",null,"CaniCross DogScooter",null,"Hindernis    Lauf",null,"Dreikampf",null,"Shorty",null,"Summe",null,"Gesamt",{"$nulls":14},"","","",null,"","","",null,"","","",null,"","","",null,"","","",null,"","","",null,"","","",null,"","",""]
[{"$nulls":54},""]
["Altersklasse","V","VK","CC",null,"männlich","weiblich","männlich","weiblich","männlich","weiblich","männlich","weiblich","männlich","weiblich","männlich","weiblich","männlich","weiblich","männlich","weiblich","männlich","weiblich","männlich","weiblich","männlich","weiblich",{"$nulls":27},""]
["Jugendklasse\n( bis 18 J )",null,null,null,{"$f":"SUM(B296:D296)","v":0},{"$nulls":20},{"$f":"F296+H296+J296+L296+N296+P296+R296+T296+V296+X296","v":0},{"$f":"G296+I296+K296+M296+O296+Q296+S296+U296+W296+Y296","v":0},{"$f":"B296+C296+D296+F296+G296+H296+I296+J296+K296+L296+M296+N296+O296+P296+Q296+R296+S296+T296+U296+V296+W296+X296+Y296","v":0},{"$nulls":26},""]
["Aktivenklasse\n( 19 - 49 J. )",null,null,null,{"$f":"SUM(B297:D297)","v":0},{"$nulls":20},{"$f":"F297+H297+J297+L297+N297+P297+R297+T297+V297+X297","v":0},{"$f":"G297+I297+K297+M297+O297+Q297+S297+U297+W297+Y297","v":0},{"$f":"B297+C297+D297+F297+G297+H297+I297+J297+K297+L297+M297+N297+O297+P297+Q297+R297+S297+T297+U297+V297+W297+X297+Y297","v":0},{"$nulls":26},""]
["Seniorenklasse\n( ab 50 J. )",null,null,null,0,{"$nulls":20},0,0,0,{"$nulls":26},""]
["PARA\nStarter",null,null,null,0,{"$nulls":20},0,0,0,{"$nulls":26},""]
["Gesamt",{"$f":"SUM(B296:B299)","v":0},0,0,{"$f":"SUM(E296:E299)","v":0},0,0,0,0,0,0,0,0,0,0,0,0,0,0,0,0,0,0,0,0,0,0,0,{"$nulls":26},""]
[{"$nulls":54},""]
["Gesamtergebnis Turnierhundsport",{"$nulls":13},2025]
[null,"Vorprüfung VP",null,null,"Summe","Vierkampf\n1 - 3",null,"Sprint   Vierkampf",null,"CSC",null,"CSC Mannschaft",null,"CaniCross Geländelauf",null,"CaniCross Bikejöring",null,"CaniCross DogScooter",null,"Hindernis    Lauf",null,"Dreikampf",null,"Shorty",null,"Summe",null,"Gesamt",{"$nulls":26},""]
[{"$nulls":54},""]
["Altersklasse","V","VK","CC",null,"männlich","weiblich","männlich","weiblich","männlich","weiblich","männlich","weiblich","männlich","weiblich","männlich","weiblich","männlich","weiblich","männlich","weiblich","männlich","weiblich","männlich","weiblich","männlich","weiblich",null,null,"Leistungsrichter",{"$nulls":8},"Gesamt",null,null,null,{"$f":"SUM(AQ3:AQ304)","v":3},{"$f":"SUM(AR3:AR304)","v":0},{"$f":"SUM(AS3:AS304)","v":0},null,{"$f":"SUM(AU3:AU304)","v":0},{"$f":"SUM(AV3:AV304)","v":0},{"$f":"SUM(AW3:AW304)","v":0},null,{"$f":"SUM(AY3:AY304)","v":2},{"$f":"SUM(AZ3:AZ304)","v":0},{"$f":"SUM(BA3:BA304)","v":0},null,{"$f":"SUM(BC2:BC304)","v":3},{"$f":"SUM(BD3:BD304)","v":1},{"$f":"SUM(BE3:BE304)","v":0},null,{"$f":"SUM(BC305:BF305)","v":4},{"$f":"SUM(BH3:BH304)","v":2},{"$f":"SUM(BI3:BI304)","v":0},null,{"$f":"SUM(BK3:BK304)","v":2},{"$f":"SUM(BL3:BL304)","v":0},{"$f":"SUM(BM3:BM304)","v":0},null,{"$f":"SUM(BO3:BO304)","v":1},{"$f":"SUM(BP3:BP304)","v":0},{"$f":"SUM(BQ3:BQ304)","v":0},null,{"$f":"SUM(BS3:BS304)","v":0},{"$f":"SUM(BT3:BT304)","v":1},{"$f":"SUM(BU3:BU304)","v":0},null,null,{"$f":"SUM(BX1:BX303)","v":1},0,0,1,1,0,0,{"$f":"SUM(CE1:CE303)","v":0},1,2,0,2,1,0,0]
["Jugendklasse\n( bis 18 J )",{"$f":"B6+B16+B26+B36+B46+B56+B66+B76+B86+B96+B106+B116+B126+B136+B146+B156+B166+B176+B186+B196+B206+B216+B226+B236+B246+B256+B266+B276+B286+B296","v":2},{"$f":"C6+C16+C26+C36+C46+C56+C66+C76+C86+C96+C106+C116+C126+C136+C146+C156+C166+C176+C186+C196+C206+C216+C226+C236+C246+C256+C266+C276+C286+C296","v":0},1,{"$f":"SUM(B306:D306)","v":3},{"$f":"F6+F16+F26+F36+F46+F56+F66+F76+F86+F96+F106+F116+F126+F136+F146+F156+F166+F176+F186+F196+F206+F216+F226+F236+F246+F256+F266+F276+F286+F296","v":5},{"$f":"G6+G16+G26+G36+G46+G56+G66+G76+G86+G96+G106+G116+G126+G136+G146+G156+G166+G176+G186+G196+G206+G216+G226+G236+G246+G256+G266+G276+G286+G296","v":6},5,0,0,0,7,8,4,2,0,0,0,0,3,4,1,6,7,6,{"$f":"F306+H306+J306+L306+N306+P306+R306+T306+V306+X306","v":32},{"$f":"G306+I306+K306+M306+O306+Q306+S306+U306+W306+Y306","v":32},{"$f":"B306+C306+D306+F306+G306+H306+I306+J306+K306+L306+M306+N306+O306+P306+Q306+R306+S306+T306+U306+V306+W306+X306+Y306","v":67},null,"Bormann, Aloys",null,{"$f":"COUNTIF(AF3:AF300,\"Bormann, Aloys\")","v":3},null,{"$f":"COUNTIF(AH3:AH300,\"Bormann, Aloys\")","v":0},null,{"$f":"COUNTIF(AJ3:AJ300,\"Bormann, Aloys\")","v":0},null,null,{"$f":"AF306+AH306+AJ306","v":3}]
["Aktivenklasse\n( 19 - 49 J. )",{"$f":"B7+B17+B27+B37+B47+B57+B67+B77+B87+B97+B107+B117+B127+B137+B147+B157+B167+B177+B187+B197+B207+B217+B227+B237+B247+B257+B267+B277+B287+B297","v":13},{"$f":"C7+C17+C27+C37+C47+C57+C67+C77+C87+C97+C107+C117+C127+C137+C147+C157+C167+C177+C187+C197+C207+C217+C227+C237+C247+C257+C267+C277+C287+C297","v":4},15,{"$f":"SUM(B307:D307)","v":32},{"$f":"F7+F17+F27+F37+F47+F57+F67+F77+F87+F97+F107+F117+F127+F137+F147+F157+F167+F177+F187+F197+F207+F217+F227+F237+F247+F257+F267+F277+F287+F297","v":12},{"$f":"G7+G17+G27+G37+G47+G57+G67+G77+G87+G97+G107+G117+G127+G137+G147+G157+G167+G177+G187+G197+G207+G217+G227+G237+G247+G257+G267+G277+G287+G297","v":119},12,29,0,3,10,45,33,70,3,12,0,12,7,17,7,23,21,63,{"$f":"F307+H307+J307+L307+N307+P307+R307+T307+V307+X307","v":105},{"$f":"G307+I307+K307+M307+O307+Q307+S307+U307+W307+Y307","v":393},{"$f":"B307+C307+D307+F307+G307+H307+I307+J307+K307+L307+M307+N307+O307+P307+Q307+R307+S307+T307+U307+V307+W307+X307+Y307","v":530},null,"Geber, Harald",null,{"$f":"COUNTIF(AF3:AF300,\"Geber, Harald\")","v":2},null,{"$f":"COUNTIF(AH3:AH300,\"Geber, Harald\")","v":0},null,{"$f":"COUNTIF(AJ3:AJ300,\"Geber, Harald\")","v":0},null,null,{"$f":"AF307+AH307+AJ307","v":2},null,null,"Gesamt",{"$f":"AQ305+AR305+AS305","v":3},null,null,null,{"$f":"AU305+AV305+AW305","v":0},null,null,null,{"$f":"AY305+AZ305+BA305","v":2},null,null,null,{"$f":"BC305+BD305+BE305","v":4},null,null,null,{"$f":"BG305+BH305+BI305","v":6},null,null,null,{"$f":"BK305+BL305+BM305","v":2},null,null,null,{"$f":"BO305+BP305+BQ305","v":1},null,null,null,{"$f":"BS305+BT305+BU305","v":1}]
["Seniorenklasse\n( ab 50 J. )",{"$f":"B8+B18+B28+B38+B48+B58+B68+B78+B88+B98+B108+B118+B128+B138+B148+B158+B168+B178+B188+B198+B208+B218+B228+B238+B248+B258+B268+B278+B288+B298","v":2},{"$f":"C8+C18+C28+C38+C48+C58+C68+C78+C88+C98+C108+C118+C128+C138+C148+C158+C168+C178+C188+C198+C208+C218+C228+C238+C248+C258+C268+C278+C288+C298","v":0},{"$f":"D8+D18+D28+D38+D48+D58+D68+D78+D88+D98+D108+D118+D128+D138+D148+D158+D168+D178+D188+D198+D208+D218+D228+D238+D248+D258+D268+D278+D288+D298","v":2},4,{"$f":"F8+F18+F28+F38+F48+F58+F68+F78+F88+F98+F108+F118+F128+F138+F148+F158+F168+F178+F188+F198+F208+F218+F228+F238+F248+F258+F268+F278+F288+F298","v":4},{"$f":"G8+G18+G28+G38+G48+G58+G68+G78+G88+G98+G108+G118+G128+G138+G148+G158+G168+G178+G188+G198+G208+G218+G228+G238+G248+G258+G268+G278+G288+G298","v":30},9,6,1,0,6,20,9,13,8,3,4,0,4,7,1,8,10,21,56,108,168,null,"Gensrich, Michael",null,{"$f":"COUNTIF(AF3:AF300,\"Gensrich, Michael\")","v":3},null,{"$f":"COUNTIF(AH3:AH300,\"Gensrich, Michael\")","v":1},null,{"$f":"COUNTIF(AJ3:AJ300,\"Gensrich, Michael\")","v":0},null,null,4,null,null,null,{"$f":"AQ2","v":0},null,null,null,{"$f":"AU2","v":0},null,null,null,{"$f":"AY2","v":0},null,null,null,{"$f":"BC2","v":0},null,null,null,{"$f":"BG2","v":0},null,null,null,{"$f":"BK2","v":0},null,null,null,{"$f":"BO2","v":0},null,null,null,{"$f":"BS2","v":0}]
["PARA\nStarter",{"$f":"B9+B19+B29+B39+B49+B59+B69+B79+B89+B99+B109+B119+B129+B139+B149+B159+B169+B179+B189+B199+B209+B219+B229+B239+B249+B259+B269+B279+B289+B299","v":0},{"$f":"C9+C19+C29+C39+C49+C59+C69+C79+C89+C99+C109+C119+C129+C139+C149+C159+C169+C179+C189+C199+C209+C219+C229+C239+C249+C259+C269+C279+C289+C299","v":0},{"$f":"D9+D19+D29+D39+D49+D59+D69+D79+D89+D99+D109+D119+D129+D139+D149+D159+D169+D179+D189+D199+D209+D219+D229+D239+D249+D259+D269+D279+D289+D299","v":0},0,{"$f":"F9+F19+F29+F39+F49+F59+F69+F79+F89+F99+F109+F119+F129+F139+F149+F159+F169+F179+F189+F199+F209+F219+F229+F239+F249+F259+F269+F279+F289+F299","v":0},{"$f":"G9+G19+G29+G39+G49+G59+G69+G79+G89+G99+G109+G119+G129+G139+G149+G159+G169+G179+G189+G199+G209+G219+G229+G239+G249+G259+G269+G279+G289+G299","v":0},0,0,0,0,0,0,0,0,0,0,0,0,0,0,0,0,0,0,0,0,0,null,"Grünig, Rainer",null,{"$f":"COUNTIF(AF3:AF300,\"Grünig, Rainer\")","v":1},null,{"$f":"COUNTIF(AH3:AH300,\"Grünig, Rainer\")","v":2},null,{"$f":"COUNTIF(AJ3:AJ300,\"Grünig, Rainer\")","v":0},null,null,3]
["Gesamt",{"$f":"SUM(B306:B309)","v":17},{"$f":"SUM(C306:C309)","v":4},{"$f":"SUM(D306:D309)","v":18},{"$f":"SUM(E306:E309)","v":39},21,{"$f":"SUM(G306:G309)","v":155},26,35,1,3,23,73,46,85,11,15,4,12,14,28,9,37,38,90,193,533,765,null,"Lausch, Christian",null,{"$f":"COUNTIF(AF3:AF300,\"Lausch, Christian\")","v":2},null,{"$f":"COUNTIF(AH3:AH300,\"Lausch, Christian\")","v":0},null,{"$f":"COUNTIF(AJ3:AJ300,\"Lausch, Christian\")","v":0},null,null,2]
[{"$nulls":29},"Sprenger, Beate",null,{"$f":"COUNTIF(AF3:AF300,\"Sprenger, Beate\")","v":1},null,{"$f":"COUNTIF(AH3:AH300,\"Sprenger, Beate\")","v":0},null,{"$f":"COUNTIF(AJ3:AJ300,\"Sprenger, Beate\")","v":0},null,null,1]
[{"$nulls":29},"Volkmann, Claudia",null,{"$f":"COUNTIF(AF3:AF300,\"Volkmann, Claudia\")","v":0},null,{"$f":"COUNTIF(AH3:AH300,\"Volkmann, Claudia\")","v":1},null,{"$f":"COUNTIF(AJ3:AJ300,\"Volkmann, Claudia\")","v":0},null,null,1]

{"sheet":"BH_VT","index":2,"n_rows":189,"n_cols":45,"rows_kept":189,"cut":false,"hidden":false,"merged":[[164,5,164,7],[173,5,173,7],[165,5,165,7],[156,5,156,7],[93,5,93,7],[11,5,11,7],[10,5,10,7],[19,5,19,7],[28,5,28,7],[37,5,37,7],[55,5,55,7],[64,5,64,7],[74,5,74,7],[146,5,146,7],[155,5,155,7],[147,5,147,7],[111,5,111,7],[102,5,102,7],[110,5,110,7],[119,5,119,7],[128,5,128,7],[137,5,137,7],[138,5,138,7],[129,5,129,7],[120,5,120,7],[2,5,2,7],[47,5,47,7],[75,5,75,7],[65,5,65,7],[56,5,56,7],[52,0,52,1],[84,5,84,7],[60,2,60,3],[61,2,61,3],[62,2,62,3],[101,5,101,7],[76,2,76,3],[77,2,77,3],[78,2,78,3],[79,2,79,3],[80,2,80,3],[81,2,81,3],[85,0,86,1],[85,2,85,3],[86,2,86,3],[30,0,31,1],[30,2,30,3],[31,2,31,3],[32,2,32,3],[33,2,33,3],[34,2,34,3],[135,2,135,3],[139,0,140,1],[52,2,52,3],[53,2,53,3],[57,0,58,1],[57,2,57,3],[58,2,58,3],[59,2,59,3],[138,1,138,2],[134,2,134,3],[185,2,185,3],[186,2,186,3],[187,2,187,3],[188,2,188,3],[174,5,174,7],[143,2,143,3],[144,2,144,3],[177,2,177,3],[178,2,178,3],[179,2,179,3],[174,1,174,2],[185,0,185,1],[186,0,186,1],[180,2,180,3],[183,0,184,1],[183,2,183,3],[184,2,184,3],[148,0,149,1],[148,2,148,3],[149,2,149,3],[150,2,150,3],[151,2,151,3],[152,2,152,3],[153,2,153,3],[14,2,14,3],[15,2,15,3],[16,2,16,3],[38,5,38,7],[29,5,29,7],[20,5,20,7],[75,1,75,2],[67,0,68,1],[67,2,67,3],[68,2,68,3],[69,2,69,3],[70,2,70,3],[71,2,71,3],[72,2,72,3],[35,2,35,3],[20,1,20,2],[21,0,22,1],[21,2,21,3],[29,1,29,2],[22,2,22,3],[23,2,23,3],[24,2,24,3],[25,2,25,3],[26,2,26,3],[1,5,1,7],[182,0,182,3],[165,1,165,2],[156,1,156,2],[147,1,147,2],[157,0,158,1],[157,2,157,3],[158,2,158,3],[159,2,159,3],[160,2,160,3],[161,2,161,3],[162,2,162,3],[166,0,167,1],[166,2,166,3],[167,2,167,3],[168,2,168,3],[169,2,169,3],[170,2,170,3],[171,2,171,3],[175,0,176,1],[175,2,175,3],[176,2,176,3],[83,5,83,7],[92,5,92,7],[139,2,139,3],[140,2,140,3],[141,2,141,3],[142,2,142,3],[134,0,134,1],[115,0,115,1],[116,0,116,1],[107,0,107,1],[130,0,131,1],[130,2,130,3],[131,2,131,3],[132,2,132,3],[133,2,133,3],[120,1,120,2],[111,1,111,2],[133,0,133,1],[123,0,123,1],[124,0,124,1],[125,0,125,1],[129,1,129,2],[121,0,122,1],[121,2,121,3],[122,2,122,3],[123,2,123,3],[126,2,126,3],[93,1,93,2],[84,1,84,2],[87,2,87,3],[88,2,88,3],[89,2,89,3],[90,2,90,3],[105,0,105,1],[106,0,106,1],[96,0,96,1],[97,0,97,1],[98,0,98,1],[87,0,87,1],[88,0,88,1],[89,0,89,1],[102,1,102,2],[94,0,95,1],[94,2,94,3],[95,2,95,3],[96,2,96,3],[97,2,97,3],[98,2,98,3],[99,2,99,3],[11,1,11,2],[76,0,77,1],[47,1,47,2],[39,0,40,1],[39,2,39,3],[40,2,40,3],[41,2,41,3],[42,2,42,3],[43,2,43,3],[44,2,44,3],[48,0,49,1],[48,2,48,3],[49,2,49,3],[50,2,50,3],[51,2,51,3],[50,0,50,1],[51,0,51,1],[65,1,65,2],[12,0,13,1],[12,2,12,3],[17,2,17,3],[56,1,56,2],[38,1,38,2],[13,2,13,3],[2,1,2,2],[3,0,4,1],[3,2,3,3],[4,2,4,3],[5,2,5,3],[6,2,6,3],[7,2,7,3],[8,2,8,3],[46,5,46,7],[41,0,41,1],[42,0,42,1],[43,0,43,1],[32,0,32,1],[33,0,33,1],[34,0,34,1],[23,0,23,1],[24,0,24,1],[25,0,25,1],[14,0,14,1],[15,0,15,1],[16,0,16,1],[5,0,5,1],[6,0,6,1],[7,0,7,1],[187,0,187,1],[177,0,177,1],[178,0,178,1],[179,0,179,1],[168,0,168,1],[169,0,169,1],[170,0,170,1],[159,0,159,1],[160,0,160,1],[161,0,161,1],[150,0,150,1],[151,0,151,1],[152,0,152,1],[141,0,141,1],[142,0,142,1],[143,0,143,1],[132,0,132,1],[103,0,104,1],[103,2,103,3],[104,2,104,3],[105,2,105,3],[106,2,106,3],[107,2,107,3],[108,2,108,3],[112,0,113,1],[112,2,112,3],[113,2,113,3],[114,2,114,3],[115,2,115,3],[116,2,116,3],[117,2,117,3],[114,0,114,1],[124,2,124,3],[125,2,125,3],[78,0,78,1],[79,0,79,1],[80,0,80,1],[69,0,69,1],[70,0,70,1],[71,0,71,1],[59,0,59,1],[60,0,60,1],[61,0,61,1]]}
[{"$nulls":11},"Bormann, Aloys",null,"Fiedler",null,"Geber, Harald",null,"Gensrich, Michael",null,"Grünig, Rainer",null,"Lausch, Christian",null,"Sprenger, Beate",null,"Volkmann, Claudia",null,null,null,"HSV Bockenem","PHV Göttingen","Hundefreunde Göttingen","PHV Hameln","PHV Hambühren","PHV Hannover","GHV Hildesheim","PHV Laatzen","HC Lachtetal","SGSV Langelsheim","VdH Lindhorst","PHV Misburg","HSV Osterode","MV Schöningen","HSV Velstove"]
["Datum","2025-05-17","Verein","SGSV Langelsheim","LR 1","Grünig, Rainer",{"$nulls":5},{"$f":"IF($F2=L$1,1,\"\")","v":""},null,{"$f":"IF($F2=N$1,1,\"\")","v":""},null,{"$f":"IF($F2=P$1,1,\"\")","v":""},null,{"$f":"IF($F2=R$1,1,\"\")","v":""},null,{"$f":"IF($F2=T$1,1,\"\")","v":1},null,{"$f":"IF($F2=V$1,1,\"\")","v":""},null,{"$f":"IF($F2=X$1,1,\"\")","v":""},null,{"$f":"IF($F2=Z$1,1,\"\")","v":""},null,null,null,{"$f":"IF($D2=AD$1,1,\"\")","v":""},"","","","","","","","",1,"","","","",""]
[1,null,null,null,"LR 2",{"$nulls":6},{"$f":"IF($F3=L$1,1,\"\")","v":""},null,"",null,"",null,"",null,"",null,"",null,"",null,""]
["Unbefangenheitsprüfung       Wesenstest",null,"Bestanden",{"$nulls":8},"",null,"",null,"",null,"",null,"",null,"",null,"",null,""]
[null,null,"nicht Bestanden",{"$nulls":8},"",null,"",null,"",null,"",null,"",null,"",null,"",null,""]
[" BH - VT ohne AK",{"$nulls":10},"",null,"",null,"",null,"",null,"",null,"",null,"",null,""]
[" BH - VT bestanden",null,12,null,null,12,{"$nulls":5},"",null,"",null,"",null,"",null,"",null,"",null,"",null,""]
[" BH -VT nur Sachkunde",{"$nulls":10},"",null,"",null,"",null,"",null,"",null,"",null,"",null,""]
[null,null,"Gesamt",null,null,{"$f":"SUM(F4:F8)","v":12},{"$nulls":5},"",null,"",null,"",null,"",null,"",null,"",null,"",null,""]
[{"$nulls":11},"",null,"",null,"",null,"",null,"",null,"",null,"",null,""]
["Datum","2025-05-31","Verein","PHV Laatzen","LR 1","Grünig, Rainer",{"$nulls":5},"",null,"",null,"",null,"",null,1,null,"",null,"",null,"",null,null,null,"","","","","","","",1,"","","","","","",""]
[2,null,null,null,"LR 2",{"$nulls":6},"",null,"",null,"",null,"",null,"",null,"",null,"",null,""]
["Unbefangenheitsprüfung       Wesenstest",null,"Bestanden",{"$nulls":8},"",null,"",null,"",null,"",null,"",null,"",null,"",null,""]
[null,null,"nicht Bestanden",{"$nulls":8},"",null,"",null,"",null,"",null,"",null,"",null,"",null,""]
[" BH - VT ohne AK",null,2,null,null,2,{"$nulls":5},"",null,"",null,"",null,"",null,"",null,"",null,"",null,""]
[" BH - VT bestanden",null,10,null,null,10,{"$nulls":5},"",null,"",null,"",null,"",null,"",null,"",null,"",null,""]
[" BH -VT nur Sachkunde",{"$nulls":10},"",null,"",null,"",null,"",null,"",null,"",null,"",null,""]
[null,null,"Gesamt",null,null,{"$f":"SUM(F13:F17)","v":12},{"$nulls":5},"",null,{"$f":"IF($F18=N$1,1,\"\")","v":""},null,"",null,"",null,"",null,"",null,"",null,""]
[{"$nulls":11},"",null,"",null,"",null,"",null,"",null,"",null,"",null,""]
["Datum","2025-07-05","Verein","SfG Visselhövede","LR 1","Bormann, Aloys",{"$nulls":5},1,null,"",null,"",null,"",null,"",null,"",null,"",null,"",null,null,null,{"$f":"IF($D20=AD$1,1,\"\")","v":""},{"$f":"IF($D20=AE$1,1,\"\")","v":""},"","","","","","","","","","","","",""]
[3,null,null,null,"LR 2",{"$nulls":6},"",null,"",null,"",null,"",null,"",null,"",null,"",null,""]
["Unbefangenheitsprüfung       Wesenstest",null,"Bestanden",{"$nulls":8},"",null,"",null,"",null,"",null,"",null,"",null,"",null,""]
[null,null,"nicht Bestanden",{"$nulls":8},"",null,"",null,"",null,"",null,"",null,"",null,"",null,""]
[" BH - VT ohne AK",null,1,null,null,1,{"$nulls":5},"",null,"",null,"",null,"",null,"",null,"",null,"",null,""]
[" BH - VT bestanden",null,9,null,null,9,{"$nulls":5},"",null,"",null,"",null,"",null,"",null,"",null,"",null,""]
[" BH -VT nur Sachkunde",{"$nulls":10},"",null,"",null,"",null,"",null,"",null,"",null,"",null,""]
[null,null,"Gesamt",null,null,{"$f":"SUM(F22:F26)","v":10},{"$nulls":5},"",null,"",null,"",null,"",null,"",null,"",null,"",null,""]
[{"$nulls":11},"",null,"",null,"",null,"",null,"",null,"",null,"",null,""]
["Datum","2025-09-07","Verein","HSV Exten","LR 1","Sprenger, Beate",{"$nulls":5},"",null,"",null,"",null,"",null,"",null,"",null,1,null,"",null,null,null,"","","","","","","","","","","","","","",""]
[4,null,null,null,"LR 2",{"$nulls":6},"",null,"",null,"",null,"",null,"",null,"",null,"",null,""]
["Unbefangenheitsprüfung       Wesenstest",null,"Bestanden",{"$nulls":8},"",null,"",null,"",null,"",null,"",null,"",null,"",null,""]
[null,null,"nicht Bestanden",{"$nulls":8},"",null,"",null,"",null,"",null,"",null,"",null,"",null,""]
[" BH - VT ohne AK",null,1,null,null,1,{"$nulls":5},"",null,"",null,"",null,"",null,"",null,"",null,"",null,""]
[" BH - VT bestanden",null,8,null,null,8,{"$nulls":5},"",null,{"$f":"IF($F34=N$1,1,\"\")","v":""},null,"",null,"",null,"",null,"",null,"",null,""]
[" BH -VT nur Sachkunde",{"$nulls":10},"",null,"",null,"",null,"",null,"",null,"",null,"",null,""]
[null,null,"Gesamt",null,null,{"$f":"SUM(F31:F35)","v":9},{"$nulls":5},"",null,"",null,"",null,"",null,"",null,"",null,"",null,""]
[{"$nulls":11},"",null,"",null,"",null,"",null,"",null,"",null,"",null,""]
["Datum","2025-09-14","Verein","VdH Celle","LR 1","Gensrich, Michael",{"$nulls":5},"",null,"",null,"",null,1,null,"",null,"",null,"",null,"",null,null,null,"",{"$f":"IF($D38=AE$1,1,\"\")","v":""},"","","","","","","","","","","","",""]
[5,null,null,null,"LR 2",{"$nulls":6},"",null,"",null,"",null,"",null,"",null,"",null,"",null,""]
["Unbefangenheitsprüfung       Wesenstest",null,"Bestanden",{"$nulls":8},"",null,"",null,"",null,"",null,"",null,"",null,"",null,""]
[null,null,"nicht Bestanden",{"$nulls":8},"",null,"",null,"",null,"",null,"",null,"",null,"",null,""]
[" BH - VT ohne AK",null,3,null,null,3,{"$nulls":5},"",null,"",null,"",null,"",null,"",null,"",null,"",null,""]
[" BH - VT bestanden",null,9,null,null,9,{"$nulls":5},"",null,"",null,"",null,"",null,"",null,"",null,"",null,""]
[" BH -VT nur Sachkunde",{"$nulls":10},"",null,"",null,"",null,"",null,"",null,"",null,"",null,""]
[null,null,"Gesamt",null,null,{"$f":"SUM(F40:F44)","v":12},{"$nulls":5},"",null,"",null,"",null,"",null,"",null,"",null,"",null,""]
[{"$nulls":11},"",null,"",null,"",null,"",null,"",null,"",null,"",null,""]
["Datum","2025-11-01","Verein","PHV Laatzen","LR 1","Grünig, Rainer",{"$nulls":5},"",null,"",null,"",null,"",null,1,null,"",null,"",null,"",null,null,null,"","","","","","","",1,"","","","","","",""]
[6,null,null,null,"LR 2",{"$nulls":6},"",null,"",null,"",null,"",null,"",null,"",null,"",null,""]
["Unbefangenheitsprüfung       Wesenstest",null,"Bestanden",{"$nulls":8},"",null,"",null,"",null,"",null,"",null,"",null,"",null,""]
[null,null,"nicht Bestanden",{"$nulls":8},"",null,{"$f":"IF($F50=N$1,1,\"\")","v":""},null,"",null,"",null,"",null,"",null,"",null,""]
[" BH - VT ohne AK",null,1,null,null,1,{"$nulls":5},"",null,"",null,"",null,"",null,"",null,"",null,"",null,""]
[" BH - VT bestanden",null,10,null,null,10,{"$nulls":5},"",null,"",null,"",null,"",null,"",null,"",null,"",null,""]
[" BH -VT nur Sachkunde",{"$nulls":10},"",null,"",null,"",null,"",null,"",null,"",null,"",null,""]
[null,null,"Gesamt",null,null,{"$f":"SUM(F49:F53)","v":11},{"$nulls":5},"",null,"",null,"",null,"",null,"",null,"",null,"",null,""]
[{"$nulls":11},"",null,"",null,"",null,"",null,"",null,"",null,"",null,""]
["Datum",null,"Verein",null,"LR 1",{"$nulls":6},"",null,"",null,"",null,"",null,"",null,"",null,"",null,"",null,null,null,"",{"$f":"IF($D56=AE$1,1,\"\")","v":""},"","","","","","","","","","","","",""]
[7,null,null,null,"LR 2",{"$nulls":6},"",null,"",null,"",null,"",null,"",null,"",null,"",null,""]
["Unbefangenheitsprüfung       Wesenstest",null,"Bestanden",{"$nulls":8},"",null,"",null,"",null,"",null,"",null,"",null,"",null,""]
[null,null,"nicht Bestanden",{"$nulls":8},"",null,"",null,"",null,"",null,"",null,"",null,"",null,""]
[" BH - VT ohne AK",{"$nulls":10},"",null,"",null,"",null,"",null,"",null,"",null,"",null,""]
[" BH - VT bestanden",{"$nulls":10},"",null,"",null,"",null,"",null,"",null,"",null,"",null,""]
[" BH -VT nur Sachkunde",{"$nulls":10},"",null,"",null,"",null,"",null,"",null,"",null,"",null,""]
[null,null,"Gesamt",null,null,{"$f":"SUM(F58:F62)","v":0},{"$nulls":5},"",null,"",null,"",null,"",null,"",null,"",null,"",null,""]
[{"$nulls":11},"",null,"",null,"",null,"",null,"",null,"",null,"",null,""]
["Datum",null,"Verein",null,"LR 1",{"$nulls":6},"",null,"",null,"",null,"",null,"",null,"",null,"",null,"",null,null,null,"","","","","","","","","","","","","","",""]
[8,null,null,null,"LR 2",{"$nulls":6},"",null,{"$f":"IF($F66=N$1,1,\"\")","v":""},null,"",null,"",null,"",null,"",null,"",null,""]
[{"$nulls":5},"Gesamt",{"$nulls":5},{"$f":"IF($F67=L$1,1,\"\")","v":""},null,"",null,"",null,"",null,"",null,"",null,"",null,""]
["Unbefangenheitsprüfung       Wesenstest",null,"Bestanden",{"$nulls":8},"",null,"",null,"",null,"",null,"",null,"",null,"",null,""]
[null,null,"nicht Bestanden",{"$nulls":8},"",null,"",null,"",null,"",null,"",null,"",null,"",null,""]
[" BH - VT ohne AK",{"$nulls":10},"",null,"",null,"",null,"",null,"",null,"",null,"",null,""]
[" BH - VT bestanden",{"$nulls":10},"",null,"",null,"",null,"",null,"",null,"",null,"",null,""]
[" BH -VT nur Sachkunde",{"$nulls":10},"",null,"",null,"",null,"",null,"",null,"",null,"",null,""]
[null,null,"Gesamt",null,null,{"$f":"SUM(F68:F72)","v":0},{"$nulls":5},"",null,"",null,"",null,"",null,"",null,"",null,"",null,""]
[{"$nulls":11},"",null,"",null,"",null,"",null,"",null,"",null,"",null,""]
["Datum",null,"Verein",null,"LR 1",{"$nulls":6},"",null,"",null,"",null,"",null,"",null,"",null,"",null,"",null,null,null,"",{"$f":"IF($D75=AE$1,1,\"\")","v":""},"","","","","","","","","","","","",""]
[9,null,null,null,"LR 2",{"$nulls":6},"",null,"",null,"",null,"",null,"",null,"",null,"",null,""]
["Unbefangenheitsprüfung       Wesenstest",null,"Bestanden",{"$nulls":8},"",null,"",null,"",null,"",null,"",null,"",null,"",null,""]
[null,null,"nicht Bestanden",{"$nulls":8},"",null,"",null,"",null,"",null,"",null,"",null,"",null,""]
[" BH - VT ohne AK",{"$nulls":10},"",null,"",null,"",null,"",null,"",null,"",null,"",null,""]
[" BH - VT bestanden",{"$nulls":10},"",null,"",null,"",null,"",null,"",null,"",null,"",null,""]
[" BH -VT nur Sachkunde",{"$nulls":10},"",null,"",null,"",null,"",null,"",null,"",null,"",null,""]
[null,null,"Gesamt",null,null,{"$f":"SUM(F77:F81)","v":0},{"$nulls":5},"",null,{"$f":"IF($F82=N$1,1,\"\")","v":""},null,"",null,"",null,"",null,"",null,"",null,""]
[{"$nulls":11},"",null,"",null,"",null,"",null,"",null,"",null,"",null,""]
["Datum",null,"Verein",null,"LR 1",{"$nulls":6},"",null,"",null,"",null,"",null,"",null,"",null,"",null,"",null,null,null,{"$f":"IF($D84=AD$1,1,\"\")","v":""},"","","","","","","","","","","","","",""]
[10,null,null,null,"LR 2",{"$nulls":6},"",null,"",null,"",null,"",null,"",null,"",null,"",null,""]
["Unbefangenheitsprüfung       Wesenstest",null,"Bestanden",{"$nulls":8},"",null,"",null,"",null,"",null,"",null,"",null,"",null,""]
[null,null,"nicht Bestanden",{"$nulls":8},"",null,"",null,"",null,"",null,"",null,"",null,"",null,""]
[" BH - VT ohne AK",{"$nulls":10},"",null,"",null,"",null,"",null,"",null,"",null,"",null,""]
[" BH - VT bestanden",{"$nulls":10},"",null,"",null,"",null,"",null,"",null,"",null,"",null,""]
[" BH -VT nur Sachkunde",{"$nulls":10},"",null,"",null,"",null,"",null,"",null,"",null,"",null,""]
[null,null,"Gesamt",null,null,{"$f":"SUM(F86:F90)","v":0},{"$nulls":5},"",null,"",null,"",null,"",null,"",null,"",null,"",null,""]
[{"$nulls":11},"",null,"",null,"",null,"",null,"",null,"",null,"",null,""]
["Datum",null,"Verein",null,"LR 1",{"$nulls":6},"",null,"",null,"",null,"",null,"",null,"",null,"",null,"",null,null,null,"",{"$f":"IF($D93=AE$1,1,\"\")","v":""},"","","","","","","","","","","","",""]
[11,null,null,null,"LR 2",{"$nulls":6},"",null,"",null,"",null,"",null,"",null,"",null,"",null,""]
["Unbefangenheitsprüfung       Wesenstest",null,"Bestanden",{"$nulls":8},"",null,"",null,"",null,"",null,"",null,"",null,"",null,""]
[null,null,"nicht Bestanden",{"$nulls":8},"",null,"",null,"",null,"",null,"",null,"",null,"",null,""]
[" BH - VT ohne AK",{"$nulls":10},"",null,"",null,"",null,"",null,"",null,"",null,"",null,""]
[" BH - VT bestanden",{"$nulls":10},"",null,{"$f":"IF($F98=N$1,1,\"\")","v":""},null,"",null,"",null,"",null,"",null,"",null,""]
[" BH -VT nur Sachkunde",{"$nulls":10},"",null,"",null,"",null,"",null,"",null,"",null,"",null,""]
[null,null,"Gesamt",null,null,{"$f":"SUM(F95:F99)","v":0},{"$nulls":5},"",null,"",null,"",null,"",null,"",null,"",null,"",null,""]
[{"$nulls":11},"",null,"",null,"",null,"",null,"",null,"",null,"",null,""]
["Datum",null,"Verein",null,"LR 1",{"$nulls":6},"",null,"",null,"",null,"",null,"",null,"",null,"",null,"",null,null,null,"","","","","","","","","","","","","","",""]
[12,null,null,null,"LR 2",{"$nulls":6},"",null,"",null,"",null,"",null,"",null,"",null,"",null,""]
["Unbefangenheitsprüfung       Wesenstest",null,"Bestanden",{"$nulls":8},"",null,"",null,"",null,"",null,"",null,"",null,"",null,""]
[null,null,"nicht Bestanden",{"$nulls":8},"",null,"",null,"",null,"",null,"",null,"",null,"",null,""]
[" BH - VT ohne AK",{"$nulls":10},"",null,"",null,"",null,"",null,"",null,"",null,"",null,""]
[" BH - VT bestanden",{"$nulls":10},"",null,"",null,"",null,"",null,"",null,"",null,"",null,""]
[" BH -VT nur Sachkunde",{"$nulls":10},"",null,"",null,"",null,"",null,"",null,"",null,"",null,""]
[null,null,"Gesamt",null,null,{"$f":"SUM(F104:F108)","v":0},{"$nulls":5},"",null,"",null,"",null,"",null,"",null,"",null,"",null,""]
[{"$nulls":11},"",null,"",null,"",null,"",null,"",null,"",null,"",null,""]
["Datum",null,"Verein",null,"LR 1",{"$nulls":6},"",null,"",null,"",null,"",null,"",null,"",null,"",null,"",null,null,null,{"$f":"IF($D111=AD$1,1,\"\")","v":""},{"$f":"IF($D111=AE$1,1,\"\")","v":""},"","","","","","","","","","","","",""]
[13,null,null,null,"LR 2",{"$nulls":6},"",null,"",null,"",null,"",null,"",null,"",null,"",null,""]
["Unbefangenheitsprüfung       Wesenstest",null,"Bestanden",{"$nulls":8},"",null,"",null,"",null,"",null,"",null,"",null,"",null,""]
[null,null,"nicht Bestanden",{"$nulls":8},"",null,{"$f":"IF($F114=N$1,1,\"\")","v":""},null,"",null,"",null,"",null,"",null,"",null,""]
[" BH - VT ohne AK",{"$nulls":10},"",null,"",null,"",null,"",null,"",null,"",null,"",null,""]
[" BH - VT bestanden",{"$nulls":10},"",null,"",null,"",null,"",null,"",null,"",null,"",null,""]
[" BH -VT nur Sachkunde",{"$nulls":10},"",null,"",null,"",null,"",null,"",null,"",null,"",null,""]
[null,null,"Gesamt",null,null,{"$f":"SUM(F113:F117)","v":0},{"$nulls":5},"",null,"",null,"",null,"",null,"",null,"",null,"",null,""]
[{"$nulls":11},"",null,"",null,"",null,"",null,"",null,"",null,"",null,""]
["Datum",null,"Verein",null,"LR 1",{"$nulls":6},"",null,"",null,"",null,"",null,"",null,"",null,"",null,"",null,null,null,{"$f":"IF($D120=AD$1,1,\"\")","v":""},"","","","","","","","","","","","","",""]
[14,null,null,null,"LR 2",{"$nulls":6},"",null,"",null,"",null,"",null,"",null,"",null,"",null,""]
["Unbefangenheitsprüfung       Wesenstest",null,"Bestanden",{"$nulls":8},"",null,"",null,"",null,"",null,"",null,"",null,"",null,""]
[null,null,"nicht Bestanden",{"$nulls":8},"",null,"",null,"",null,"",null,"",null,"",null,"",null,""]
[" BH - VT ohne AK",{"$nulls":10},"",null,"",null,"",null,"",null,"",null,"",null,"",null,""]
[" BH - VT bestanden",{"$nulls":10},"",null,"",null,"",null,"",null,"",null,"",null,"",null,""]
[" BH -VT nur Sachkunde",{"$nulls":10},"",null,"",null,"",null,"",null,"",null,"",null,"",null,""]
[null,null,"Gesamt",null,null,{"$f":"SUM(F122:F126)","v":0},{"$nulls":5},"",null,"",null,"",null,"",null,"",null,"",null,"",null,""]
[{"$nulls":11},"",null,"",null,"",null,"",null,"",null,"",null,"",null,""]
["Datum",null,"Verein",null,"LR 1",{"$nulls":6},"",null,"",null,"",null,"",null,"",null,"",null,"",null,"",null,null,null,"","","","","","","","","","","","","","",""]
[15,null,null,null,"LR 2",{"$nulls":6},"",null,{"$f":"IF($F130=N$1,1,\"\")","v":""},null,"",null,"",null,"",null,"",null,"",null,"",null,null,null,"","","","","","","","","","","","","","",""]
["Unbefangenheitsprüfung       Wesenstest",null,"Bestanden",{"$nulls":8},{"$f":"IF($F131=L$1,1,\"\")","v":""},null,"",null,"",null,"",null,"",null,"",null,"",null,"",null,null,null,"","","","","","","","","","","","","","",""]
[null,null,"nicht Bestanden",{"$nulls":8},"",null,"",null,"",null,"",null,"",null,"",null,"",null,"",null,null,null,"","","","","","","","","","","","","","",""]
[" BH - VT ohne AK",{"$nulls":10},"",null,"",null,"",null,"",null,"",null,"",null,"",null,"",null,null,null,"","","","","","","","","","","","","","",""]
[" BH - VT bestanden",{"$nulls":10},"",null,"",null,"",null,"",null,"",null,"",null,"",null,"",null,null,null,"","","","","","","","","","","","","","",""]
[" BH -VT nur Sachkunde",{"$nulls":10},"",null,"",null,"",null,"",null,"",null,"",null,"",null,"",null,null,null,"","","","","","","","","","","","","","",""]
[null,null,"Gesamt",null,null,{"$f":"SUM(F131:F135)","v":0},{"$nulls":5},"",null,"",null,"",null,"",null,"",null,"",null,"",null,"",null,null,null,"","","","","","","","","","","","","","",""]
[{"$nulls":11},"",null,"",null,"",null,"",null,"",null,"",null,"",null,"",null,null,null,"","","","","","","","","","","","","","",""]
["Datum",null,"Verein",null,"LR 1",{"$nulls":6},"",null,"",null,"",null,"",null,"",null,"",null,"",null,"",null,null,null,"","","","","","","","","","","","","","",""]
[16,null,null,null,"LR 2",{"$nulls":6},"",null,"",null,"",null,"",null,"",null,"",null,"",null,"",null,null,null,"","","","","","","","","","","","","","",""]
["Unbefangenheitsprüfung       Wesenstest",null,"Bestanden",{"$nulls":8},"",null,"",null,"",null,"",null,"",null,"",null,"",null,"",null,null,null,"","","","","","","","","","","","","","",""]
[null,null,"nicht Bestanden",{"$nulls":8},"",null,"",null,"",null,"",null,"",null,"",null,"",null,"",null,null,null,"","","","","","","","","","","","","","",""]
[" BH - VT ohne AK",{"$nulls":10},"",null,"",null,"",null,"",null,"",null,"",null,"",null,"",null,null,null,{"$f":"IF($D142=AD$1,1,\"\")","v":""},"","","","","","","","","","","","","",""]
[" BH - VT bestanden",{"$nulls":10},"",null,"",null,"",null,"",null,"",null,"",null,"",null,"",null,null,null,"","","","","","","","","","","","","","",""]
[" BH -VT nur Sachkunde",{"$nulls":10},"",null,"",null,"",null,"",null,"",null,"",null,"",null,"",null,null,null,"","","","","","","","","","","","","","",""]
[null,null,"Gesamt",null,null,{"$f":"SUM(F140:F144)","v":0},{"$nulls":5},"",null,"",null,"",null,"",null,"",null,"",null,"",null,"",null,null,null,"","","","","","","","","","","","","","",""]
[{"$nulls":11},"",null,{"$f":"IF($F146=N$1,1,\"\")","v":""},null,"",null,"",null,"",null,"",null,"",null,"",null,null,null,"","","","","","","","","","","","","","",""]
["Datum",null,"Verein",null,"LR 1",{"$nulls":6},"",null,"",null,"",null,"",null,"",null,"",null,"",null,"",null,null,null,"","","","","","","","","","","","","","",""]
[17,null,null,null,"LR 2",{"$nulls":6},"",null,"",null,"",null,"",null,"",null,"",null,"",null,"",null,null,null,"","","","","","","","","","","","","","",""]
["Unbefangenheitsprüfung       Wesenstest",null,"Bestanden",{"$nulls":8},"",null,"",null,"",null,"",null,"",null,"",null,"",null,"",null,null,null,"","","","","","","","","","","","","","",""]
[null,null,"nicht Bestanden",{"$nulls":8},"",null,"",null,"",null,"",null,"",null,"",null,"",null,"",null,null,null,"","","","","","","","","","","","","","",""]
[" BH - VT ohne AK",{"$nulls":10},"",null,"",null,"",null,"",null,"",null,"",null,"",null,"",null,null,null,"","","","","","","","","","","","","","",""]
[" BH - VT bestanden",{"$nulls":10},"",null,"",null,"",null,"",null,"",null,"",null,"",null,"",null,null,null,"","","","","","","","","","","","","","",""]
[" BH -VT nur Sachkunde",{"$nulls":10},"",null,"",null,"",null,"",null,"",null,"",null,"",null,"",null,null,null,"","","","","","","","","","","","","","",""]
[null,null,"Gesamt",null,null,{"$f":"SUM(F149:F153)","v":0},{"$nulls":5},"",null,"",null,"",null,"",null,"",null,"",null,"",null,"",null,null,null,"","","","","","","","","","","","","","",""]
[{"$nulls":11},"",null,"",null,"",null,"",null,"",null,"",null,"",null,"",null,null,null,"","","","","","","","","","","","","","",""]
["Datum",null,"Verein",null,"LR 1",{"$nulls":6},"",null,"",null,"",null,"",null,"",null,"",null,"",null,"",null,null,null,"","","","","","","","","","","","","","",""]
[18,null,null,null,"LR 2",{"$nulls":6},"",null,"",null,"",null,"",null,"",null,"",null,"",null,"",null,null,null,"","","","","","","","","","","","","","",""]
["Unbefangenheitsprüfung       Wesenstest",null,"Bestanden",{"$nulls":8},"",null,"",null,"",null,"",null,"",null,"",null,"",null,"",null,null,null,{"$f":"IF($D158=AD$1,1,\"\")","v":""},{"$f":"IF($D158=AE$1,1,\"\")","v":""},"","","","","","","","","","","","",""]
[null,null,"nicht Bestanden",{"$nulls":8},"",null,"",null,"",null,"",null,"",null,"",null,"",null,"",null,null,null,"","","","","","","","","","","","","","",""]
[" BH - VT ohne AK",{"$nulls":10},"",null,"",null,"",null,"",null,"",null,"",null,"",null,"",null,null,null,"","","","","","","","","","","","","","",""]
[" BH - VT bestanden",{"$nulls":10},"",null,"",null,"",null,"",null,"",null,"",null,"",null,"",null,null,null,"","","","","","","","","","","","","","",""]
[" BH -VT nur Sachkunde",{"$nulls":10},"",null,{"$f":"IF($F162=N$1,1,\"\")","v":""},null,"",null,"",null,"",null,"",null,"",null,"",null,null,null,"","","","","","","","","","","","","","",""]
[null,null,"Gesamt",null,null,{"$f":"SUM(F158:F162)","v":0},{"$nulls":5},"",null,"",null,"",null,"",null,"",null,"",null,"",null,"",null,null,null,"","","","","","","","","","","","","","",""]
[{"$nulls":11},"",null,"",null,"",null,"",null,"",null,"",null,"",null,"",null,null,null,"","","","","","","","","","","","","","",""]
["Datum",null,"Verein",null,"LR 1",{"$nulls":6},"",null,"",null,"",null,"",null,"",null,"",null,"",null,"",null,null,null,"","","","","","","","","","","","","","",""]
[19,null,null,null,"LR 2",{"$nulls":6},"",null,"",null,"",null,"",null,"",null,"",null,"",null,"",null,null,null,"","","","","","","","","","","","","","",""]
["Unbefangenheitsprüfung       Wesenstest",null,"Bestanden",{"$nulls":8},"",null,"",null,"",null,"",null,"",null,"",null,"",null,"",null,null,null,"","","","","","","","","","","","","","",""]
[null,null,"nicht Bestanden",{"$nulls":8},"",null,"",null,"",null,"",null,"",null,"",null,"",null,"",null,null,null,"","","","","","","","","","","","","","",""]
[" BH - VT ohne AK",{"$nulls":10},"",null,"",null,"",null,"",null,"",null,"",null,"",null,"",null,null,null,"","","","","","","","","","","","","","",""]
[" BH - VT bestanden",{"$nulls":10},"",null,"",null,"",null,"",null,"",null,"",null,"",null,"",null,null,null,"","","","","","","","","","","","","","",""]
[" BH -VT nur Sachkunde",{"$nulls":10},"",null,"",null,"",null,"",null,"",null,"",null,"",null,"",null,null,null,"","","","","","","","","","","","","","",""]
[null,null,"Gesamt",null,null,{"$f":"SUM(F167:F171)","v":0},{"$nulls":5},"",null,"",null,"",null,"",null,"",null,"",null,"",null,"",null,null,null,"","","","","","","","","","","","","","",""]
[{"$nulls":11},"",null,"",null,"",null,"",null,"",null,"",null,"",null,"",null,null,null,"","","","","","","","","","","","","","",""]
["Datum",null,"Verein",null,"LR 1",{"$nulls":6},"",null,"",null,"",null,"",null,"",null,"",null,"",null,"",null,null,null,"","","","","","","","","","","","","","",""]
[20,null,null,null,"LR 2",{"$nulls":6},"",null,"",null,"",null,"",null,"",null,"",null,"",null,"",null,null,null,"",{"$f":"IF($D175=AE$1,1,\"\")","v":""},"","","","","","","","","","","","",""]
["Unbefangenheitsprüfung       Wesenstest",null,"Bestanden",{"$nulls":8},"",null,"",null,"",null,"",null,"",null,"",null,"",null,"",null,null,null,"","","","","","","","","","","","","","",""]
[null,null,"nicht Bestanden",{"$nulls":8},"",null,"",null,"",null,"",null,"",null,"",null,"",null,"",null,null,null,"","","","","","","","","","","","","","",""]
[" BH - VT ohne AK",{"$nulls":10},"",null,{"$f":"IF($F178=N$1,1,\"\")","v":""},null,"",null,"",null,"",null,"",null,"",null,"",null,null,null,"","","","","","","","","","","","","","",""]
[" BH - VT bestanden",{"$nulls":10},"",null,"",null,"",null,"",null,"",null,"",null,"",null,"",null,null,null,"","","","","","","","","","","","","","",""]
[" BH -VT nur Sachkunde",{"$nulls":10},"",null,"",null,"",null,"",null,"",null,"",null,"",null,"",null,null,null,"","","","","","","","","","","","","","",""]
[null,null,"Gesamt",null,null,{"$f":"SUM(F176:F180)","v":0},{"$nulls":5},"",null,"",null,"",null,"",null,"",null,"",null,"",null,"",null,null,null,"","","","","","","","","","","","","","",""]
[{"$nulls":11},"",null,"",null,"",null,"",null,"",null,"",null,"",null,"",null,null,null,"","","","","","","","","","","","","","",""]
["Gesamtergebnis BH - VT",{"$nulls":7},"Gesamt",null,null,{"$f":"SUM(L2:L182)","v":1},null,{"$f":"SUM(N2:N182)","v":0},null,{"$f":"SUM(P2:P182)","v":0},null,{"$f":"SUM(R2:R182)","v":1},null,{"$f":"SUM(T2:T182)","v":3},null,{"$f":"SUM(V2:V182)","v":0},null,{"$f":"SUM(X2:X182)","v":1},null,{"$f":"SUM(Z2:Z182)","v":0},null,null,null,0,0,0,0,0,0,0,2,0,1,0,0,0,0,0,0]
["Unbefangenheitsprüfung       Wesenstest",null,"Bestanden",null,null,{"$f":"F4+F13+F22+F31+F40+F49+F58+F68+F77+F86+F95+F104+F113+F122+F131+F140+F149+F158+F167+F176","v":0}]
[null,null,"nicht Bestanden",null,null,{"$f":"F5+F14+F23+F32+F41+F50+F59+F69+F78+F87+F96+F105+F114+F123+F132+F141+F150+F159+F168+F177","v":0}]
[" BH - VT ohne AK",{"$nulls":4},8]
[" BH - VT bestanden",{"$nulls":4},58]
[" BH -VT nur Sachkunde",{"$nulls":4},0]
[null,null,"Gesamt",null,null,{"$f":"SUM(F184:F188)","v":66}]

{"sheet":"Listen","index":3,"n_rows":23,"n_cols":4,"rows_kept":23,"cut":false,"hidden":false,"merged":[]}
[null,"Leistungsrichter",null,"Vereine"]
[null,"Bormann, Aloys",null,"GHV Hildesheim"]
[null,"Geber, Harald",null,"SGSV Langelsheim"]
[null,"Gensrich, Michael",null,"HSV Bockenem"]
[null,"Lausch, Christian",null,"HC Lachtetal"]
[null,"Grünig, Rainer",null,"PHV Laatzen"]
[null,"Sprenger, Beate",null,"PHV Hameln"]
[null,"Volkmann, Claudia",null,"PHV Hambühren"]
[null,"Fiedler",null,"PHV Misburg"]
[null,null,null,"PHV Göttingen"]
[null,null,null,"Hundefreunde Göttingen"]
[null,null,null,"PHV Hannover"]
[null,null,null,"HSV Velstove"]
[null,null,null,"VdH Lindhorst"]
[null,null,null,"MV Schöningen"]
[null,null,null,"HSV Osterode"]
[null,null,null,"1. PHV Goslar"]
[null,null,null,"HSV Springe"]
[null,null,null,"GHS Wolfsburg"]
[null,null,null,"SfG Visselhövede"]
[null,null,null,"HSV Exten"]
[null,null,null,"VdH Celle"]
[null,null,null,"SfG Visselhövede"]