{"text_format":"2","workbook":"xlsx","n_sheets":4,"sheets":["Statistik","Turniere","BH_VT","Listen"],"not_rendered":{"charts":0,"images":0,"macros":0,"external_links":0,"defined_names":1,"comments":0,"pivot_tables":0},"unopened":[],"bounds":{"document_bytes":16777216,"sheet_cells":100000,"run_cost":"one","rows_first":2000,"rows_last":500,"rows_between":2000,"halvings":0,"cell_chars":16384,"cell_head_chars":4096},"cells_cut":0,"cells_raw":0,"read":"whole","date_system":"1900"}

{"sheet":"Statistik","index":0,"n_rows":46,"n_cols":25,"rows_kept":46,"cut":false,"hidden":false,"merged":[[44,9,45,9],[42,0,42,1],[43,0,43,1],[45,0,45,1],[44,7,45,7],[27,0,28,7],[38,0,39,7],[36,3,36,7],[25,0,25,1],[22,0,23,0],[35,0,35,2],[20,0,21,0],[14,0,15,0],[12,0,13,0],[18,0,19,0],[16,0,17,0],[10,0,11,0],[8,0,9,0],[2,0,2,1],[3,0,3,1],[0,0,0,7],[1,0,1,1],[6,0,7,0],[4,0,5,0],[18,10,18,12],[0,20,0,23],[12,10,12,12],[12,15,12,17],[13,10,13,12],[14,10,14,12],[15,10,15,12],[0,10,0,19],[1,10,1,11],[0,24,1,24],[10,10,10,18],[11,10,11,18],[16,10,16,12],[17,10,17,12]]}
["Turnierhundsport Statistik 2019",{"$nulls":9},"Leistungsrichter Einsatz THS",{"$nulls":9},"BH - VT",null,null,null,"Gesamt\nEinsatz"]
["Disziplin  ",null,"Jugend-  \nklasse  \n(bis 18 J.)  ","Aktiven-  \nklasse  \n(19-49 J.)  ","Senioren-  \nklasse  \n(ab 50 J.)  ","PARA  \nStarter  ",null,"Summe  ",null,null,"Name",null,null,"LR 1",null,"LR 2",null,"LR 3",null,"Summe","LR 1",null,"LR 2","Summe"]
["Vorprüfung Teil A  ",null,{"$f":"IF(Turniere!B305=\"\",\"\",Turniere!B305)","v":3},{"$f":"IF(Turniere!B306=\"\",\"\",Turniere!B306)","v":19},{"$f":"IF(Turniere!B307=\"\",\"\",Turniere!B307)","v":4},{"$f":"IF(Turniere!B308=\"\",\"\",Turniere!B308)","v":0},null,{"$f":"SUM(C3:F3)","v":26},null,null,"Bormann, Aloys",null,null,{"$f":"Turniere!AE305","v":0},null,{"$f":"Turniere!AG305","v":0},null,{"$f":"Turniere!AI305","v":0},null,{"$f":"N3+P3+R3","v":0},{"$f":"BH_VT!M214","v":0},null,{"$f":"BH_VT!N214","v":0},{"$f":"U3+W3","v":0},{"$f":"T3+X3","v":0}]
["Vorprüfung Teil B  ",null,{"$f":"IF(Turniere!C305=\"\",\"\",Turniere!C305)","v":2},{"$f":"IF(Turniere!C306=\"\",\"\",Turniere!C306)","v":3},{"$f":"IF(Turniere!C307=\"\",\"\",Turniere!C307)","v":1},{"$f":"IF(Turniere!C308=\"\",\"\",Turniere!C308)","v":0},null,{"$f":"SUM(C4:F4)","v":6},null,null,"Geber, Harald",null,null,{"$f":"Turniere!AE306","v":0},null,{"$f":"Turniere!AG306","v":0},null,{"$f":"Turniere!AI306","v":0},null,{"$f":"N4+P4+R4","v":0},{"$f":"BH_VT!M215","v":0},null,{"$f":"BH_VT!N215","v":0},{"$f":"U4+W4","v":0},{"$f":"T4+X4","v":0}]
["Vierkampf\n  1-3  ","männlich  ",{"$f":"IF(Turniere!E$305=\"\",\"\",Turniere!E$305)","v":1},{"$f":"IF(Turniere!E306=\"\",\"\",Turniere!E306)","v":18},{"$f":"IF(Turniere!E307=\"\",\"\",Turniere!E307)","v":29},{"$f":"IF(Turniere!E308=\"\",\"\",Turniere!E308)","v":0},null,{"$f":"SUM(C5:F5)","v":48},null,null,"Gensrich, Michael",null,null,{"$f":"Turniere!AE307","v":0},null,{"$f":"Turniere!AG307","v":0},null,{"$f":"Turniere!AI307","v":0},null,0,{"$f":"BH_VT!M216","v":0},null,{"$f":"BH_VT!N216","v":0},0,{"$f":"T5+X5","v":0}]
[null,"weiblich  ",{"$f":"IF(Turniere!F305=\"\",\"\",Turniere!F305)","v":6},{"$f":"IF(Turniere!F306=\"\",\"\",Turniere!F306)","v":56},{"$f":"IF(Turniere!F307=\"\",\"\",Turniere!F307)","v":38},{"$f":"IF(Turniere!F308=\"\",\"\",Turniere!F308)","v":0},null,100,null,null,"Grünig, Rainer",null,null,{"$f":"Turniere!AE308","v":0},null,{"$f":"Turniere!AG308","v":0},null,{"$f":"Turniere!AI308","v":0},null,0,{"$f":"BH_VT!M217","v":0},null,{"$f":"BH_VT!N217","v":0},0,{"$f":"T6+X6","v":0}]
["CSC  ","männlich  ",{"$f":"IF(Turniere!G$305=\"\",\"\",Turniere!G$305)","v":0},{"$f":"IF(Turniere!$G306=\"\",\"\",Turniere!$G306)","v":7},{"$f":"IF(Turniere!$G307=\"\",\"\",Turniere!$G307)","v":11},{"$f":"IF(Turniere!$G308=\"\",\"\",Turniere!$G308)","v":0},null,18,null,null,"Lausch, Christian",null,null,{"$f":"Turniere!AE309","v":0},null,{"$f":"Turniere!AG309","v":0},null,{"$f":"Turniere!AI309","v":0},null,0,{"$f":"BH_VT!M218","v":0},null,{"$f":"BH_VT!N218","v":0},0,0]
[null,"weiblich  ",{"$f":"IF(Turniere!H305=\"\",\"\",Turniere!H305)","v":5},{"$f":"IF(Turniere!H306=\"\",\"\",Turniere!H306)","v":30},{"$f":"IF(Turniere!H307=\"\",\"\",Turniere!H307)","v":19},{"$f":"IF(Turniere!H308=\"\",\"\",Turniere!H308)","v":0},null,54,null,null,"Sprenger, Beate",null,null,{"$f":"Turniere!AE310","v":0},null,{"$f":"Turniere!AG310","v":0},null,{"$f":"Turniere!AI310","v":0},null,0,{"$f":"BH_VT!M219","v":0},null,{"$f":"BH_VT!N219","v":0},0,0]
["GL THS\n1 / 2 / 5 KM","männlich  ",{"$f":"IF(Turniere!I305=\"\",\"\",Turniere!I305)","v":1},{"$f":"IF(Turniere!I306=\"\",\"\",Turniere!I306)","v":24},{"$f":"IF(Turniere!I307=\"\",\"\",Turniere!I307)","v":4},{"$f":"IF(Turniere!I308=\"\",\"\",Turniere!I308)","v":0},null,29,null,null,"Volkmann, Claudia",null,null,{"$f":"Turniere!AE311","v":0},null,{"$f":"Turniere!AG311","v":0},null,{"$f":"Turniere!AI311","v":0},null,0,{"$f":"BH_VT!M220","v":0},null,{"$f":"BH_VT!N220","v":0},0,0]
[null,"weiblich  ",{"$f":"IF(Turniere!J305=\"\",\"\",Turniere!J305)","v":3},{"$f":"IF(Turniere!J306=\"\",\"\",Turniere!J306)","v":35},{"$f":"IF(Turniere!J307=\"\",\"\",Turniere!J307)","v":8},{"$f":"IF(Turniere!J308=\"\",\"\",Turniere!J308)","v":0},null,46,{"$nulls":9},"Gesamt",null,{"$f":"T3+T4+T5+T6+T7+T8+T9","v":0},null,null,"Gesamt",{"$f":"X3+X4+X5+X6+X7+X8+X9","v":0},{"$f":"T10+X10","v":0}]
["CaniCross  ","männlich  ",{"$f":"IF(Turniere!K305=\"\",\"\",Turniere!K305)","v":2},{"$f":"IF(Turniere!K306=\"\",\"\",Turniere!K306)","v":8},{"$f":"IF(Turniere!K307=\"\",\"\",Turniere!K307)","v":2},{"$f":"IF(Turniere!K308=\"\",\"\",Turniere!K308)","v":0},null,12]
[null,"weiblich  ",{"$f":"IF(Turniere!L305=\"\",\"\",Turniere!L305)","v":1},{"$f":"IF(Turniere!L306=\"\",\"\",Turniere!L306)","v":16},{"$f":"IF(Turniere!L307=\"\",\"\",Turniere!L307)","v":2},{"$f":"IF(Turniere!L308=\"\",\"\",Turniere!L308)","v":0},null,19]
["Bikejöring  ","männlich  ",{"$f":"IF(Turniere!M305=\"\",\"\",Turniere!M305)","v":0},{"$f":"IF(Turniere!M306=\"\",\"\",Turniere!M306)","v":7},{"$f":"IF(Turniere!M307=\"\",\"\",Turniere!M307)","v":0},{"$f":"IF(Turniere!M308=\"\",\"\",Turniere!M308)","v":0},null,7]
[null,"weiblich  ",{"$f":"IF(Turniere!N305=\"\",\"\",Turniere!N305)","v":0},{"$f":"IF(Turniere!N306=\"\",\"\",Turniere!N306)","v":7},{"$f":"IF(Turniere!N307=\"\",\"\",Turniere!N307)","v":1},{"$f":"IF(Turniere!N308=\"\",\"\",Turniere!N308)","v":0},null,8]
["DogScooter  ","männlich  ",{"$f":"IF(Turniere!O305=\"\",\"\",Turniere!O305)","v":0},{"$f":"IF(Turniere!O306=\"\",\"\",Turniere!O306)","v":2},{"$f":"IF(Turniere!O307=\"\",\"\",Turniere!O307)","v":4},{"$f":"IF(Turniere!O308=\"\",\"\",Turniere!O308)","v":0},null,6]
[null,"weiblich  ",{"$f":"IF(Turniere!P305=\"\",\"\",Turniere!P305)","v":0},{"$f":"IF(Turniere!P306=\"\",\"\",Turniere!P306)","v":6},{"$f":"IF(Turniere!P307=\"\",\"\",Turniere!P307)","v":6},{"$f":"IF(Turniere!P308=\"\",\"\",Turniere!P308)","v":0},null,12]
["Hindernislauf  ","männlich  ",{"$f":"IF(Turniere!Q305=\"\",\"\",Turniere!Q305)","v":1},{"$f":"IF(Turniere!Q306=\"\",\"\",Turniere!Q306)","v":13},{"$f":"IF(Turniere!Q307=\"\",\"\",Turniere!Q307)","v":11},{"$f":"IF(Turniere!Q308=\"\",\"\",Turniere!Q308)","v":0},null,25]
[null,"weiblich  ",{"$f":"IF(Turniere!R305=\"\",\"\",Turniere!R305)","v":4},{"$f":"IF(Turniere!R306=\"\",\"\",Turniere!R306)","v":23},{"$f":"IF(Turniere!R307=\"\",\"\",Turniere!R307)","v":18},{"$f":"IF(Turniere!R308=\"\",\"\",Turniere!R308)","v":0},null,45]
["Dreikampf\n1-3  ","männlich  ",{"$f":"IF(Turniere!S305=\"\",\"\",Turniere!S305)","v":0},{"$f":"IF(Turniere!S306=\"\",\"\",Turniere!S306)","v":4},{"$f":"IF(Turniere!S307=\"\",\"\",Turniere!S307)","v":10},{"$f":"IF(Turniere!S308=\"\",\"\",Turniere!S308)","v":0},null,14]
[null,"weiblich  ",{"$f":"IF(Turniere!T305=\"\",\"\",Turniere!T305)","v":8},{"$f":"IF(Turniere!T306=\"\",\"\",Turniere!T306)","v":29},{"$f":"IF(Turniere!T307=\"\",\"\",Turniere!T307)","v":29},{"$f":"IF(Turniere!T308=\"\",\"\",Turniere!T308)","v":0},null,66]
["K.O.Cup  ","männlich  ",{"$f":"IF(Turniere!U305=\"\",\"\",Turniere!U305)","v":2},{"$f":"IF(Turniere!U306=\"\",\"\",Turniere!U306)","v":6},{"$f":"IF(Turniere!U307=\"\",\"\",Turniere!U307)","v":9},{"$f":"IF(Turniere!U308=\"\",\"\",Turniere!U308)","v":0},null,17]
[null,"weiblich  ",{"$f":"IF(Turniere!V305=\"\",\"\",Turniere!V305)","v":1},{"$f":"IF(Turniere!V306=\"\",\"\",Turniere!V306)","v":26},{"$f":"IF(Turniere!V307=\"\",\"\",Turniere!V307)","v":8},{"$f":"IF(Turniere!V308=\"\",\"\",Turniere!V308)","v":0},null,35]
["Shorty  ","männlich  ",{"$f":"IF(Turniere!W305=\"\",\"\",Turniere!W305)","v":0},{"$f":"IF(Turniere!W306=\"\",\"\",Turniere!W306)","v":10},{"$f":"IF(Turniere!W307=\"\",\"\",Turniere!W307)","v":20},{"$f":"IF(Turniere!W308=\"\",\"\",Turniere!W308)","v":0},null,30]
[null,"weiblich  ",{"$f":"IF(Turniere!X305=\"\",\"\",Turniere!X305)","v":12},{"$f":"IF(Turniere!X306=\"\",\"\",Turniere!X306)","v":50},{"$f":"IF(Turniere!X307=\"\",\"\",Turniere!X307)","v":48},{"$f":"IF(Turniere!X308=\"\",\"\",Turniere!X308)","v":0},null,110]
[]
["Gesamt  ",null,{"$f":"SUM(C3:C24)","v":52},{"$f":"SUM(D3:D24)","v":399},282,0,null,{"$f":"SUM(H3:H24)","v":733},{"$f":"SUM(C26:F26)","v":733}]
[]
["Statistik Begleithundprüfung & Vorprüfung THS"]
[]
[null,null,null,"Jugend\nbis 18 J.","Aktive\n19 - 49 J.","Senioren\nab 50 J.",null,"PARA"]
[" BH - VT ohne AK",{"$f":"BH_VT!D224","v":7}]
[null,null,"Teil A",{"$f":"BH_VT!F225","v":1},{"$f":"BH_VT!G225","v":4},{"$f":"BH_VT!H225","v":1},null,{"$f":"BH_VT!I225","v":0}]
[" BH - VT bestanden",{"$f":"BH_VT!D226","v":42},"Teil B",{"$f":"BH_VT!F226","v":0},{"$f":"BH_VT!G226","v":2},{"$f":"BH_VT!H226","v":1},null,{"$f":"BH_VT!I226","v":0}]
[]
[" BH -VT nur Sachkunde",{"$f":"BH_VT!D217","v":0},"Summe",{"$f":"D32+D33","v":1},{"$f":"E32+E33","v":6},2,0,0]
[]
["Gesamt",{"$f":"B31+B33+B35","v":49},"Gesamt",{"$f":"D35+E35+F35+H35","v":9}]
[]
["Gesamt Vorprüfung THS  / BH - Vt"]
[]
[null,null,"Jugend\nbis 18 J.","Aktive\n19 - 49 J.","Senioren\nab 50 J.","PARA",null,"Gesamt"]
[]
["Teil A",null,{"$f":"SUM(D32+C3)","v":4},{"$f":"E32+D3","v":23},{"$f":"F32+E3","v":5},{"$f":"H32+F3","v":0},null,{"$f":"C43+D43+E43+F43","v":32}]
["Teil B",null,{"$f":"D33+C4","v":2},{"$f":"E33+D4","v":5},{"$f":"F33+E4","v":2},{"$f":"H33+F4","v":0},null,{"$f":"C44+D44+E44+F44","v":9}]
[{"$nulls":7},{"$f":"H43+H44","v":41},null,{"$f":"C46+D46+E46+F46","v":41}]
["Gesamt",null,{"$f":"C43+C44","v":6},{"$f":"D43+D44","v":28},7,0]

{"sheet":"Turniere","index":1,"n_rows":311,"n_cols":38,"rows_kept":311,"cut":false,"hidden":false,"merged":[[271,10,272,11],[240,1,240,2],[280,18,280,21],[280,23,280,26],[290,1,290,2],[290,4,290,5],[290,6,290,11],[290,13,290,16],[290,18,290,21],[290,23,290,26],[260,18,260,21],[260,23,260,26],[270,1,270,2],[270,4,270,5],[270,6,270,11],[270,13,270,16],[270,18,270,21],[270,23,270,26],[271,22,272,23],[271,24,272,25],[271,26,273,26],[280,1,280,2],[280,4,280,5],[280,6,280,11],[280,13,280,16],[200,1,200,2],[240,18,240,21],[240,23,240,26],[250,1,250,2],[250,4,250,5],[250,6,250,11],[250,13,250,16],[250,18,250,21],[250,23,250,26],[220,18,220,21],[220,23,220,26],[230,1,230,2],[230,4,230,5],[230,6,230,11],[230,13,230,16],[230,18,230,21],[230,23,230,26],[241,24,242,25],[241,26,243,26],[241,20,242,21],[241,22,242,23],[231,22,232,23],[231,24,232,25],[200,23,200,26],[210,1,210,2],[210,4,210,5],[210,6,210,11],[210,13,210,16],[210,18,210,21],[210,23,210,26],[180,18,180,21],[180,23,180,26],[190,1,190,2],[190,4,190,5],[190,6,190,11],[190,13,190,16],[190,18,190,21],[190,23,190,26],[201,24,202,25],[201,26,203,26],[201,20,202,21],[201,22,202,23],[191,22,192,23],[191,24,192,25],[200,6,200,11],[200,13,200,16],[191,14,192,15],[160,23,160,26],[170,1,170,2],[170,4,170,5],[170,6,170,11],[170,13,170,16],[170,18,170,21],[170,23,170,26],[140,18,140,21],[140,23,140,26],[150,1,150,2],[150,4,150,5],[150,6,150,11],[150,13,150,16],[150,18,150,21],[150,23,150,26],[161,24,162,25],[161,26,163,26],[161,20,162,21],[161,22,162,23],[151,22,152,23],[151,24,152,25],[160,1,160,2],[160,6,160,11],[160,13,160,16],[120,23,120,26],[130,1,130,2],[130,4,130,5],[130,6,130,11],[130,13,130,16],[130,18,130,21],[130,23,130,26],[100,18,100,21],[100,23,100,26],[110,1,110,2],[110,4,110,5],[110,6,110,11],[110,13,110,16],[110,18,110,21],[110,23,110,26],[121,24,122,25],[121,26,123,26],[121,20,122,21],[121,22,122,23],[111,22,112,23],[111,24,112,25],[120,1,120,2],[120,6,120,11],[120,13,120,16],[80,23,80,26],[90,1,90,2],[90,4,90,5],[90,6,90,11],[90,13,90,16],[90,18,90,21],[90,23,90,26],[60,18,60,21],[60,23,60,26],[70,1,70,2],[70,4,70,5],[70,6,70,11],[70,13,70,16],[70,18,70,21],[70,23,70,26],[81,24,82,25],[81,26,83,26],[81,20,82,21],[81,22,82,23],[71,22,72,23],[71,24,72,25],[80,1,80,2],[80,6,80,11],[80,13,80,16],[50,23,50,26],[30,1,30,2],[30,4,30,5],[30,6,30,11],[30,13,30,16],[30,18,30,21],[30,23,30,26],[41,24,42,25],[41,26,43,26],[41,20,42,21],[41,22,42,23],[31,22,32,23],[31,24,32,25],[31,26,33,26],[40,1,40,2],[40,4,40,5],[40,6,40,11],[41,12,42,13],[41,14,42,15],[41,16,42,17],[41,18,42,19],[50,13,50,16],[40,13,40,16],[50,18,50,21],[0,13,0,16],[0,18,0,21],[0,23,0,26],[10,1,10,2],[10,4,10,5],[10,6,10,11],[10,13,10,16],[10,18,10,21],[10,23,10,26],[1,24,2,25],[1,26,3,26],[1,4,2,5],[1,6,2,7],[1,8,2,9],[1,10,2,11],[1,12,2,13],[1,20,2,21],[1,22,2,23],[31,10,32,11],[31,12,32,13],[31,14,32,15],[31,16,32,17],[31,18,32,19],[31,20,32,21],[21,24,22,25],[21,26,23,26],[21,20,22,21],[21,22,22,23],[40,18,40,21],[40,23,40,26],[11,8,12,9],[11,10,12,11],[301,24,302,25],[301,26,303,26],[300,0,300,26],[0,1,0,2],[0,4,0,5],[0,6,0,11],[301,12,302,13],[301,14,302,15],[301,16,302,17],[301,18,302,19],[301,20,302,21],[301,22,302,23],[301,0,302,0],[301,1,302,2],[301,4,302,5],[301,6,302,7],[301,8,302,9],[301,10,302,11],[291,22,292,23],[291,24,292,25],[291,26,293,26],[291,10,292,11],[291,12,292,13],[291,14,292,15],[291,16,292,17],[291,18,292,19],[291,20,292,21],[281,24,282,25],[281,26,283,26],[281,20,282,21],[281,22,282,23],[291,0,292,0],[291,1,292,2],[291,4,292,5],[291,6,292,7],[291,8,292,9],[281,12,282,13],[281,14,282,15],[281,16,282,17],[281,18,282,19],[281,0,282,0],[281,1,282,2],[281,4,282,5],[281,6,282,7],[281,8,282,9],[281,10,282,11],[271,12,272,13],[271,14,272,15],[271,16,272,17],[271,18,272,19],[271,20,272,21],[261,24,262,25],[261,26,263,26],[271,0,272,0],[271,1,272,2],[271,4,272,5],[271,6,272,7],[271,8,272,9],[261,12,262,13],[261,14,262,15],[261,16,262,17],[261,18,262,19],[261,20,262,21],[261,22,262,23],[261,0,262,0],[261,1,262,2],[261,4,262,5],[261,6,262,7],[261,8,262,9],[261,10,262,11],[251,22,252,23],[251,24,252,25],[251,26,253,26],[260,1,260,2],[260,4,260,5],[260,6,260,11],[260,13,260,16],[251,10,252,11],[251,12,252,13],[251,14,252,15],[251,16,252,17],[251,18,252,19],[251,20,252,21],[240,6,240,11],[240,13,240,16],[231,10,232,11],[231,12,232,13],[231,14,232,15],[231,16,232,17],[231,18,232,19],[231,20,232,21],[251,0,252,0],[251,1,252,2],[251,4,252,5],[251,6,252,7],[251,8,252,9],[241,12,242,13],[241,14,242,15],[241,16,242,17],[241,18,242,19],[241,0,242,0],[241,1,242,2],[241,4,242,5],[241,6,242,7],[241,8,242,9],[241,10,242,11],[241,3,243,3],[221,24,222,25],[221,26,223,26],[231,0,232,0],[231,1,232,2],[231,4,232,5],[231,6,232,7],[231,8,232,9],[221,12,222,13],[221,14,222,15],[221,16,222,17],[221,18,222,19],[221,20,222,21],[221,22,222,23],[221,0,222,0],[221,1,222,2],[221,4,222,5],[221,6,222,7],[221,8,222,9],[221,10,222,11],[231,3,233,3],[221,3,223,3],[231,26,233,26],[211,22,212,23],[211,24,212,25],[211,26,213,26],[220,1,220,2],[220,4,220,5],[220,6,220,11],[220,13,220,16],[211,10,212,11],[211,12,212,13],[211,14,212,15],[211,16,212,17],[211,18,212,19],[211,20,212,21],[191,16,192,17],[191,18,192,19],[191,20,192,21],[211,0,212,0],[211,1,212,2],[211,4,212,5],[211,6,212,7],[211,8,212,9],[201,12,202,13],[201,14,202,15],[201,16,202,17],[201,18,202,19],[201,0,202,0],[201,1,202,2],[201,4,202,5],[201,6,202,7],[201,8,202,9],[201,10,202,11],[211,3,213,3],[200,18,200,21],[181,24,182,25],[181,26,183,26],[191,0,192,0],[191,1,192,2],[191,4,192,5],[191,6,192,7],[191,8,192,9],[181,12,182,13],[181,14,182,15],[181,16,182,17],[181,18,182,19],[181,20,182,21],[181,22,182,23],[181,0,182,0],[181,1,182,2],[181,4,182,5],[181,6,182,7],[181,8,182,9],[181,10,182,11],[191,3,193,3],[181,3,183,3],[191,26,193,26],[191,10,192,11],[191,12,192,13],[171,22,172,23],[171,24,172,25],[171,26,173,26],[180,1,180,2],[180,4,180,5],[180,6,180,11],[180,13,180,16],[171,10,172,11],[171,12,172,13],[171,14,172,15],[171,16,172,17],[171,18,172,19],[171,20,172,21],[151,14,152,15],[151,16,152,17],[151,18,152,19],[151,20,152,21],[171,0,172,0],[171,1,172,2],[171,4,172,5],[171,6,172,7],[171,8,172,9],[161,12,162,13],[161,14,162,15],[161,16,162,17],[161,18,162,19],[161,0,162,0],[161,1,162,2],[161,4,162,5],[161,6,162,7],[161,8,162,9],[161,10,162,11],[171,3,173,3],[160,18,160,21],[141,24,142,25],[141,26,143,26],[151,0,152,0],[151,1,152,2],[151,4,152,5],[151,6,152,7],[151,8,152,9],[141,12,142,13],[141,14,142,15],[141,16,142,17],[141,18,142,19],[141,20,142,21],[141,22,142,23],[141,0,142,0],[141,1,142,2],[141,4,142,5],[141,6,142,7],[141,8,142,9],[141,10,142,11],[151,3,153,3],[141,3,143,3],[151,26,153,26],[151,10,152,11],[151,12,152,13],[131,22,132,23],[131,24,132,25],[131,26,133,26],[140,1,140,2],[140,4,140,5],[140,6,140,11],[140,13,140,16],[131,10,132,11],[131,12,132,13],[131,14,132,15],[131,16,132,17],[131,18,132,19],[131,20,132,21],[111,14,112,15],[111,16,112,17],[111,18,112,19],[111,20,112,21],[131,0,132,0],[131,1,132,2],[131,4,132,5],[131,6,132,7],[131,8,132,9],[121,12,122,13],[121,14,122,15],[121,16,122,17],[121,18,122,19],[121,0,122,0],[121,1,122,2],[121,4,122,5],[121,6,122,7],[121,8,122,9],[121,10,122,11],[131,3,133,3],[120,18,120,21],[101,24,102,25],[101,26,103,26],[111,0,112,0],[111,1,112,2],[111,4,112,5],[111,6,112,7],[111,8,112,9],[101,12,102,13],[101,14,102,15],[101,16,102,17],[101,18,102,19],[101,20,102,21],[101,22,102,23],[101,0,102,0],[101,1,102,2],[101,4,102,5],[101,6,102,7],[101,8,102,9],[101,10,102,11],[111,3,113,3],[101,3,103,3],[111,26,113,26],[111,10,112,11],[111,12,112,13],[91,22,92,23],[91,24,92,25],[91,26,93,26],[100,1,100,2],[100,4,100,5],[100,6,100,11],[100,13,100,16],[91,10,92,11],[91,12,92,13],[91,14,92,15],[91,16,92,17],[91,18,92,19],[91,20,92,21],[71,14,72,15],[71,16,72,17],[71,18,72,19],[71,20,72,21],[91,0,92,0],[91,1,92,2],[91,4,92,5],[91,6,92,7],[91,8,92,9],[81,12,82,13],[81,14,82,15],[81,16,82,17],[81,18,82,19],[81,0,82,0],[81,1,82,2],[81,4,82,5],[81,6,82,7],[81,8,82,9],[81,10,82,11],[91,3,93,3],[80,18,80,21],[61,24,62,25],[61,26,63,26],[71,0,72,0],[71,1,72,2],[71,4,72,5],[71,6,72,7],[71,8,72,9],[61,12,62,13],[61,14,62,15],[61,16,62,17],[61,18,62,19],[61,20,62,21],[61,22,62,23],[61,0,62,0],[61,1,62,2],[61,4,62,5],[61,6,62,7],[61,8,62,9],[61,10,62,11],[71,3,73,3],[61,3,63,3],[71,26,73,26],[71,10,72,11],[71,12,72,13],[51,22,52,23],[51,24,52,25],[51,26,53,26],[60,1,60,2],[60,4,60,5],[60,6,60,11],[60,13,60,16],[51,10,52,11],[51,12,52,13],[51,14,52,15],[51,16,52,17],[51,18,52,19],[51,20,52,21],[51,6,52,7],[51,8,52,9],[41,0,42,0],[41,1,42,2],[41,4,42,5],[41,6,42,7],[41,8,42,9],[41,10,42,11],[51,3,53,3],[41,3,43,3],[50,1,50,2],[50,4,50,5],[50,6,50,11],[1,0,2,0],[1,14,2,15],[1,16,2,17],[1,18,2,19],[1,1,2,2],[11,3,13,3],[1,3,3,3],[31,0,32,0],[31,1,32,2],[31,4,32,5],[31,6,32,7],[31,8,32,9],[21,12,22,13],[21,14,22,15],[21,16,22,17],[21,18,22,19],[21,0,22,0],[21,1,22,2],[21,4,22,5],[21,6,22,7],[21,8,22,9],[21,10,22,11],[21,3,23,3],[11,6,12,7],[20,6,20,11],[20,13,20,16],[20,18,20,21],[20,23,20,26],[11,26,13,26],[11,14,12,15],[11,16,12,17],[11,18,12,19],[11,20,12,21],[11,22,12,23],[11,12,12,13],[11,24,12,25],[301,3,303,3],[291,3,293,3],[281,3,283,3],[271,3,273,3],[261,3,263,3],[251,3,253,3],[11,0,12,0],[11,1,12,2],[11,4,12,5],[51,0,52,0],[51,1,52,2],[51,4,52,5],[80,4,80,5],[81,3,83,3],[120,4,120,5],[121,3,123,3],[160,4,160,5],[161,3,163,3],[200,4,200,5],[201,3,203,3],[240,4,240,5],[20,1,20,2],[20,4,20,5],[31,3,33,3]]}
["Datum","2019-04-28",null,null,"Verein",null,"PHV Hameln",{"$nulls":5},"LR 1","Grünig",null,null,null,"LR 2",{"$nulls":4},"LR 3",{"$nulls":7},"Leistungsrichter 1",null,"Leistungsrichter 2",null,"Leistungsrichter 3"]
[1,"Vorprüfung",null,"Summe","Vierkampf\n1 - 3",null,"CSC",null,"GL THS\n1 / 2 / 5 KM",null,"CaniCross",null,"Bikejöring",null,"DogScooter",null,"HL",null,"Dreikampf\n1 - 3",null,"K.O. Cup",null,"Shorty",null,"Summe",null,"Gesamt",null,null,null,{"$f":"N1","v":"Grünig"},null,{"$f":"S1","v":0},null,{"$f":"X1","v":0}]
[]
["Altersklasse","A","B",null,"männlich","weiblich","männlich","weiblich","männlich","weiblich","männlich","weiblich","männlich","weiblich","männlich","weiblich","männlich","weiblich","männlich","weiblich","männlich","weiblich","männlich","weiblich","männlich","weiblich"]
["Jugendklasse\n( bis 18 J )",null,null,{"$f":"SUM(B5:C5)","v":0},null,null,null,1,{"$nulls":11},1,null,null,null,4,{"$f":"E5+G5+I5+K5+M5+O5+Q5+S5+U5+W5","v":0},{"$f":"F5+H5+J5+L5+N5+P5+R5+T5+V5+X5","v":6},{"$f":"B5+C5+E5+F5+G5+H5+I5+J5+K5+L5+M5+N5+O5+P5+Q5+R5+S5+T5+U5+V5+W5+X5","v":6}]
["Aktivenklasse\n( 19 - 49 J. )",null,null,{"$f":"SUM(B6:C6)","v":0},null,null,1,{"$nulls":9},2,null,null,1,null,1,null,4,{"$f":"E6+G6+I6+K6+M6+O6+Q6+S6+U6+W6","v":3},{"$f":"F6+H6+J6+L6+N6+P6+R6+T6+V6+X6","v":6},{"$f":"B6+C6+E6+F6+G6+H6+I6+J6+K6+L6+M6+N6+O6+P6+Q6+R6+S6+T6+U6+V6+W6+X6","v":9}]
["Seniorenklasse\n( ab 50 J. )",null,null,{"$f":"SUM(B7:C7)","v":0},null,null,1,9,{"$nulls":9},7,1,9,2,5,4,4,8,34,42]
["PARA\nStarter",null,null,{"$f":"SUM(B8:C8)","v":0},{"$nulls":20},0,0,0]
["Gesamt",{"$f":"SUM(B5:B8)","v":0},0,{"$f":"SUM(D5:D8)","v":0},0,0,2,10,0,0,0,0,0,0,0,0,2,7,1,11,2,6,4,12,11,46,57]
[]
["Datum","2019-05-05",null,null,"Verein",null,"SGV Langelsheim",{"$nulls":5},"LR 1","Volkmann",null,null,null,"LR 2","Gensrich",null,null,null,"LR 3",{"$nulls":7},{"$f":"N11","v":"Volkmann"},null,{"$f":"S11","v":"Gensrich"},null,{"$f":"X11","v":0}]
[2,"Vorprüfung",null,"Summe","Vierkampf\n1 - 3",null,"CSC",null,"GL THS\n1 / 2 / 5 KM",null,"CaniCross",null,"Bikejöring",null,"DogScooter",null,"HL",null,"Dreikampf\n1 - 3",null,"K.O. Cup",null,"Shorty",null,"Summe",null,"Gesamt"]
[]
["Altersklasse","A","B",null,"männlich","weiblich","männlich","weiblich","männlich","weiblich","männlich","weiblich","männlich","weiblich","männlich","weiblich","männlich","weiblich","männlich","weiblich","männlich","weiblich","männlich","weiblich","männlich","weiblich"]
["Jugendklasse\n( bis 18 J )",null,null,{"$f":"SUM(B15:C15)","v":0},{"$nulls":12},1,{"$nulls":7},{"$f":"E15+G15+I15+K15+M15+O15+Q15+S15+U15+W15","v":1},{"$f":"F15+H15+J15+L15+N15+P15+R15+T15+V15+X15","v":0},{"$f":"B15+C15+E15+F15+G15+H15+I15+J15+K15+L15+M15+N15+O15+P15+Q15+R15+S15+T15+U15+V15+W15+X15","v":1}]
["Aktivenklasse\n( 19 - 49 J. )",null,null,{"$f":"SUM(B16:C16)","v":0},2,9,3,10,4,7,{"$nulls":6},1,null,null,1,null,null,null,8,{"$f":"E16+G16+I16+K16+M16+O16+Q16+S16+U16+W16","v":10},{"$f":"F16+H16+J16+L16+N16+P16+R16+T16+V16+X16","v":35},{"$f":"B16+C16+E16+F16+G16+H16+I16+J16+K16+L16+M16+N16+O16+P16+Q16+R16+S16+T16+U16+V16+W16+X16","v":45}]
["Seniorenklasse\n( ab 50 J. )",null,null,{"$f":"SUM(B17:C17)","v":0},3,3,1,1,{"$nulls":8},1,null,null,4,null,null,1,3,6,11,17]
["PARA\nStarter",null,null,{"$f":"SUM(B18:C18)","v":0},{"$nulls":20},0,0,0]
["Gesamt",{"$f":"SUM(B15:B18)","v":0},0,{"$f":"SUM(D15:D18)","v":0},5,12,4,11,4,7,0,0,0,0,0,0,3,0,0,5,0,0,1,11,17,46,63]
[]
["Datum","2019-05-12",null,null,"Verein",null,"PHV Hambühren",{"$nulls":5},"LR 1","Geber",null,null,null,"LR 2","Grünig",null,null,null,"LR 3",{"$nulls":7},{"$f":"N21","v":"Geber"},null,{"$f":"S21","v":"Grünig"},null,{"$f":"X21","v":0}]
[3,"Vorprüfung",null,"Summe","Vierkampf\n1 - 3",null,"CSC",null,"GL THS\n1 / 2 / 5 KM",null,"CaniCross",null,"Bikejöring",null,"DogScooter",null,"HL",null,"Dreikampf\n1 - 3",null,"K.O. Cup",null,"Shorty",null,"Summe",null,"Gesamt"]
[]
["Altersklasse","A","B",null,"männlich","weiblich","männlich","weiblich","männlich","weiblich","männlich","weiblich","männlich","weiblich","männlich","weiblich","männlich","weiblich","männlich","weiblich","männlich","weiblich","männlich","weiblich","männlich","weiblich"]
["Jugendklasse\n( bis 18 J )",null,null,{"$f":"SUM(B25:C25)","v":0},{"$nulls":7},1,{"$nulls":12},{"$f":"E25+G25+I25+K25+M25+O25+Q25+S25+U25+W25","v":0},{"$f":"F25+H25+J25+L25+N25+P25+R25+T25+V25+X25","v":1},{"$f":"B25+C25+E25+F25+G25+H25+I25+J25+K25+L25+M25+N25+O25+P25+Q25+R25+S25+T25+U25+V25+W25+X25","v":1}]
["Aktivenklasse\n( 19 - 49 J. )",null,null,{"$f":"SUM(B26:C26)","v":0},2,{"$nulls":4},1,2,null,3,2,2,null,2,4,{"$nulls":6},{"$f":"E26+G26+I26+K26+M26+O26+Q26+S26+U26+W26","v":11},{"$f":"F26+H26+J26+L26+N26+P26+R26+T26+V26+X26","v":7},{"$f":"B26+C26+E26+F26+G26+H26+I26+J26+K26+L26+M26+N26+O26+P26+Q26+R26+S26+T26+U26+V26+W26+X26","v":18}]
["Seniorenklasse\n( ab 50 J. )",null,null,{"$f":"SUM(B27:C27)","v":0},3,5,null,null,null,2,{"$nulls":4},1,2,null,null,1,5,null,null,1,13,6,27,33]
["PARA\nStarter",null,null,{"$f":"SUM(B28:C28)","v":0},{"$nulls":20},0,0,0]
["Gesamt",{"$f":"SUM(B25:B28)","v":0},0,{"$f":"SUM(D25:D28)","v":0},5,5,0,0,0,3,2,1,3,2,3,2,2,4,1,5,0,0,1,13,17,35,52]
[]
["Datum","2019-05-19",null,null,"Verein",null,"GHV Hildesheim",{"$nulls":5},"LR 1","Gensrich",null,null,null,"LR 2",{"$nulls":4},"LR 3",{"$nulls":7},{"$f":"N31","v":"Gensrich"},null,{"$f":"S31","v":0},null,{"$f":"X31","v":0}]
[4,"Vorprüfung",null,"Summe","Vierkampf\n1 - 3",null,"CSC",null,"GL THS\n1 / 2 / 5 KM",null,"CaniCross",null,"Bikejöring",null,"DogScooter",null,"HL",null,"Dreikampf\n1 - 3",null,"K.O. Cup",null,"Shorty",null,"Summe",null,"Gesamt"]
[]
["Altersklasse","A","B",null,"männlich","weiblich","männlich","weiblich","männlich","weiblich","männlich","weiblich","männlich","weiblich","männlich","weiblich","männlich","weiblich","männlich","weiblich","männlich","weiblich","männlich","weiblich","männlich","weiblich"]
["Jugendklasse\n( bis 18 J )",null,null,{"$f":"SUM(B35:C35)","v":0},{"$nulls":15},1,{"$nulls":4},{"$f":"E35+G35+I35+K35+M35+O35+Q35+S35+U35+W35","v":0},{"$f":"F35+H35+J35+L35+N35+P35+R35+T35+V35+X35","v":1},{"$f":"B35+C35+E35+F35+G35+H35+I35+J35+K35+L35+M35+N35+O35+P35+Q35+R35+S35+T35+U35+V35+W35+X35","v":1}]
["Aktivenklasse\n( 19 - 49 J. )",null,null,{"$f":"SUM(B36:C36)","v":0},null,2,null,null,2,1,{"$nulls":7},1,null,3,null,null,null,6,{"$f":"E36+G36+I36+K36+M36+O36+Q36+S36+U36+W36","v":2},{"$f":"F36+H36+J36+L36+N36+P36+R36+T36+V36+X36","v":13},{"$f":"B36+C36+E36+F36+G36+H36+I36+J36+K36+L36+M36+N36+O36+P36+Q36+R36+S36+T36+U36+V36+W36+X36","v":15}]
["Seniorenklasse\n( ab 50 J. )",null,null,{"$f":"SUM(B37:C37)","v":0},2,2,{"$nulls":10},1,null,null,2,null,null,1,5,4,9,13]
["PARA\nStarter",null,null,{"$f":"SUM(B38:C38)","v":0},{"$nulls":20},0,0,0]
["Gesamt",{"$f":"SUM(B35:B38)","v":0},0,{"$f":"SUM(D35:D38)","v":0},2,4,0,0,2,1,0,0,0,0,0,0,1,1,0,6,0,0,1,11,6,23,29]
[]
["Datum","2019-06-02",null,null,"Verein",null,"HSV Velstove",{"$nulls":5},"LR 1","Volkmann",null,null,null,"LR 2",{"$nulls":4},"LR 3",{"$nulls":7},{"$f":"N41","v":"Volkmann"},null,{"$f":"S41","v":0},null,{"$f":"X41","v":0}]
[5,"Vorprüfung",null,"Summe","Vierkampf\n1 - 3",null,"CSC",null,"GL THS\n1 / 2 / 5 KM",null,"CaniCross",null,"Bikejöring",null,"DogScooter",null,"HL",null,"Dreikampf\n1 - 3",null,"K.O. Cup",null,"Shorty",null,"Summe",null,"Gesamt"]
[]
["Altersklasse","A","B",null,"männlich","weiblich","männlich","weiblich","männlich","weiblich","männlich","weiblich","männlich","weiblich","männlich","weiblich","männlich","weiblich","männlich","weiblich","männlich","weiblich","männlich","weiblich","männlich","weiblich"]
["Jugendklasse\n( bis 18 J )",null,null,{"$f":"SUM(B45:C45)","v":0},{"$nulls":15},1,null,null,null,1,{"$f":"E45+G45+I45+K45+M45+O45+Q45+S45+U45+W45","v":0},{"$f":"F45+H45+J45+L45+N45+P45+R45+T45+V45+X45","v":2},{"$f":"B45+C45+E45+F45+G45+H45+I45+J45+K45+L45+M45+N45+O45+P45+Q45+R45+S45+T45+U45+V45+W45+X45","v":2}]
["Aktivenklasse\n( 19 - 49 J. )",null,null,{"$f":"SUM(B46:C46)","v":0},2,2,{"$nulls":13},1,null,null,2,2,{"$f":"E46+G46+I46+K46+M46+O46+Q46+S46+U46+W46","v":4},{"$f":"F46+H46+J46+L46+N46+P46+R46+T46+V46+X46","v":5},{"$f":"B46+C46+E46+F46+G46+H46+I46+J46+K46+L46+M46+N46+O46+P46+Q46+R46+S46+T46+U46+V46+W46+X46","v":9}]
["Seniorenklasse\n( ab 50 J. )",null,null,{"$f":"SUM(B47:C47)","v":0},null,3,{"$nulls":12},2,2,null,null,3,2,5,7,12]
["PARA\nStarter",null,null,{"$f":"SUM(B48:C48)","v":0},{"$nulls":20},0,0,0]
["Gesamt",{"$f":"SUM(B45:B48)","v":0},0,{"$f":"SUM(D45:D48)","v":0},2,5,0,0,0,0,0,0,0,0,0,0,0,0,2,4,0,0,5,5,9,14,23]
[]
["Datum","2019-06-16",null,null,"Verein",null,"PHV Misburg",{"$nulls":5},"LR 1","Sprenger",null,null,null,"LR 2","Volkmann",null,null,null,"LR 3",{"$nulls":7},{"$f":"N51","v":"Sprenger"},null,{"$f":"S51","v":"Volkmann"},null,{"$f":"X51","v":0}]
[6,"Vorprüfung",null,"Summe","Vierkampf\n1 - 3",null,"CSC",null,"GL THS\n1 / 2 / 5 KM",null,"CaniCross",null,"Bikejöring",null,"DogScooter",null,"HL",null,"Dreikampf\n1 - 3",null,"K.O. Cup",null,"Shorty",null,"Summe",null,"Gesamt"]
[]
["Altersklasse","A","B",null,"männlich","weiblich","männlich","weiblich","männlich","weiblich","männlich","weiblich","männlich","weiblich","männlich","weiblich","männlich","weiblich","männlich","weiblich","männlich","weiblich","männlich","weiblich","männlich","weiblich"]
["Jugendklasse\n( bis 18 J )",null,null,{"$f":"SUM(B55:C55)","v":0},null,2,null,4,{"$nulls":15},1,{"$f":"E55+G55+I55+K55+M55+O55+Q55+S55+U55+W55","v":0},{"$f":"F55+H55+J55+L55+N55+P55+R55+T55+V55+X55","v":7},{"$f":"B55+C55+E55+F55+G55+H55+I55+J55+K55+L55+M55+N55+O55+P55+Q55+R55+S55+T55+U55+V55+W55+X55","v":7}]
["Aktivenklasse\n( 19 - 49 J. )",null,null,{"$f":"SUM(B56:C56)","v":0},3,8,2,9,5,12,{"$nulls":12},1,8,{"$f":"E56+G56+I56+K56+M56+O56+Q56+S56+U56+W56","v":11},{"$f":"F56+H56+J56+L56+N56+P56+R56+T56+V56+X56","v":37},{"$f":"B56+C56+E56+F56+G56+H56+I56+J56+K56+L56+M56+N56+O56+P56+Q56+R56+S56+T56+U56+V56+W56+X56","v":48}]
["Seniorenklasse\n( ab 50 J. )",null,null,{"$f":"SUM(B57:C57)","v":0},2,3,3,6,1,2,{"$nulls":12},3,7,9,18,27]
["PARA\nStarter",null,null,{"$f":"SUM(B58:C58)","v":0},{"$nulls":20},0,0,0]
["Gesamt",{"$f":"SUM(B55:B58)","v":0},0,{"$f":"SUM(D55:D58)","v":0},5,13,5,19,6,14,0,0,0,0,0,0,0,0,0,0,0,0,4,16,20,62,82]
[]
["Datum","2019-06-23",null,null,"Verein",null,"PHV Hambühren",{"$nulls":5},"LR 1","Gensrich",null,null,null,"LR 2",{"$nulls":4},"LR 3",{"$nulls":7},{"$f":"N61","v":"Gensrich"},null,{"$f":"S61","v":0},null,{"$f":"X61","v":0}]
[7,"Vorprüfung",null,"Summe","Vierkampf\n1 - 3",null,"CSC",null,"GL THS\n1 / 2 / 5 KM",null,"CaniCross",null,"Bikejöring",null,"DogScooter",null,"HL",null,"Dreikampf\n1 - 3",null,"K.O. Cup",null,"Shorty",null,"Summe",null,"Gesamt"]
[]
["Altersklasse","A","B",null,"männlich","weiblich","männlich","weiblich","männlich","weiblich","männlich","weiblich","männlich","weiblich","männlich","weiblich","männlich","weiblich","männlich","weiblich","männlich","weiblich","männlich","weiblich","männlich","weiblich"]
["Jugendklasse\n( bis 18 J )",null,null,{"$f":"SUM(B65:C65)","v":0},{"$nulls":5},1,{"$nulls":7},1,{"$nulls":5},1,{"$f":"E65+G65+I65+K65+M65+O65+Q65+S65+U65+W65","v":0},{"$f":"F65+H65+J65+L65+N65+P65+R65+T65+V65+X65","v":3},{"$f":"B65+C65+E65+F65+G65+H65+I65+J65+K65+L65+M65+N65+O65+P65+Q65+R65+S65+T65+U65+V65+W65+X65","v":3}]
["Aktivenklasse\n( 19 - 49 J. )",null,null,{"$f":"SUM(B66:C66)","v":0},1,6,null,null,4,4,{"$nulls":6},1,4,2,4,null,null,2,6,{"$f":"E66+G66+I66+K66+M66+O66+Q66+S66+U66+W66","v":10},{"$f":"F66+H66+J66+L66+N66+P66+R66+T66+V66+X66","v":24},{"$f":"B66+C66+E66+F66+G66+H66+I66+J66+K66+L66+M66+N66+O66+P66+Q66+R66+S66+T66+U66+V66+W66+X66","v":34}]
["Seniorenklasse\n( ab 50 J. )",null,null,{"$f":"SUM(B67:C67)","v":0},4,5,null,null,1,1,{"$nulls":6},2,2,1,2,null,null,3,4,11,14,25]
["PARA\nStarter",null,null,{"$f":"SUM(B68:C68)","v":0},{"$nulls":20},0,0,0]
["Gesamt",{"$f":"SUM(B65:B68)","v":0},0,{"$f":"SUM(D65:D68)","v":0},5,11,0,0,5,6,0,0,0,0,0,0,3,7,3,6,0,0,5,11,21,41,62]
[]
["Datum","2019-08-11",null,null,"Verein",null,"HL Lachtetal",{"$nulls":5},"LR 1","Gensrich",null,null,null,"LR 2","Bormann",null,null,null,"LR 3",{"$nulls":7},{"$f":"N71","v":"Gensrich"},null,{"$f":"S71","v":"Bormann"},null,{"$f":"X71","v":0}]
[8,"Vorprüfung",null,"Summe","Vierkampf\n1 - 3",null,"CSC",null,"GL THS\n1 / 2 / 5 KM",null,"CaniCross",null,"Bikejöring",null,"DogScooter",null,"HL",null,"Dreikampf\n1 - 3",null,"K.O. Cup",null,"Shorty",null,"Summe",null,"Gesamt"]
[]
["Altersklasse","A","B",null,"männlich","weiblich","männlich","weiblich","männlich","weiblich","männlich","weiblich","männlich","weiblich","männlich","weiblich","männlich","weiblich","männlich","weiblich","männlich","weiblich","männlich","weiblich","männlich","weiblich"]
["Jugendklasse\n( bis 18 J )",2,null,{"$f":"SUM(B75:C75)","v":2},{"$nulls":5},1,{"$nulls":9},2,null,1,null,null,{"$f":"E75+G75+I75+K75+M75+O75+Q75+S75+U75+W75","v":0},{"$f":"F75+H75+J75+L75+N75+P75+R75+T75+V75+X75","v":4},{"$f":"B75+C75+E75+F75+G75+H75+I75+J75+K75+L75+M75+N75+O75+P75+Q75+R75+S75+T75+U75+V75+W75+X75","v":6}]
["Aktivenklasse\n( 19 - 49 J. )",6,1,{"$f":"SUM(B76:C76)","v":7},1,8,null,7,3,{"$nulls":6},1,1,3,null,6,null,10,null,null,{"$f":"E76+G76+I76+K76+M76+O76+Q76+S76+U76+W76","v":5},{"$f":"F76+H76+J76+L76+N76+P76+R76+T76+V76+X76","v":35},{"$f":"B76+C76+E76+F76+G76+H76+I76+J76+K76+L76+M76+N76+O76+P76+Q76+R76+S76+T76+U76+V76+W76+X76","v":47}]
["Seniorenklasse\n( ab 50 J. )",1,1,{"$f":"SUM(B77:C77)","v":2},4,4,3,2,2,{"$nulls":5},1,null,null,4,1,2,3,2,null,null,14,14,30]
["PARA\nStarter",null,null,{"$f":"SUM(B78:C78)","v":0},{"$nulls":20},0,0,0]
["Gesamt",{"$f":"SUM(B75:B78)","v":9},2,{"$f":"SUM(D75:D78)","v":11},5,12,3,9,5,1,0,0,0,0,1,1,1,7,1,10,3,13,0,0,19,53,83]
[]
["Datum","2019-09-01",null,null,"Verein",null,"PHV Hambühren",{"$nulls":5},"LR 1",{"$nulls":4},"LR 2",{"$nulls":4},"LR 3",{"$nulls":7},{"$f":"N81","v":0},null,{"$f":"S81","v":0},null,{"$f":"X81","v":0}]
[9,"Vorprüfung",null,"Summe","Vierkampf\n1 - 3",null,"CSC",null,"GL THS\n1 / 2 / 5 KM",null,"CaniCross",null,"Bikejöring",null,"DogScooter",null,"HL",null,"Dreikampf\n1 - 3",null,"K.O. Cup",null,"Shorty",null,"Summe",null,"Gesamt"]
[]
["Altersklasse","A","B",null,"männlich","weiblich","männlich","weiblich","männlich","weiblich","männlich","weiblich","männlich","weiblich","männlich","weiblich","männlich","weiblich","männlich","weiblich","männlich","weiblich","männlich","weiblich","männlich","weiblich"]
["Jugendklasse\n( bis 18 J )",null,null,{"$f":"SUM(B85:C85)","v":0},{"$nulls":20},{"$f":"E85+G85+I85+K85+M85+O85+Q85+S85+U85+W85","v":0},{"$f":"F85+H85+J85+L85+N85+P85+R85+T85+V85+X85","v":0},{"$f":"B85+C85+E85+F85+G85+H85+I85+J85+K85+L85+M85+N85+O85+P85+Q85+R85+S85+T85+U85+V85+W85+X85","v":0}]
["Aktivenklasse\n( 19 - 49 J. )",null,null,{"$f":"SUM(B86:C86)","v":0},2,5,null,null,2,8,{"$nulls":6},2,null,1,4,3,9,null,null,{"$f":"E86+G86+I86+K86+M86+O86+Q86+S86+U86+W86","v":10},{"$f":"F86+H86+J86+L86+N86+P86+R86+T86+V86+X86","v":26},{"$f":"B86+C86+E86+F86+G86+H86+I86+J86+K86+L86+M86+N86+O86+P86+Q86+R86+S86+T86+U86+V86+W86+X86","v":36}]
["Seniorenklasse\n( ab 50 J. )",null,null,{"$f":"SUM(B87:C87)","v":0},null,2,null,null,null,1,{"$nulls":6},3,null,null,1,{"$nulls":4},3,4,7]
["PARA\nStarter",null,null,{"$f":"SUM(B88:C88)","v":0},{"$nulls":20},0,0,0]
["Gesamt",{"$f":"SUM(B85:B88)","v":0},0,{"$f":"SUM(D85:D88)","v":0},2,7,0,0,2,9,0,0,0,0,0,0,5,0,1,5,3,9,0,0,13,30,43]
[]
["Datum","2019-09-08",null,null,"Verein",null,"PHV Misburg",{"$nulls":5},"LR 1","Bormann",null,null,null,"LR 2",{"$nulls":4},"LR 3",{"$nulls":7},{"$f":"N91","v":"Bormann"},null,{"$f":"S91","v":0},null,{"$f":"X91","v":0}]
[10,"Vorprüfung",null,"Summe","Vierkampf\n1 - 3",null,"CSC",null,"GL THS\n1 / 2 / 5 KM",null,"CaniCross",null,"Bikejöring",null,"DogScooter",null,"HL",null,"Dreikampf\n1 - 3",null,"K.O. Cup",null,"Shorty",null,"Summe",null,"Gesamt"]
[]
["Altersklasse","A","B",null,"männlich","weiblich","männlich","weiblich","männlich","weiblich","männlich","weiblich","männlich","weiblich","männlich","weiblich","männlich","weiblich","männlich","weiblich","männlich","weiblich","männlich","weiblich","männlich","weiblich"]
["Jugendklasse\n( bis 18 J )",null,null,{"$f":"SUM(B95:C95)","v":0},null,2,null,null,null,1,{"$nulls":7},1,null,1,null,null,null,2,{"$f":"E95+G95+I95+K95+M95+O95+Q95+S95+U95+W95","v":0},{"$f":"F95+H95+J95+L95+N95+P95+R95+T95+V95+X95","v":7},{"$f":"B95+C95+E95+F95+G95+H95+I95+J95+K95+L95+M95+N95+O95+P95+Q95+R95+S95+T95+U95+V95+W95+X95","v":7}]
["Aktivenklasse\n( 19 - 49 J. )",null,null,{"$f":"SUM(B96:C96)","v":0},2,6,1,4,4,2,{"$nulls":6},1,4,null,3,null,null,3,4,{"$f":"E96+G96+I96+K96+M96+O96+Q96+S96+U96+W96","v":11},{"$f":"F96+H96+J96+L96+N96+P96+R96+T96+V96+X96","v":23},{"$f":"B96+C96+E96+F96+G96+H96+I96+J96+K96+L96+M96+N96+O96+P96+Q96+R96+S96+T96+U96+V96+W96+X96","v":34}]
["Seniorenklasse\n( ab 50 J. )",null,null,{"$f":"SUM(B97:C97)","v":0},2,7,3,1,null,2,{"$nulls":6},1,1,1,null,null,null,2,5,9,16,25]
["PARA\nStarter",null,null,{"$f":"SUM(B98:C98)","v":0},{"$nulls":20},0,0,0]
["Gesamt",{"$f":"SUM(B95:B98)","v":0},0,{"$f":"SUM(D95:D98)","v":0},4,15,4,5,4,5,0,0,0,0,0,0,2,6,1,4,0,0,5,11,20,46,66]
[]
["Datum","2019-09-29",null,null,"Verein",null,"HSV Bockenem",{"$nulls":5},"LR 1","Volkmann",null,null,null,"LR 2",{"$nulls":4},"LR 3",{"$nulls":7},{"$f":"N101","v":"Volkmann"},null,{"$f":"S101","v":0},null,{"$f":"X101","v":0}]
[11,"Vorprüfung",null,"Summe","Vierkampf\n1 - 3",null,"CSC",null,"GL THS\n1 / 2 / 5 KM",null,"CaniCross",null,"Bikejöring",null,"DogScooter",null,"HL",null,"Dreikampf\n1 - 3",null,"K.O. Cup",null,"Shorty",null,"Summe",null,"Gesamt"]
[]
["Altersklasse","A","B",null,"männlich","weiblich","männlich","weiblich","männlich","weiblich","männlich","weiblich","männlich","weiblich","männlich","weiblich","männlich","weiblich","männlich","weiblich","männlich","weiblich","männlich","weiblich","männlich","weiblich"]
["Jugendklasse\n( bis 18 J )",1,1,{"$f":"SUM(B105:C105)","v":2},{"$nulls":13},1,{"$nulls":5},1,{"$f":"E105+G105+I105+K105+M105+O105+Q105+S105+U105+W105","v":0},{"$f":"F105+H105+J105+L105+N105+P105+R105+T105+V105+X105","v":2},{"$f":"B105+C105+E105+F105+G105+H105+I105+J105+K105+L105+M105+N105+O105+P105+Q105+R105+S105+T105+U105+V105+W105+X105","v":4}]
["Aktivenklasse\n( 19 - 49 J. )",1,1,{"$f":"SUM(B106:C106)","v":2},1,2,{"$nulls":10},1,null,null,2,null,null,1,4,{"$f":"E106+G106+I106+K106+M106+O106+Q106+S106+U106+W106","v":3},{"$f":"F106+H106+J106+L106+N106+P106+R106+T106+V106+X106","v":8},{"$f":"B106+C106+E106+F106+G106+H106+I106+J106+K106+L106+M106+N106+O106+P106+Q106+R106+S106+T106+U106+V106+W106+X106","v":13}]
["Seniorenklasse\n( ab 50 J. )",null,null,{"$f":"SUM(B107:C107)","v":0},1,1,{"$nulls":10},1,1,null,1,null,null,null,2,2,5,7]
["PARA\nStarter",null,null,{"$f":"SUM(B108:C108)","v":0},{"$nulls":20},0,0,0]
["Gesamt",{"$f":"SUM(B105:B108)","v":2},2,{"$f":"SUM(D105:D108)","v":4},2,3,0,0,0,0,0,0,0,0,0,0,2,2,0,3,0,0,1,7,5,15,24]
[]
["Datum","2019-10-05",null,null,"Verein",null,"HSV Springe",{"$nulls":5},"LR 1","Grünig",null,null,null,"LR 2","Gensrich",null,null,null,"LR 3",{"$nulls":7},{"$f":"N111","v":"Grünig"},null,{"$f":"S111","v":"Gensrich"},null,{"$f":"X111","v":0}]
[12,"Vorprüfung",null,"Summe","Vierkampf\n1 - 3",null,"CSC",null,"GL THS\n1 / 2 / 5 KM",null,"CaniCross",null,"Bikejöring",null,"DogScooter",null,"HL",null,"Dreikampf\n1 - 3",null,"K.O. Cup",null,"Shorty",null,"Summe",null,"Gesamt"]
[]
["Altersklasse","A","B",null,"männlich","weiblich","männlich","weiblich","männlich","weiblich","männlich","weiblich","männlich","weiblich","männlich","weiblich","männlich","weiblich","männlich","weiblich","männlich","weiblich","männlich","weiblich","männlich","weiblich"]
["Jugendklasse\n( bis 18 J )",null,null,{"$f":"SUM(B115:C115)","v":0},1,1,{"$nulls":4},1,{"$nulls":6},1,null,1,2,null,null,null,{"$f":"E115+G115+I115+K115+M115+O115+Q115+S115+U115+W115","v":4},{"$f":"F115+H115+J115+L115+N115+P115+R115+T115+V115+X115","v":3},{"$f":"B115+C115+E115+F115+G115+H115+I115+J115+K115+L115+M115+N115+O115+P115+Q115+R115+S115+T115+U115+V115+W115+X115","v":7}]
["Aktivenklasse\n( 19 - 49 J. )",11,null,{"$f":"SUM(B116:C116)","v":11},null,5,{"$nulls":4},3,10,1,3,null,4,1,3,1,2,3,6,null,null,{"$f":"E116+G116+I116+K116+M116+O116+Q116+S116+U116+W116","v":9},{"$f":"F116+H116+J116+L116+N116+P116+R116+T116+V116+X116","v":33},{"$f":"B116+C116+E116+F116+G116+H116+I116+J116+K116+L116+M116+N116+O116+P116+Q116+R116+S116+T116+U116+V116+W116+X116","v":53}]
["Seniorenklasse\n( ab 50 J. )",3,null,{"$f":"SUM(B117:C117)","v":3},4,1,{"$nulls":4},1,1,null,1,null,4,2,1,2,null,4,1,null,null,13,9,25]
["PARA\nStarter",null,null,{"$f":"SUM(B118:C118)","v":0},{"$nulls":20},0,0,0]
["Gesamt",{"$f":"SUM(B115:B118)","v":14},0,{"$f":"SUM(D115:D118)","v":14},5,7,0,0,0,0,5,11,1,4,0,8,3,5,3,3,9,7,0,0,26,45,85]
[]
["Datum","2019-10-20",null,null,"Verein",null,"PHV Hameln",{"$nulls":5},"LR 1","Sprenger",null,null,null,"LR 2",{"$nulls":4},"LR 3",{"$nulls":7},{"$f":"N121","v":"Sprenger"},null,{"$f":"S121","v":0},null,{"$f":"X121","v":0}]
[13,"Vorprüfung",null,"Summe","Vierkampf\n1 - 3",null,"CSC",null,"GL THS\n1 / 2 / 5 KM",null,"CaniCross",null,"Bikejöring",null,"DogScooter",null,"HL",null,"Dreikampf\n1 - 3",null,"K.O. Cup",null,"Shorty",null,"Summe",null,"Gesamt"]
[]
["Altersklasse","A","B",null,"männlich","weiblich","männlich","weiblich","männlich","weiblich","männlich","weiblich","männlich","weiblich","männlich","weiblich","männlich","weiblich","männlich","weiblich","männlich","weiblich","männlich","weiblich","männlich","weiblich"]
["Jugendklasse\n( bis 18 J )",null,1,{"$f":"SUM(B125:C125)","v":1},null,1,null,null,1,{"$nulls":10},1,null,null,null,2,{"$f":"E125+G125+I125+K125+M125+O125+Q125+S125+U125+W125","v":1},{"$f":"F125+H125+J125+L125+N125+P125+R125+T125+V125+X125","v":4},{"$f":"B125+C125+E125+F125+G125+H125+I125+J125+K125+L125+M125+N125+O125+P125+Q125+R125+S125+T125+U125+V125+W125+X125","v":6}]
["Aktivenklasse\n( 19 - 49 J. )",1,1,{"$f":"SUM(B126:C126)","v":2},2,3,{"$nulls":10},1,4,null,2,null,null,1,8,{"$f":"E126+G126+I126+K126+M126+O126+Q126+S126+U126+W126","v":4},{"$f":"F126+H126+J126+L126+N126+P126+R126+T126+V126+X126","v":17},{"$f":"B126+C126+E126+F126+G126+H126+I126+J126+K126+L126+M126+N126+O126+P126+Q126+R126+S126+T126+U126+V126+W126+X126","v":23}]
["Seniorenklasse\n( ab 50 J. )",null,null,{"$f":"SUM(B127:C127)","v":0},4,2,{"$nulls":11},2,1,1,null,null,2,3,7,8,15]
["PARA\nStarter",null,null,{"$f":"SUM(B128:C128)","v":0},{"$nulls":20},0,0,0]
["Gesamt",{"$f":"SUM(B125:B128)","v":1},2,{"$f":"SUM(D125:D128)","v":3},6,6,0,0,1,0,0,0,0,0,0,0,1,6,1,4,0,0,3,13,12,29,44]
[]
["Datum","10.11.",null,null,"Verein",null,"HSV Springe LVSP CC",{"$nulls":5},"LR 1","Gensrich",null,null,null,"LR 2",{"$nulls":4},"LR 3",{"$nulls":7},{"$f":"N131","v":"Gensrich"},null,{"$f":"S131","v":0},null,{"$f":"X131","v":0}]
[14,"Vorprüfung",null,"Summe","Vierkampf\n1 - 3",null,"CSC",null,"GL THS\n1 / 2 / 5 KM",null,"CaniCross",null,"Bikejöring",null,"DogScooter",null,"HL",null,"Dreikampf\n1 - 3",null,"K.O. Cup",null,"Shorty",null,"Summe",null,"Gesamt"]
[]
["Altersklasse","A","B",null,"männlich","weiblich","männlich","weiblich","männlich","weiblich","männlich","weiblich","männlich","weiblich","männlich","weiblich","männlich","weiblich","männlich","weiblich","männlich","weiblich","männlich","weiblich","männlich","weiblich"]
["Jugendklasse\n( bis 18 J )",null,null,{"$f":"SUM(B135:C135)","v":0},{"$nulls":6},1,{"$nulls":13},{"$f":"E135+G135+I135+K135+M135+O135+Q135+S135+U135+W135","v":1},{"$f":"F135+H135+J135+L135+N135+P135+R135+T135+V135+X135","v":0},{"$f":"B135+C135+E135+F135+G135+H135+I135+J135+K135+L135+M135+N135+O135+P135+Q135+R135+S135+T135+U135+V135+W135+X135","v":1}]
["Aktivenklasse\n( 19 - 49 J. )",null,null,{"$f":"SUM(B136:C136)","v":0},{"$nulls":6},3,6,3,2,null,1,{"$nulls":8},{"$f":"E136+G136+I136+K136+M136+O136+Q136+S136+U136+W136","v":6},{"$f":"F136+H136+J136+L136+N136+P136+R136+T136+V136+X136","v":9},{"$f":"B136+C136+E136+F136+G136+H136+I136+J136+K136+L136+M136+N136+O136+P136+Q136+R136+S136+T136+U136+V136+W136+X136","v":15}]
["Seniorenklasse\n( ab 50 J. )",null,null,{"$f":"SUM(B137:C137)","v":0},{"$nulls":6},1,1,null,null,2,{"$nulls":9},3,1,4]
["PARA\nStarter",null,null,{"$f":"SUM(B138:C138)","v":0},{"$nulls":20},0,0,0]
["Gesamt",{"$f":"SUM(B135:B138)","v":0},0,{"$f":"SUM(D135:D138)","v":0},0,0,0,0,0,0,5,7,3,2,2,1,0,0,0,0,0,0,0,0,10,10,20]
[]
["Datum",null,null,null,"Verein",{"$nulls":7},"LR 1",{"$nulls":4},"LR 2",{"$nulls":4},"LR 3",{"$nulls":7},{"$f":"N141","v":0},null,{"$f":"S141","v":0},null,{"$f":"X141","v":0}]
[15,"Vorprüfung",null,"Summe","Vierkampf\n1 - 3",null,"CSC",null,"GL THS\n1 / 2 / 5 KM",null,"CaniCross",null,"Bikejöring",null,"DogScooter",null,"HL",null,"Dreikampf\n1 - 3",null,"K.O. Cup",null,"Shorty",null,"Summe",null,"Gesamt"]
[]
["Altersklasse","A","B",null,"männlich","weiblich","männlich","weiblich","männlich","weiblich","männlich","weiblich","männlich","weiblich","männlich","weiblich","männlich","weiblich","männlich","weiblich","männlich","weiblich","männlich","weiblich","männlich","weiblich"]
["Jugendklasse\n( bis 18 J )",null,null,{"$f":"SUM(B145:C145)","v":0},{"$nulls":20},{"$f":"E145+G145+I145+K145+M145+O145+Q145+S145+U145+W145","v":0},{"$f":"F145+H145+J145+L145+N145+P145+R145+T145+V145+X145","v":0},{"$f":"B145+C145+E145+F145+G145+H145+I145+J145+K145+L145+M145+N145+O145+P145+Q145+R145+S145+T145+U145+V145+W145+X145","v":0}]
["Aktivenklasse\n( 19 - 49 J. )",null,null,{"$f":"SUM(B146:C146)","v":0},{"$nulls":20},{"$f":"E146+G146+I146+K146+M146+O146+Q146+S146+U146+W146","v":0},{"$f":"F146+H146+J146+L146+N146+P146+R146+T146+V146+X146","v":0},{"$f":"B146+C146+E146+F146+G146+H146+I146+J146+K146+L146+M146+N146+O146+P146+Q146+R146+S146+T146+U146+V146+W146+X146","v":0}]
["Seniorenklasse\n( ab 50 J. )",null,null,{"$f":"SUM(B147:C147)","v":0},{"$nulls":20},0,0,0]
["PARA\nStarter",null,null,{"$f":"SUM(B148:C148)","v":0},{"$nulls":20},0,0,0]
["Gesamt",{"$f":"SUM(B145:B148)","v":0},0,{"$f":"SUM(D145:D148)","v":0},0,0,0,0,0,0,0,0,0,0,0,0,0,0,0,0,0,0,0,0,0,0,0]
[]
["Datum",null,null,null,"Verein",{"$nulls":7},"LR 1",{"$nulls":4},"LR 2",{"$nulls":4},"LR 3",{"$nulls":7},{"$f":"N151","v":0},null,{"$f":"S151","v":0},null,{"$f":"X151","v":0}]
[16,"Vorprüfung",null,"Summe","Vierkampf\n1 - 3",null,"CSC",null,"GL THS\n1 / 2 / 5 KM",null,"CaniCross",null,"Bikejöring",null,"DogScooter",null,"HL",null,"Dreikampf\n1 - 3",null,"K.O. Cup",null,"Shorty",null,"Summe",null,"Gesamt"]
[]
["Altersklasse","A","B",null,"männlich","weiblich","männlich","weiblich","männlich","weiblich","männlich","weiblich","männlich","weiblich","männlich","weiblich","männlich","weiblich","männlich","weiblich","männlich","weiblich","männlich","weiblich","männlich","weiblich"]
["Jugendklasse\n( bis 18 J )",null,null,{"$f":"SUM(B155:C155)","v":0},{"$nulls":20},{"$f":"E155+G155+I155+K155+M155+O155+Q155+S155+U155+W155","v":0},{"$f":"F155+H155+J155+L155+N155+P155+R155+T155+V155+X155","v":0},{"$f":"B155+C155+E155+F155+G155+H155+I155+J155+K155+L155+M155+N155+O155+P155+Q155+R155+S155+T155+U155+V155+W155+X155","v":0}]
["Aktivenklasse\n( 19 - 49 J. )",null,null,{"$f":"SUM(B156:C156)","v":0},{"$nulls":20},{"$f":"E156+G156+I156+K156+M156+O156+Q156+S156+U156+W156","v":0},{"$f":"F156+H156+J156+L156+N156+P156+R156+T156+V156+X156","v":0},{"$f":"B156+C156+E156+F156+G156+H156+I156+J156+K156+L156+M156+N156+O156+P156+Q156+R156+S156+T156+U156+V156+W156+X156","v":0}]
["Seniorenklasse\n( ab 50 J. )",null,null,{"$f":"SUM(B157:C157)","v":0},{"$nulls":20},0,0,0]
["PARA\nStarter",null,null,{"$f":"SUM(B158:C158)","v":0},{"$nulls":20},0,0,0]
["Gesamt",{"$f":"SUM(B155:B158)","v":0},0,{"$f":"SUM(D155:D158)","v":0},0,0,0,0,0,0,0,0,0,0,0,0,0,0,0,0,0,0,0,0,0,0,0]
[]
["Datum",null,null,null,"Verein",{"$nulls":7},"LR 1",{"$nulls":4},"LR 2",{"$nulls":4},"LR 3",{"$nulls":7},{"$f":"N161","v":0},null,{"$f":"S161","v":0},null,{"$f":"X161","v":0}]
[17,"Vorprüfung",null,"Summe","Vierkampf\n1 - 3",null,"CSC",null,"GL THS\n1 / 2 / 5 KM",null,"CaniCross",null,"Bikejöring",null,"DogScooter",null,"HL",null,"Dreikampf\n1 - 3",null,"K.O. Cup",null,"Shorty",null,"Summe",null,"Gesamt"]
[]
["Altersklasse","A","B",null,"männlich","weiblich","männlich","weiblich","männlich","weiblich","männlich","weiblich","männlich","weiblich","männlich","weiblich","männlich","weiblich","männlich","weiblich","männlich","weiblich","männlich","weiblich","männlich","weiblich"]
["Jugendklasse\n( bis 18 J )",null,null,{"$f":"SUM(B165:C165)","v":0},{"$nulls":20},{"$f":"E165+G165+I165+K165+M165+O165+Q165+S165+U165+W165","v":0},{"$f":"F165+H165+J165+L165+N165+P165+R165+T165+V165+X165","v":0},{"$f":"B165+C165+E165+F165+G165+H165+I165+J165+K165+L165+M165+N165+O165+P165+Q165+R165+S165+T165+U165+V165+W165+X165","v":0}]
["Aktivenklasse\n( 19 - 49 J. )",null,null,{"$f":"SUM(B166:C166)","v":0},{"$nulls":20},{"$f":"E166+G166+I166+K166+M166+O166+Q166+S166+U166+W166","v":0},{"$f":"F166+H166+J166+L166+N166+P166+R166+T166+V166+X166","v":0},{"$f":"B166+C166+E166+F166+G166+H166+I166+J166+K166+L166+M166+N166+O166+P166+Q166+R166+S166+T166+U166+V166+W166+X166","v":0}]
["Seniorenklasse\n( ab 50 J. )",null,null,{"$f":"SUM(B167:C167)","v":0},{"$nulls":20},0,0,0]
["PARA\nStarter",null,null,{"$f":"SUM(B168:C168)","v":0},{"$nulls":20},0,0,0]
["Gesamt",{"$f":"SUM(B165:B168)","v":0},0,{"$f":"SUM(D165:D168)","v":0},0,0,0,0,0,0,0,0,0,0,0,0,0,0,0,0,0,0,0,0,0,0,0]
[]
["Datum",null,null,null,"Verein",{"$nulls":7},"LR 1",{"$nulls":4},"LR 2",{"$nulls":4},"LR 3",{"$nulls":7},{"$f":"N171","v":0},null,{"$f":"S171","v":0},null,{"$f":"X171","v":0}]
[18,"Vorprüfung",null,"Summe","Vierkampf\n1 - 3",null,"CSC",null,"GL THS\n1 / 2 / 5 KM",null,"CaniCross",null,"Bikejöring",null,"DogScooter",null,"HL",null,"Dreikampf\n1 - 3",null,"K.O. Cup",null,"Shorty",null,"Summe",null,"Gesamt"]
[]
["Altersklasse","A","B",null,"männlich","weiblich","männlich","weiblich","männlich","weiblich","männlich","weiblich","männlich","weiblich","männlich","weiblich","männlich","weiblich","männlich","weiblich","männlich","weiblich","männlich","weiblich","männlich","weiblich"]
["Jugendklasse\n( bis 18 J )",null,null,{"$f":"SUM(B175:C175)","v":0},{"$nulls":20},{"$f":"E175+G175+I175+K175+M175+O175+Q175+S175+U175+W175","v":0},{"$f":"F175+H175+J175+L175+N175+P175+R175+T175+V175+X175","v":0},{"$f":"B175+C175+E175+F175+G175+H175+I175+J175+K175+L175+M175+N175+O175+P175+Q175+R175+S175+T175+U175+V175+W175+X175","v":0}]
["Aktivenklasse\n( 19 - 49 J. )",null,null,{"$f":"SUM(B176:C176)","v":0},{"$nulls":20},{"$f":"E176+G176+I176+K176+M176+O176+Q176+S176+U176+W176","v":0},{"$f":"F176+H176+J176+L176+N176+P176+R176+T176+V176+X176","v":0},{"$f":"B176+C176+E176+F176+G176+H176+I176+J176+K176+L176+M176+N176+O176+P176+Q176+R176+S176+T176+U176+V176+W176+X176","v":0}]
["Seniorenklasse\n( ab 50 J. )",null,null,{"$f":"SUM(B177:C177)","v":0},{"$nulls":20},0,0,0]
["PARA\nStarter",null,null,{"$f":"SUM(B178:C178)","v":0},{"$nulls":20},0,0,0]
["Gesamt",{"$f":"SUM(B175:B178)","v":0},0,{"$f":"SUM(D175:D178)","v":0},0,0,0,0,0,0,0,0,0,0,0,0,0,0,0,0,0,0,0,0,0,0,0]
[]
["Datum",null,null,null,"Verein",{"$nulls":7},"LR 1",{"$nulls":4},"LR 2",{"$nulls":4},"LR 3",{"$nulls":7},{"$f":"N181","v":0},null,{"$f":"S181","v":0},null,{"$f":"X181","v":0}]
[19,"Vorprüfung",null,"Summe","Vierkampf\n1 - 3",null,"CSC",null,"GL THS\n1 / 2 / 5 KM",null,"CaniCross",null,"Bikejöring",null,"DogScooter",null,"HL",null,"Dreikampf\n1 - 3",null,"K.O. Cup",null,"Shorty",null,"Summe",null,"Gesamt"]
[]
["Altersklasse","A","B",null,"männlich","weiblich","männlich","weiblich","männlich","weiblich","männlich","weiblich","männlich","weiblich","männlich","weiblich","männlich","weiblich","männlich","weiblich","männlich","weiblich","männlich","weiblich","männlich","weiblich"]
["Jugendklasse\n( bis 18 J )",null,null,{"$f":"SUM(B185:C185)","v":0},{"$nulls":20},{"$f":"E185+G185+I185+K185+M185+O185+Q185+S185+U185+W185","v":0},{"$f":"F185+H185+J185+L185+N185+P185+R185+T185+V185+X185","v":0},{"$f":"B185+C185+E185+F185+G185+H185+I185+J185+K185+L185+M185+N185+O185+P185+Q185+R185+S185+T185+U185+V185+W185+X185","v":0}]
["Aktivenklasse\n( 19 - 49 J. )",null,null,{"$f":"SUM(B186:C186)","v":0},{"$nulls":20},{"$f":"E186+G186+I186+K186+M186+O186+Q186+S186+U186+W186","v":0},{"$f":"F186+H186+J186+L186+N186+P186+R186+T186+V186+X186","v":0},{"$f":"B186+C186+E186+F186+G186+H186+I186+J186+K186+L186+M186+N186+O186+P186+Q186+R186+S186+T186+U186+V186+W186+X186","v":0}]
["Seniorenklasse\n( ab 50 J. )",null,null,{"$f":"SUM(B187:C187)","v":0},{"$nulls":20},0,0,0]
["PARA\nStarter",null,null,{"$f":"SUM(B188:C188)","v":0},{"$nulls":20},0,0,0]
["Gesamt",{"$f":"SUM(B185:B188)","v":0},0,{"$f":"SUM(D185:D188)","v":0},0,0,0,0,0,0,0,0,0,0,0,0,0,0,0,0,0,0,0,0,0,0,0]
[]
["Datum",null,null,null,"Verein",{"$nulls":7},"LR 1",{"$nulls":4},"LR 2",{"$nulls":4},"LR 3",{"$nulls":7},{"$f":"N191","v":0},null,{"$f":"S191","v":0},null,{"$f":"X191","v":0}]
[20,"Vorprüfung",null,"Summe","Vierkampf\n1 - 3",null,"CSC",null,"GL THS\n1 / 2 / 5 KM",null,"CaniCross",null,"Bikejöring",null,"DogScooter",null,"HL",null,"Dreikampf\n1 - 3",null,"K.O. Cup",null,"Shorty",null,"Summe",null,"Gesamt"]
[]
["Altersklasse","A","B",null,"männlich","weiblich","männlich","weiblich","männlich","weiblich","männlich","weiblich","männlich","weiblich","männlich","weiblich","männlich","weiblich","männlich","weiblich","männlich","weiblich","männlich","weiblich","männlich","weiblich"]
["Jugendklasse\n( bis 18 J )",null,null,{"$f":"SUM(B195:C195)","v":0},{"$nulls":20},{"$f":"E195+G195+I195+K195+M195+O195+Q195+S195+U195+W195","v":0},{"$f":"F195+H195+J195+L195+N195+P195+R195+T195+V195+X195","v":0},{"$f":"B195+C195+E195+F195+G195+H195+I195+J195+K195+L195+M195+N195+O195+P195+Q195+R195+S195+T195+U195+V195+W195+X195","v":0}]
["Aktivenklasse\n( 19 - 49 J. )",null,null,{"$f":"SUM(B196:C196)","v":0},{"$nulls":20},{"$f":"E196+G196+I196+K196+M196+O196+Q196+S196+U196+W196","v":0},{"$f":"F196+H196+J196+L196+N196+P196+R196+T196+V196+X196","v":0},{"$f":"B196+C196+E196+F196+G196+H196+I196+J196+K196+L196+M196+N196+O196+P196+Q196+R196+S196+T196+U196+V196+W196+X196","v":0}]
["Seniorenklasse\n( ab 50 J. )",null,null,{"$f":"SUM(B197:C197)","v":0},{"$nulls":20},0,0,0]
["PARA\nStarter",null,null,{"$f":"SUM(B198:C198)","v":0},{"$nulls":20},0,0,0]
["Gesamt",{"$f":"SUM(B195:B198)","v":0},0,{"$f":"SUM(D195:D198)","v":0},0,0,0,0,0,0,0,0,0,0,0,0,0,0,0,0,0,0,0,0,0,0,0]
[]
["Datum",null,null,null,"Verein",{"$nulls":7},"LR 1",{"$nulls":4},"LR 2",{"$nulls":4},"LR 3",{"$nulls":7},{"$f":"N201","v":0},null,{"$f":"S201","v":0},null,{"$f":"X201","v":0}]
[21,"Vorprüfung",null,"Summe","Vierkampf\n1 - 3",null,"CSC",null,"GL THS\n1 / 2 / 5 KM",null,"CaniCross",null,"Bikejöring",null,"DogScooter",null,"HL",null,"Dreikampf\n1 - 3",null,"K.O. Cup",null,"Shorty",null,"Summe",null,"Gesamt"]
[]
["Altersklasse","A","B",null,"männlich","weiblich","männlich","weiblich","männlich","weiblich","männlich","weiblich","männlich","weiblich","männlich","weiblich","männlich","weiblich","männlich","weiblich","männlich","weiblich","männlich","weiblich","männlich","weiblich"]
["Jugendklasse\n( bis 18 J )",null,null,{"$f":"SUM(B205:C205)","v":0},{"$nulls":20},{"$f":"E205+G205+I205+K205+M205+O205+Q205+S205+U205+W205","v":0},{"$f":"F205+H205+J205+L205+N205+P205+R205+T205+V205+X205","v":0},{"$f":"B205+C205+E205+F205+G205+H205+I205+J205+K205+L205+M205+N205+O205+P205+Q205+R205+S205+T205+U205+V205+W205+X205","v":0}]
["Aktivenklasse\n( 19 - 49 J. )",null,null,{"$f":"SUM(B206:C206)","v":0},{"$nulls":20},{"$f":"E206+G206+I206+K206+M206+O206+Q206+S206+U206+W206","v":0},{"$f":"F206+H206+J206+L206+N206+P206+R206+T206+V206+X206","v":0},{"$f":"B206+C206+E206+F206+G206+H206+I206+J206+K206+L206+M206+N206+O206+P206+Q206+R206+S206+T206+U206+V206+W206+X206","v":0}]
["Seniorenklasse\n( ab 50 J. )",null,null,{"$f":"SUM(B207:C207)","v":0},{"$nulls":20},0,0,0]
["PARA\nStarter",null,null,{"$f":"SUM(B208:C208)","v":0},{"$nulls":20},0,0,0]
["Gesamt",{"$f":"SUM(B205:B208)","v":0},0,{"$f":"SUM(D205:D208)","v":0},0,0,0,0,0,0,0,0,0,0,0,0,0,0,0,0,0,0,0,0,0,0,0]
[]
["Datum",null,null,null,"Verein",{"$nulls":7},"LR 1",{"$nulls":4},"LR 2",{"$nulls":4},"LR 3",{"$nulls":7},{"$f":"N211","v":0},null,{"$f":"S211","v":0},null,{"$f":"X211","v":0}]
[22,"Vorprüfung",null,"Summe","Vierkampf\n1 - 3",null,"CSC",null,"GL THS\n1 / 2 / 5 KM",null,"CaniCross",null,"Bikejöring",null,"DogScooter",null,"HL",null,"Dreikampf\n1 - 3",null,"K.O. Cup",null,"Shorty",null,"Summe",null,"Gesamt"]
[]
["Altersklasse","A","B",null,"männlich","weiblich","männlich","weiblich","männlich","weiblich","männlich","weiblich","männlich","weiblich","männlich","weiblich","männlich","weiblich","männlich","weiblich","männlich","weiblich","männlich","weiblich","männlich","weiblich"]
["Jugendklasse\n( bis 18 J )",null,null,{"$f":"SUM(B215:C215)","v":0},{"$nulls":20},{"$f":"E215+G215+I215+K215+M215+O215+Q215+S215+U215+W215","v":0},{"$f":"F215+H215+J215+L215+N215+P215+R215+T215+V215+X215","v":0},{"$f":"B215+C215+E215+F215+G215+H215+I215+J215+K215+L215+M215+N215+O215+P215+Q215+R215+S215+T215+U215+V215+W215+X215","v":0}]
["Aktivenklasse\n( 19 - 49 J. )",null,null,{"$f":"SUM(B216:C216)","v":0},{"$nulls":20},{"$f":"E216+G216+I216+K216+M216+O216+Q216+S216+U216+W216","v":0},{"$f":"F216+H216+J216+L216+N216+P216+R216+T216+V216+X216","v":0},{"$f":"B216+C216+E216+F216+G216+H216+I216+J216+K216+L216+M216+N216+O216+P216+Q216+R216+S216+T216+U216+V216+W216+X216","v":0}]
["Seniorenklasse\n( ab 50 J. )",null,null,{"$f":"SUM(B217:C217)","v":0},{"$nulls":20},0,0,0]
["PARA\nStarter",null,null,{"$f":"SUM(B218:C218)","v":0},{"$nulls":20},0,0,0]
["Gesamt",{"$f":"SUM(B215:B218)","v":0},0,{"$f":"SUM(D215:D218)","v":0},0,0,0,0,0,0,0,0,0,0,0,0,0,0,0,0,0,0,0,0,0,0,0]
[]
["Datum",null,null,null,"Verein",{"$nulls":7},"LR 1",{"$nulls":4},"LR 2",{"$nulls":4},"LR 3",{"$nulls":7},{"$f":"N221","v":0},null,{"$f":"S221","v":0},null,{"$f":"X221","v":0}]
[23,"Vorprüfung",null,"Summe","Vierkampf\n1 - 3",null,"CSC",null,"GL THS\n1 / 2 / 5 KM",null,"CaniCross",null,"Bikejöring",null,"DogScooter",null,"HL",null,"Dreikampf\n1 - 3",null,"K.O. Cup",null,"Shorty",null,"Summe",null,"Gesamt"]
[]
["Altersklasse","A","B",null,"männlich","weiblich","männlich","weiblich","männlich","weiblich","männlich","weiblich","männlich","weiblich","männlich","weiblich","männlich","weiblich","männlich","weiblich","männlich","weiblich","männlich","weiblich","männlich","weiblich"]
["Jugendklasse\n( bis 18 J )",null,null,{"$f":"SUM(B225:C225)","v":0},{"$nulls":20},{"$f":"E225+G225+I225+K225+M225+O225+Q225+S225+U225+W225","v":0},{"$f":"F225+H225+J225+L225+N225+P225+R225+T225+V225+X225","v":0},{"$f":"B225+C225+E225+F225+G225+H225+I225+J225+K225+L225+M225+N225+O225+P225+Q225+R225+S225+T225+U225+V225+W225+X225","v":0}]
["Aktivenklasse\n( 19 - 49 J. )",null,null,{"$f":"SUM(B226:C226)","v":0},{"$nulls":20},{"$f":"E226+G226+I226+K226+M226+O226+Q226+S226+U226+W226","v":0},{"$f":"F226+H226+J226+L226+N226+P226+R226+T226+V226+X226","v":0},{"$f":"B226+C226+E226+F226+G226+H226+I226+J226+K226+L226+M226+N226+O226+P226+Q226+R226+S226+T226+U226+V226+W226+X226","v":0}]
["Seniorenklasse\n( ab 50 J. )",null,null,{"$f":"SUM(B227:C227)","v":0},{"$nulls":20},0,0,0]
["PARA\nStarter",null,null,{"$f":"SUM(B228:C228)","v":0},{"$nulls":20},0,0,0]
["Gesamt",{"$f":"SUM(B225:B228)","v":0},0,{"$f":"SUM(D225:D228)","v":0},0,0,0,0,0,0,0,0,0,0,0,0,0,0,0,0,0,0,0,0,0,0,0]
[]
["Datum",null,null,null,"Verein",{"$nulls":7},"LR 1",{"$nulls":4},"LR 2",{"$nulls":4},"LR 3",{"$nulls":7},{"$f":"N231","v":0},null,{"$f":"S231","v":0},null,{"$f":"X231","v":0}]
[24,"Vorprüfung",null,"Summe","Vierkampf\n1 - 3",null,"CSC",null,"GL THS\n1 / 2 / 5 KM",null,"CaniCross",null,"Bikejöring",null,"DogScooter",null,"HL",null,"Dreikampf\n1 - 3",null,"K.O. Cup",null,"Shorty",null,"Summe",null,"Gesamt"]
[]
["Altersklasse","A","B",null,"männlich","weiblich","männlich","weiblich","männlich","weiblich","männlich","weiblich","männlich","weiblich","männlich","weiblich","männlich","weiblich","männlich","weiblich","männlich","weiblich","männlich","weiblich","männlich","weiblich"]
["Jugendklasse\n( bis 18 J )",null,null,{"$f":"SUM(B235:C235)","v":0},{"$nulls":20},{"$f":"E235+G235+I235+K235+M235+O235+Q235+S235+U235+W235","v":0},{"$f":"F235+H235+J235+L235+N235+P235+R235+T235+V235+X235","v":0},{"$f":"B235+C235+E235+F235+G235+H235+I235+J235+K235+L235+M235+N235+O235+P235+Q235+R235+S235+T235+U235+V235+W235+X235","v":0}]
["Aktivenklasse\n( 19 - 49 J. )",null,null,{"$f":"SUM(B236:C236)","v":0},{"$nulls":20},{"$f":"E236+G236+I236+K236+M236+O236+Q236+S236+U236+W236","v":0},{"$f":"F236+H236+J236+L236+N236+P236+R236+T236+V236+X236","v":0},{"$f":"B236+C236+E236+F236+G236+H236+I236+J236+K236+L236+M236+N236+O236+P236+Q236+R236+S236+T236+U236+V236+W236+X236","v":0}]
["Seniorenklasse\n( ab 50 J. )",null,null,{"$f":"SUM(B237:C237)","v":0},{"$nulls":20},0,0,0]
["PARA\nStarter",null,null,{"$f":"SUM(B238:C238)","v":0},{"$nulls":20},0,0,0]
["Gesamt",{"$f":"SUM(B235:B238)","v":0},0,{"$f":"SUM(D235:D238)","v":0},0,0,0,0,0,0,0,0,0,0,0,0,0,0,0,0,0,0,0,0,0,0,0]
[]
["Datum",null,null,null,"Verein",{"$nulls":7},"LR 1",{"$nulls":4},"LR 2",{"$nulls":4},"LR 3",{"$nulls":7},{"$f":"N241","v":0},null,{"$f":"S241","v":0},null,{"$f":"X241","v":0}]
[25,"Vorprüfung",null,"Summe","Vierkampf\n1 - 3",null,"CSC",null,"GL THS\n1 / 2 / 5 KM",null,"CaniCross",null,"Bikejöring",null,"DogScooter",null,"HL",null,"Dreikampf\n1 - 3",null,"K.O. Cup",null,"Shorty",null,"Summe",null,"Gesamt"]
[]
["Altersklasse","A","B",null,"männlich","weiblich","männlich","weiblich","männlich","weiblich","männlich","weiblich","männlich","weiblich","männlich","weiblich","männlich","weiblich","männlich","weiblich","männlich","weiblich","männlich","weiblich","männlich","weiblich"]
["Jugendklasse\n( bis 18 J )",null,null,{"$f":"SUM(B245:C245)","v":0},{"$nulls":20},{"$f":"E245+G245+I245+K245+M245+O245+Q245+S245+U245+W245","v":0},{"$f":"F245+H245+J245+L245+N245+P245+R245+T245+V245+X245","v":0},{"$f":"B245+C245+E245+F245+G245+H245+I245+J245+K245+L245+M245+N245+O245+P245+Q245+R245+S245+T245+U245+V245+W245+X245","v":0}]
["Aktivenklasse\n( 19 - 49 J. )",null,null,{"$f":"SUM(B246:C246)","v":0},{"$nulls":20},{"$f":"E246+G246+I246+K246+M246+O246+Q246+S246+U246+W246","v":0},{"$f":"F246+H246+J246+L246+N246+P246+R246+T246+V246+X246","v":0},{"$f":"B246+C246+E246+F246+G246+H246+I246+J246+K246+L246+M246+N246+O246+P246+Q246+R246+S246+T246+U246+V246+W246+X246","v":0}]
["Seniorenklasse\n( ab 50 J. )",null,null,{"$f":"SUM(B247:C247)","v":0},{"$nulls":20},0,0,0]
["PARA\nStarter",null,null,{"$f":"SUM(B248:C248)","v":0},{"$nulls":20},0,0,0]
["Gesamt",{"$f":"SUM(B245:B248)","v":0},0,{"$f":"SUM(D245:D248)","v":0},0,0,0,0,0,0,0,0,0,0,0,0,0,0,0,0,0,0,0,0,0,0,0]
[]
["Datum",null,null,null,"Verein",{"$nulls":7},"LR 1",{"$nulls":4},"LR 2",{"$nulls":4},"LR 3",{"$nulls":7},{"$f":"N251","v":0},null,{"$f":"S251","v":0},null,{"$f":"X251","v":0}]
[26,"Vorprüfung",null,"Summe","Vierkampf\n1 - 3",null,"CSC",null,"GL THS\n1 / 2 / 5 KM",null,"CaniCross",null,"Bikejöring",null,"DogScooter",null,"HL",null,"Dreikampf\n1 - 3",null,"K.O. Cup",null,"Shorty",null,"Summe",null,"Gesamt"]
[]
["Altersklasse","A","B",null,"männlich","weiblich","männlich","weiblich","männlich","weiblich","männlich","weiblich","männlich","weiblich","männlich","weiblich","männlich","weiblich","männlich","weiblich","männlich","weiblich","männlich","weiblich","männlich","weiblich"]
["Jugendklasse\n( bis 18 J )",null,null,{"$f":"SUM(B255:C255)","v":0},{"$nulls":20},{"$f":"E255+G255+I255+K255+M255+O255+Q255+S255+U255+W255","v":0},{"$f":"F255+H255+J255+L255+N255+P255+R255+T255+V255+X255","v":0},{"$f":"B255+C255+E255+F255+G255+H255+I255+J255+K255+L255+M255+N255+O255+P255+Q255+R255+S255+T255+U255+V255+W255+X255","v":0}]
["Aktivenklasse\n( 19 - 49 J. )",null,null,{"$f":"SUM(B256:C256)","v":0},{"$nulls":20},{"$f":"E256+G256+I256+K256+M256+O256+Q256+S256+U256+W256","v":0},{"$f":"F256+H256+J256+L256+N256+P256+R256+T256+V256+X256","v":0},{"$f":"B256+C256+E256+F256+G256+H256+I256+J256+K256+L256+M256+N256+O256+P256+Q256+R256+S256+T256+U256+V256+W256+X256","v":0}]
["Seniorenklasse\n( ab 50 J. )",null,null,{"$f":"SUM(B257:C257)","v":0},{"$nulls":20},0,0,0]
["PARA\nStarter",null,null,{"$f":"SUM(B258:C258)","v":0},{"$nulls":20},0,0,0]
["Gesamt",{"$f":"SUM(B255:B258)","v":0},0,{"$f":"SUM(D255:D258)","v":0},0,0,0,0,0,0,0,0,0,0,0,0,0,0,0,0,0,0,0,0,0,0,0]
[]
["Datum",null,null,null,"Verein",{"$nulls":7},"LR 1",{"$nulls":4},"LR 2",{"$nulls":4},"LR 3",{"$nulls":7},{"$f":"N261","v":0},null,{"$f":"S261","v":0},null,{"$f":"X261","v":0}]
[27,"Vorprüfung",null,"Summe","Vierkampf\n1 - 3",null,"CSC",null,"GL THS\n1 / 2 / 5 KM",null,"CaniCross",null,"Bikejöring",null,"DogScooter",null,"HL",null,"Dreikampf\n1 - 3",null,"K.O. Cup",null,"Shorty",null,"Summe",null,"Gesamt"]
[]
["Altersklasse","A","B",null,"männlich","weiblich","männlich","weiblich","männlich","weiblich","männlich","weiblich","männlich","weiblich","männlich","weiblich","männlich","weiblich","männlich","weiblich","männlich","weiblich","männlich","weiblich","männlich","weiblich"]
["Jugendklasse\n( bis 18 J )",null,null,{"$f":"SUM(B265:C265)","v":0},{"$nulls":20},{"$f":"E265+G265+I265+K265+M265+O265+Q265+S265+U265+W265","v":0},{"$f":"F265+H265+J265+L265+N265+P265+R265+T265+V265+X265","v":0},{"$f":"B265+C265+E265+F265+G265+H265+I265+J265+K265+L265+M265+N265+O265+P265+Q265+R265+S265+T265+U265+V265+W265+X265","v":0}]
["Aktivenklasse\n( 19 - 49 J. )",null,null,{"$f":"SUM(B266:C266)","v":0},{"$nulls":20},{"$f":"E266+G266+I266+K266+M266+O266+Q266+S266+U266+W266","v":0},{"$f":"F266+H266+J266+L266+N266+P266+R266+T266+V266+X266","v":0},{"$f":"B266+C266+E266+F266+G266+H266+I266+J266+K266+L266+M266+N266+O266+P266+Q266+R266+S266+T266+U266+V266+W266+X266","v":0}]
["Seniorenklasse\n( ab 50 J. )",null,null,{"$f":"SUM(B267:C267)","v":0},{"$nulls":20},0,0,0]
["PARA\nStarter",null,null,{"$f":"SUM(B268:C268)","v":0},{"$nulls":20},0,0,0]
["Gesamt",{"$f":"SUM(B265:B268)","v":0},0,{"$f":"SUM(D265:D268)","v":0},0,0,0,0,0,0,0,0,0,0,0,0,0,0,0,0,0,0,0,0,0,0,0]
[]
["Datum",null,null,null,"Verein",{"$nulls":7},"LR 1",{"$nulls":4},"LR 2",{"$nulls":4},"LR 3",{"$nulls":7},{"$f":"N271","v":0},null,{"$f":"S271","v":0},null,{"$f":"X271","v":0}]
[28,"Vorprüfung",null,"Summe","Vierkampf\n1 - 3",null,"CSC",null,"GL THS\n1 / 2 / 5 KM",null,"CaniCross",null,"Bikejöring",null,"DogScooter",null,"HL",null,"Dreikampf\n1 - 3",null,"K.O. Cup",null,"Shorty",null,"Summe",null,"Gesamt"]
[]
["Altersklasse","A","B",null,"männlich","weiblich","männlich","weiblich","männlich","weiblich","männlich","weiblich","männlich","weiblich","männlich","weiblich","männlich","weiblich","männlich","weiblich","männlich","weiblich","männlich","weiblich","männlich","weiblich"]
["Jugendklasse\n( bis 18 J )",null,null,{"$f":"SUM(B275:C275)","v":0},{"$nulls":20},{"$f":"E275+G275+I275+K275+M275+O275+Q275+S275+U275+W275","v":0},{"$f":"F275+H275+J275+L275+N275+P275+R275+T275+V275+X275","v":0},{"$f":"B275+C275+E275+F275+G275+H275+I275+J275+K275+L275+M275+N275+O275+P275+Q275+R275+S275+T275+U275+V275+W275+X275","v":0}]
["Aktivenklasse\n( 19 - 49 J. )",null,null,{"$f":"SUM(B276:C276)","v":0},{"$nulls":20},{"$f":"E276+G276+I276+K276+M276+O276+Q276+S276+U276+W276","v":0},{"$f":"F276+H276+J276+L276+N276+P276+R276+T276+V276+X276","v":0},{"$f":"B276+C276+E276+F276+G276+H276+I276+J276+K276+L276+M276+N276+O276+P276+Q276+R276+S276+T276+U276+V276+W276+X276","v":0}]
["Seniorenklasse\n( ab 50 J. )",null,null,{"$f":"SUM(B277:C277)","v":0},{"$nulls":20},0,0,0]
["PARA\nStarter",null,null,{"$f":"SUM(B278:C278)","v":0},{"$nulls":20},0,0,0]
["Gesamt",{"$f":"SUM(B275:B278)","v":0},0,{"$f":"SUM(D275:D278)","v":0},0,0,0,0,0,0,0,0,0,0,0,0,0,0,0,0,0,0,0,0,0,0,0]
[]
["Datum",null,null,null,"Verein",{"$nulls":7},"LR 1",{"$nulls":4},"LR 2",{"$nulls":4},"LR 3",{"$nulls":7},{"$f":"N281","v":0},null,{"$f":"S281","v":0},null,{"$f":"X281","v":0}]
[29,"Vorprüfung",null,"Summe","Vierkampf\n1 - 3",null,"CSC",null,"GL THS\n1 / 2 / 5 KM",null,"CaniCross",null,"Bikejöring",null,"DogScooter",null,"HL",null,"Dreikampf\n1 - 3",null,"K.O. Cup",null,"Shorty",null,"Summe",null,"Gesamt"]
[]
["Altersklasse","A","B",null,"männlich","weiblich","männlich","weiblich","männlich","weiblich","männlich","weiblich","männlich","weiblich","männlich","weiblich","männlich","weiblich","männlich","weiblich","männlich","weiblich","männlich","weiblich","männlich","weiblich"]
["Jugendklasse\n( bis 18 J )",null,null,{"$f":"SUM(B285:C285)","v":0},{"$nulls":20},{"$f":"E285+G285+I285+K285+M285+O285+Q285+S285+U285+W285","v":0},{"$f":"F285+H285+J285+L285+N285+P285+R285+T285+V285+X285","v":0},{"$f":"B285+C285+E285+F285+G285+H285+I285+J285+K285+L285+M285+N285+O285+P285+Q285+R285+S285+T285+U285+V285+W285+X285","v":0}]
["Aktivenklasse\n( 19 - 49 J. )",null,null,{"$f":"SUM(B286:C286)","v":0},{"$nulls":20},{"$f":"E286+G286+I286+K286+M286+O286+Q286+S286+U286+W286","v":0},{"$f":"F286+H286+J286+L286+N286+P286+R286+T286+V286+X286","v":0},{"$f":"B286+C286+E286+F286+G286+H286+I286+J286+K286+L286+M286+N286+O286+P286+Q286+R286+S286+T286+U286+V286+W286+X286","v":0}]
["Seniorenklasse\n( ab 50 J. )",null,null,{"$f":"SUM(B287:C287)","v":0},{"$nulls":20},0,0,0]
["PARA\nStarter",null,null,{"$f":"SUM(B288:C288)","v":0},{"$nulls":20},0,0,0]
["Gesamt",{"$f":"SUM(B285:B288)","v":0},0,{"$f":"SUM(D285:D288)","v":0},0,0,0,0,0,0,0,0,0,0,0,0,0,0,0,0,0,0,0,0,0,0,0]
[]
["Datum",null,null,null,"Verein",{"$nulls":7},"LR 1",{"$nulls":4},"LR 2",{"$nulls":4},"LR 3",{"$nulls":7},{"$f":"N291","v":0},null,{"$f":"S291","v":0},null,{"$f":"X291","v":0}]
[30,"Vorprüfung",null,"Summe","Vierkampf\n1 - 3",null,"CSC",null,"GL THS\n1 / 2 / 5 KM",null,"CaniCross",null,"Bikejöring",null,"DogScooter",null,"HL",null,"Dreikampf\n1 - 3",null,"K.O. Cup",null,"Shorty",null,"Summe",null,"Gesamt"]
[]
["Altersklasse","A","B",null,"männlich","weiblich","männlich","weiblich","männlich","weiblich","männlich","weiblich","männlich","weiblich","männlich","weiblich","männlich","weiblich","männlich","weiblich","männlich","weiblich","männlich","weiblich","männlich","weiblich"]
["Jugendklasse\n( bis 18 J )",null,null,{"$f":"SUM(B295:C295)","v":0},{"$nulls":20},{"$f":"E295+G295+I295+K295+M295+O295+Q295+S295+U295+W295","v":0},{"$f":"F295+H295+J295+L295+N295+P295+R295+T295+V295+X295","v":0},{"$f":"B295+C295+E295+F295+G295+H295+I295+J295+K295+L295+M295+N295+O295+P295+Q295+R295+S295+T295+U295+V295+W295+X295","v":0}]
["Aktivenklasse\n( 19 - 49 J. )",null,null,{"$f":"SUM(B296:C296)","v":0},{"$nulls":20},{"$f":"E296+G296+I296+K296+M296+O296+Q296+S296+U296+W296","v":0},{"$f":"F296+H296+J296+L296+N296+P296+R296+T296+V296+X296","v":0},{"$f":"B296+C296+E296+F296+G296+H296+I296+J296+K296+L296+M296+N296+O296+P296+Q296+R296+S296+T296+U296+V296+W296+X296","v":0}]
["Seniorenklasse\n( ab 50 J. )",null,null,{"$f":"SUM(B297:C297)","v":0},{"$nulls":20},0,0,0]
["PARA\nStarter",null,null,{"$f":"SUM(B298:C298)","v":0},{"$nulls":20},0,0,0]
["Gesamt",{"$f":"SUM(B295:B298)","v":0},0,{"$f":"SUM(D295:D298)","v":0},0,0,0,0,0,0,0,0,0,0,0,0,0,0,0,0,0,0,0,0,0,0,0]
[]
["Gesamtergebnis Thurnierhundsport 2019"]
[30,"Vorprüfung",null,"Summe","Vierkampf\n1 - 3",null,"CSC",null,"GL THS\n1 / 2 / 5 KM",null,"CaniCross",null,"Bikejöring",null,"DogScooter",null,"HL",null,"Dreikampf\n1 - 3",null,"K.O. Cup",null,"Shorty",null,"Summe",null,"Gesamt"]
[]
["Altersklasse","A","B",null,"männlich","weiblich","männlich","weiblich","männlich","weiblich","männlich","weiblich","männlich","weiblich","männlich","weiblich","männlich","weiblich","männlich","weiblich","männlich","weiblich","männlich","weiblich","männlich","weiblich",null,null,"Leistungsrichter",{"$nulls":8},"Gesamt"]
["Jugendklasse\n( bis 18 J )",{"$f":"B5+B15+B25+B35+B45+B55+B65+B75+B85+B95+B105+B115+B125+B135+B155+B165+B175+B185+B195+B205+B215+B225+B235+B245+B255+B265+B275+B285+B295","v":3},{"$f":"C5+C15+C25+C35+C45+C55+C65+C75+C85+C95+C105+C115+C125+C135+C155+C165+C175+C185+C195+C205+C215+C225+C235+C245+C255+C265+C275+C285+C295","v":2},{"$f":"SUM(B305:C305)","v":5},{"$f":"E5+E15+E25+E35+E45+E55+E65+E75+E85+E95+E105+E115+E125+E135+E145+E155+E165+E175+E185+E195+E205+E215+E225+E235+E245+E255+E265+E275+E285+E295","v":1},{"$f":"F5+F15+F25+F35+F45+F55+F65+F75+F85+F95+F105+F115+F125+F135+F145+F155+F165+F175+F185+F195+F205+F215+F225+F235+F245+F255+F265+F275+F285+F295","v":6},0,5,1,3,2,1,0,0,0,0,1,4,0,8,2,1,0,12,{"$f":"E305+G305+I305+K305+M305+O305+Q305+S305+U305+W305","v":7},{"$f":"F305+H305+J305+L305+N305+P305+R305+T305+V305+X305","v":40},{"$f":"B305+C305+E305+F305+G305+H305+I305+J305+K305+L305+M305+N305+O305+P305+Q305+R305+S305+T305+U305+V305+W305+X305","v":52},null,"Bormann, Aloys",null,{"$f":"COUNTIF(AE2:AE299,\"Bormann, Aloys\")","v":0},null,{"$f":"COUNTIF(AG2:AG299,\"Bormann, Aloys\")","v":0},null,{"$f":"COUNTIF(AI2:AI299,\"Bormann, Aloys\")","v":0},null,null,{"$f":"AE305+AG305+AI305","v":0}]
["Aktivenklasse\n( 19 - 49 J. )",{"$f":"B6+B16+B26+B36+B46+B56+B66+B76+B86+B96+B106+B116+B126+B136+B136+B146+B156+B166+B176+B186+B196+B206+B216+B226+B236+B246+B256+B266+B276+B286+B296","v":19},{"$f":"C6+C16+C26+C36+C46+C56+C66+C76+C86+C96+C106+C116+C126+C136+C136+C146+C156+C166+C176+C186+C196+C206+C216+C226+C236+C246+C256+C266+C276+C286+C296","v":3},{"$f":"SUM(B306:C306)","v":22},{"$f":"E6+E16+E26+E36+E46+E56+E66+E76+E86+E96+E106+E116+E126+E136+E146+E156+E166+E176+E186+E196+E206+E216+E226+E236+E246+E256+E266+E276+E286+E296","v":18},{"$f":"F6+F16+F26+F36+F46+F56+F66+F76+F86+F96+F106+F116+F126+F136+F146+F156+F166+F176+F186+F196+F206+F216+F226+F236+F246+F256+F266+F276+F286+F296","v":56},7,30,24,35,8,16,7,7,2,6,13,23,4,29,6,26,10,50,{"$f":"E306+G306+I306+K306+M306+O306+Q306+S306+U306+W306","v":99},{"$f":"F306+H306+J306+L306+N306+P306+R306+T306+V306+X306","v":278},{"$f":"B306+C306+E306+F306+G306+H306+I306+J306+K306+L306+M306+N306+O306+P306+Q306+R306+S306+T306+U306+V306+W306+X306","v":399},null,"Geber, Harald",null,{"$f":"COUNTIF(AE2:AE299,\"Geber, Harald\")","v":0},null,{"$f":"COUNTIF(AG2:AG299,\"Geber, Harald\")","v":0},null,{"$f":"COUNTIF(AI2:AI299,\"Geber, Harald\")","v":0},null,null,{"$f":"AE306+AG306+AI306","v":0}]
["Seniorenklasse\n( ab 50 J. )",{"$f":"B7+B17+B27+B37+B47+B57+B67+B77+B87+B97+B107+B117+B127+B137+B147+B157+B167+B177+B187+B197+B207+B217+B227+B237+B247+B257+B267+B277+B287+B297","v":4},{"$f":"C7+C17+C27+C37+C47+C57+C67+C77+C87+C97+C107+C117+C127+C137+C147+C157+C167+C177+C187+C197+C207+C217+C227+C237+C247+C257+C267+C277+C287+C297","v":1},{"$f":"SUM(B307:C307)","v":5},{"$f":"E7+E17+E27+E37+E47+E57+E67+E77+E87+E97+E107+E117+E127+E137+E147+E157+E167+E177+E187+E197+E207+E217+E227+E237+E247+E257+E267+E277+E287+E297","v":29},{"$f":"F7+F17+F27+F37+F47+F57+F67+F77+F87+F97+F107+F117+F127+F137+F147+F157+F167+F177+F187+F197+F207+F217+F227+F237+F247+F257+F267+F277+F287+F297","v":38},11,19,4,8,2,2,0,1,4,6,11,18,10,29,9,8,20,48,100,177,282,null,"Gensrich, Michael",null,{"$f":"COUNTIF(AE2:AE299,\"Gensrich, Michael\")","v":0},null,{"$f":"COUNTIF(AG2:AG299,\"Gensrich, Michael\")","v":0},null,{"$f":"COUNTIF(AI2:AI299,\"Gensrich, Michael\")","v":0},null,null,0]
["PARA\nStarter",{"$f":"B8+B18+B28+B38+B48+B58+B68+B78+B88+B98+B108+B118+B128+B138+B148+B158+B168+B178+B188+B198+B208+B218+B228+B238+B248+B258+B268+B278+B288+B298","v":0},{"$f":"C8+C18+C28+C38+C48+C58+C68+C78+C88+C98+C108+C118+C128+C138+C148+C158+C168+C178+C188+C198+C208+C218+C228+C238+C248+C258+C268+C278+C288+C298","v":0},{"$f":"SUM(B308:C308)","v":0},{"$f":"E8+E18+E28+E38+E48+E58+E68+E78+E88+E98+E108+E118+E128+E138+E148+E158+E168+E178+E188+E198+E208+E218+E228+E238+E248+E258+E268+E278+E288+E298","v":0},{"$f":"F8+F18+F28+F38+F48+F58+F68+F78+F88+F98+F108+F118+F128+F138+F148+F158+F168+F178+F188+F198+F208+F218+F228+F238+F248+F258+F268+F278+F288+F298","v":0},0,0,0,0,0,0,0,0,0,0,0,0,0,0,0,0,0,0,0,0,0,null,"Grünig, Rainer",null,{"$f":"COUNTIF(AE2:AE299,\"Grünig, Rainer\")","v":0},null,{"$f":"COUNTIF(AG2:AG299,\"Grünig, Rainer\")","v":0},null,{"$f":"COUNTIF(AI2:AI299,\"Grünig, Rainer\")","v":0},null,null,0]
["Gesamt",{"$f":"SUM(B305:B308)","v":26},{"$f":"SUM(C305:C308)","v":6},{"$f":"SUM(D305:D308)","v":32},48,{"$f":"SUM(F305:F308)","v":100},18,54,29,46,12,19,7,8,6,12,25,45,14,66,17,35,30,110,206,495,733,null,"Lausch, Christian",null,{"$f":"COUNTIF(AE2:AE299,\"Lausch, Christian\")","v":0},null,{"$f":"COUNTIF(AG2:AG299,\"Lausch, Christian\")","v":0},null,{"$f":"COUNTIF(AI2:AI299,\"Lausch, Christian\")","v":0},null,null,0]
[{"$nulls":28},"Sprenger, Beate",null,{"$f":"COUNTIF(AE2:AE299,\"Sprenger, Beate\")","v":0},null,{"$f":"COUNTIF(AG2:AG299,\"Sprenger, Beate\")","v":0},null,{"$f":"COUNTIF(AI2:AI299,\"Sprenger, Beate\")","v":0},null,null,0]
[{"$nulls":28},"Volkmann, Claudia",null,{"$f":"COUNTIF(AE2:AE299,\"Volkmann, Claudia\")","v":0},null,{"$f":"COUNTIF(AG2:AG299,\"Volkmann, Claudia\")","v":0},null,{"$f":"COUNTIF(AI2:AI299,\"Volkmann, Claudia\")","v":0},null,null,0]

{"sheet":"BH_VT","index":2,"n_rows":230,"n_cols":14,"rows_kept":230,"cut":false,"hidden":false,"merged":[[198,5,198,6],[209,5,209,6],[99,5,99,6],[110,5,110,6],[121,5,121,6],[132,5,132,6],[143,5,143,6],[154,5,154,6],[165,5,165,6],[176,5,176,6],[187,5,187,6],[199,4,199,8],[210,4,210,8],[11,8,11,9],[22,8,22,9],[33,8,33,9],[44,8,44,9],[55,8,55,9],[66,8,66,9],[77,8,77,9],[88,8,88,9],[99,8,99,9],[110,8,110,9],[121,8,121,9],[132,8,132,9],[143,8,143,9],[154,8,154,9],[165,8,165,9],[176,8,176,9],[187,8,187,9],[198,8,198,9],[209,8,209,9],[11,5,11,6],[22,5,22,6],[33,5,33,6],[44,5,44,6],[0,8,0,9],[0,5,0,6],[220,0,220,3],[220,4,220,8],[229,5,229,8],[1,4,1,8],[12,4,12,8],[23,4,23,8],[34,4,34,8],[45,4,45,8],[56,4,56,8],[67,4,67,8],[78,4,78,8],[89,4,89,8],[100,4,100,8],[111,4,111,8],[122,4,122,8],[133,4,133,8],[144,4,144,8],[155,4,155,8],[166,4,166,8],[199,1,199,2],[188,1,188,2],[177,1,177,2],[194,0,194,2],[195,0,195,2],[196,0,196,2],[201,0,201,2],[202,0,202,2],[185,0,185,2],[190,0,190,2],[191,0,191,2],[192,0,192,2],[193,0,193,2],[212,0,212,2],[213,0,213,2],[214,0,214,2],[215,0,215,2],[216,0,216,2],[203,0,203,2],[204,0,204,2],[205,0,205,2],[206,0,206,2],[207,0,207,2],[182,0,182,2],[183,0,183,2],[184,0,184,2],[170,0,170,2],[171,0,171,2],[172,0,172,2],[173,0,173,2],[174,0,174,2],[161,0,161,2],[162,0,162,2],[163,0,163,2],[168,0,168,2],[169,0,169,2],[166,1,166,2],[179,0,179,2],[180,0,180,2],[181,0,181,2],[152,0,152,2],[157,0,157,2],[158,0,158,2],[159,0,159,2],[160,0,160,2],[155,1,155,2],[146,0,146,2],[147,0,147,2],[148,0,148,2],[149,0,149,2],[150,0,150,2],[151,0,151,2],[137,0,137,2],[138,0,138,2],[139,0,139,2],[140,0,140,2],[141,0,141,2],[144,1,144,2],[128,0,128,2],[129,0,129,2],[130,0,130,2],[135,0,135,2],[136,0,136,2],[133,1,133,2],[119,0,119,2],[124,0,124,2],[125,0,125,2],[126,0,126,2],[127,0,127,2],[122,1,122,2],[113,0,113,2],[114,0,114,2],[115,0,115,2],[116,0,116,2],[117,0,117,2],[118,0,118,2],[104,0,104,2],[105,0,105,2],[106,0,106,2],[107,0,107,2],[108,0,108,2],[111,1,111,2],[95,0,95,2],[96,0,96,2],[97,0,97,2],[102,0,102,2],[103,0,103,2],[100,1,100,2],[64,0,64,2],[69,0,69,2],[70,0,70,2],[67,1,67,2],[86,0,86,2],[91,0,91,2],[92,0,92,2],[93,0,93,2],[94,0,94,2],[89,1,89,2],[80,0,80,2],[81,0,81,2],[82,0,82,2],[83,0,83,2],[84,0,84,2],[85,0,85,2],[53,0,53,2],[58,0,58,2],[59,0,59,2],[60,0,60,2],[61,0,61,2],[56,1,56,2],[47,0,47,2],[48,0,48,2],[49,0,49,2],[50,0,50,2],[51,0,51,2],[52,0,52,2],[38,0,38,2],[39,0,39,2],[40,0,40,2],[41,0,41,2],[42,0,42,2],[45,1,45,2],[29,0,29,2],[30,0,30,2],[31,0,31,2],[36,0,36,2],[37,0,37,2],[34,1,34,2],[20,0,20,2],[25,0,25,2],[26,0,26,2],[27,0,27,2],[28,0,28,2],[23,1,23,2],[14,0,14,2],[15,0,15,2],[16,0,16,2],[17,0,17,2],[18,0,18,2],[19,0,19,2],[9,0,9,2],[4,0,4,2],[6,0,6,2],[8,0,8,2],[12,1,12,2],[1,1,1,2],[3,0,3,2],[5,0,5,2],[7,0,7,2],[55,5,55,6],[66,5,66,6],[77,5,77,6],[88,5,88,6],[177,4,177,8],[188,4,188,8],[229,0,229,2],[223,0,223,2],[224,0,224,2],[225,0,225,2],[226,0,226,2],[227,0,227,2],[228,0,228,2],[218,0,218,2],[210,1,210,2],[217,0,217,2],[71,0,71,2],[72,0,72,2],[73,0,73,2],[74,0,74,2],[75,0,75,2],[78,1,78,2],[62,0,62,2],[63,0,63,2]]}
["Datum","14.04.","Verein","HC Lachtetal","LR 1","Bormann",null,"LR 2"]
[1,null,null,null,"Vorprüfung THS"]
[{"$nulls":5},"Jugend\nbis 18 J.","Aktive\n19 - 49 J.","Senioren\nab 50 J.","PARA","Gesamt"]
["BH - VT ohne AK",null,null,1]
[{"$nulls":4},"Teil A",1,2,null,null,{"$f":"F5+G5+H5+I5","v":3}]
["BH - VT bestanden",null,null,6,"Teil B",{"$nulls":4},{"$f":"F6+G6+H6+I6","v":0}]
[]
["BH -VT nur Sachkunde",null,null,0,"Summe",{"$f":"F5+F6","v":1},{"$f":"G5+G6","v":2},0,0,{"$f":"F8+G8+H8+I8","v":3}]
[]
["Gesamt",null,null,{"$f":"D4+D6+D8","v":7},null,"Gesamt",null,{"$f":"F8+G8+H8+I8","v":3}]
[]
["Datum","12.05.","Verein","SGV Langelsheim","LR 1","Bormann",null,"LR 2"]
[2,null,null,null,"Vorprüfung THS"]
[{"$nulls":5},"Jugend\nbis 18 J.","Aktive\n19 - 49 J.","Senioren\nab 50 J.","PARA","Gesamt"]
["BH - VT ohne AK"]
[{"$nulls":4},"Teil A",{"$nulls":4},{"$f":"F16+G16+H16+I16","v":0}]
["BH - VT bestanden",null,null,8,"Teil B",{"$nulls":4},{"$f":"F17+G17+H17+I17","v":0}]
[]
["BH -VT nur Sachkunde",null,null,null,"Summe",{"$f":"F16+F17","v":0},{"$f":"G16+G17","v":0},0,0,{"$f":"F19+G19+H19+I19","v":0}]
[]
["Gesamt",null,null,{"$f":"D15+D17+D19","v":8},null,"Gesamt",null,{"$f":"F19+G19+H19+I19","v":0}]
[]
["Datum","2019-06-30","Verein","HF Göttingen","LR 1","Gensrich",null,"LR 2"]
[3,null,null,null,"Vorprüfung THS"]
[{"$nulls":5},"Jugend\nbis 18 J.","Aktive\n19 - 49 J.","Senioren\nab 50 J.","PARA","Gesamt"]
["BH - VT ohne AK",null,null,4]
[{"$nulls":4},"Teil A",{"$nulls":4},{"$f":"F27+G27+H27+I27","v":0}]
["BH - VT bestanden",null,null,5,"Teil B",{"$nulls":4},{"$f":"F28+G28+H28+I28","v":0}]
[]
["BH -VT nur Sachkunde",null,null,null,"Summe",{"$f":"F27+F28","v":0},{"$f":"G27+G28","v":0},0,0,{"$f":"F30+G30+H30+I30","v":0}]
[]
["Gesamt",null,null,{"$f":"D26+D28+D30","v":9},null,"Gesamt",null,{"$f":"F30+G30+H30+I30","v":0}]
[]
["Datum","2019-08-24","Verein","PHV Laatzen","LR 1","Bormann",null,"LR 2"]
[4,null,null,null,"Vorprüfung THS"]
[{"$nulls":5},"Jugend\nbis 18 J.","Aktive\n19 - 49 J.","Senioren\nab 50 J.","PARA","Gesamt"]
["BH - VT ohne AK"]
[{"$nulls":4},"Teil A",null,2,1,null,{"$f":"F38+G38+H38+I38","v":3}]
["BH - VT bestanden",null,null,4,"Teil B",null,2,1,null,{"$f":"F39+G39+H39+I39","v":3}]
[]
["BH -VT nur Sachkunde",null,null,null,"Summe",{"$f":"F38+F39","v":0},{"$f":"G38+G39","v":4},2,0,{"$f":"F41+G41+H41+I41","v":6}]
[]
["Gesamt",null,null,{"$f":"D37+D39+D41","v":4},null,"Gesamt",null,{"$f":"F41+G41+H41+I41","v":6}]
[]
["Datum","2019-10-06","Verein","HSV Bockenem","LR 1","Volkmann",null,"LR 2"]
[5,null,null,null,"Vorprüfung THS"]
[{"$nulls":5},"Jugend\nbis 18 J.","Aktive\n19 - 49 J.","Senioren\nab 50 J.","PARA","Gesamt"]
["BH - VT ohne AK",null,null,1]
[{"$nulls":4},"Teil A",{"$nulls":4},{"$f":"F49+G49+H49+I49","v":0}]
["BH - VT bestanden",null,null,7,"Teil B",{"$nulls":4},{"$f":"F50+G50+H50+I50","v":0}]
[]
["BH -VT nur Sachkunde",null,null,null,"Summe",{"$f":"F49+F50","v":0},{"$f":"G49+G50","v":0},0,0,{"$f":"F52+G52+H52+I52","v":0}]
[]
["Gesamt",null,null,{"$f":"D48+D50+D52","v":8},null,"Gesamt",null,{"$f":"F52+G52+H52+I52","v":0}]
[]
["Datum","2019-11-03","Verein","VdH Celle","LR 1",null,null,"LR 2"]
[6,null,null,null,"Vorprüfung THS"]
[{"$nulls":5},"Jugend\nbis 18 J.","Aktive\n19 - 49 J.","Senioren\nab 50 J.","PARA","Gesamt"]
["BH - VT ohne AK"]
[{"$nulls":4},"Teil A",{"$nulls":4},{"$f":"F60+G60+H60+I60","v":0}]
["BH - VT bestanden",null,null,6,"Teil B",{"$nulls":4},{"$f":"F61+G61+H61+I61","v":0}]
[]
["BH -VT nur Sachkunde",null,null,null,"Summe",{"$f":"F60+F61","v":0},{"$f":"G60+G61","v":0},0,0,{"$f":"F63+G63+H63+I63","v":0}]
[]
["Gesamt",null,null,{"$f":"D59+D61+D63","v":6},null,"Gesamt",null,{"$f":"F63+G63+H63+I63","v":0}]
[]
["Datum","2019-11-16","Verein","HSV Zum Weserbogen","LR 1","Geber",null,"LR 2"]
[7,null,null,null,"Vorprüfung THS"]
[{"$nulls":5},"Jugend\nbis 18 J.","Aktive\n19 - 49 J.","Senioren\nab 50 J.","PARA","Gesamt"]
["BH - VT ohne AK",null,null,1]
[{"$nulls":4},"Teil A",{"$nulls":4},{"$f":"F71+G71+H71+I71","v":0}]
["BH - VT bestanden",null,null,6,"Teil B",{"$nulls":4},{"$f":"F72+G72+H72+I72","v":0}]
[]
["BH -VT nur Sachkunde",null,null,null,"Summe",{"$f":"F71+F72","v":0},{"$f":"G71+G72","v":0},0,0,{"$f":"F74+G74+H74+I74","v":0}]
[]
["Gesamt",null,null,{"$f":"D70+D72+D74","v":7},null,"Gesamt",null,{"$f":"F74+G74+H74+I74","v":0}]
[]
["Datum",null,"Verein",null,"LR 1",null,null,"LR 2"]
[8,null,null,null,"Vorprüfung THS"]
[{"$nulls":5},"Jugend\nbis 18 J.","Aktive\n19 - 49 J.","Senioren\nab 50 J.","PARA","Gesamt"]
["BH - VT ohne AK"]
[{"$nulls":4},"Teil A",{"$nulls":4},{"$f":"F82+G82+H82+I82","v":0}]
["BH - VT bestanden",null,null,null,"Teil B",{"$nulls":4},{"$f":"F83+G83+H83+I83","v":0}]
[]
["BH -VT nur Sachkunde",null,null,null,"Summe",{"$f":"F82+F83","v":0},{"$f":"G82+G83","v":0},0,0,{"$f":"F85+G85+H85+I85","v":0}]
[]
["Gesamt",null,null,{"$f":"D81+D83+D85","v":0},null,"Gesamt",null,{"$f":"F85+G85+H85+I85","v":0}]
[]
["Datum",null,"Verein",null,"LR 1",null,null,"LR 2"]
[9,null,null,null,"Vorprüfung THS"]
[{"$nulls":5},"Jugend\nbis 18 J.","Aktive\n19 - 49 J.","Senioren\nab 50 J.","PARA","Gesamt"]
["BH - VT ohne AK"]
[{"$nulls":4},"Teil A",{"$nulls":4},{"$f":"F93+G93+H93+I93","v":0}]
["BH - VT bestanden",null,null,null,"Teil B",{"$nulls":4},{"$f":"F94+G94+H94+I94","v":0}]
[]
["BH -VT nur Sachkunde",null,null,null,"Summe",{"$f":"F93+F94","v":0},{"$f":"G93+G94","v":0},0,0,{"$f":"F96+G96+H96+I96","v":0}]
[]
["Gesamt",null,null,{"$f":"D92+D94+D96","v":0},null,"Gesamt",null,{"$f":"F96+G96+H96+I96","v":0}]
[]
["Datum",null,"Verein",null,"LR 1",null,null,"LR 2"]
[10,null,null,null,"Vorprüfung THS"]
[{"$nulls":5},"Jugend\nbis 18 J.","Aktive\n19 - 49 J.","Senioren\nab 50 J.","PARA","Gesamt"]
["BH - VT ohne AK"]
[{"$nulls":4},"Teil A",{"$nulls":4},{"$f":"F104+G104+H104+I104","v":0}]
["BH - VT bestanden",null,null,null,"Teil B",{"$nulls":4},{"$f":"F105+G105+H105+I105","v":0}]
[]
["BH -VT nur Sachkunde",null,null,null,"Summe",{"$f":"F104+F105","v":0},{"$f":"G104+G105","v":0},0,0,{"$f":"F107+G107+H107+I107","v":0}]
[]
["Gesamt",null,null,{"$f":"D103+D105+D107","v":0},null,"Gesamt",null,{"$f":"F107+G107+H107+I107","v":0}]
[]
["Datum",null,"Verein",null,"LR 1",null,null,"LR 2"]
[11,null,null,null,"Vorprüfung THS"]
[{"$nulls":5},"Jugend\nbis 18 J.","Aktive\n19 - 49 J.","Senioren\nab 50 J.","PARA","Gesamt"]
["BH - VT ohne AK"]
[{"$nulls":4},"Teil A",{"$nulls":4},{"$f":"F115+G115+H115+I115","v":0}]
["BH - VT bestanden",null,null,null,"Teil B",{"$nulls":4},{"$f":"F116+G116+H116+I116","v":0}]
[]
["BH -VT nur Sachkunde",null,null,null,"Summe",{"$f":"F115+F116","v":0},{"$f":"G115+G116","v":0},0,0,{"$f":"F118+G118+H118+I118","v":0}]
[]
["Gesamt",null,null,{"$f":"D114+D116+D118","v":0},null,"Gesamt",null,{"$f":"F118+G118+H118+I118","v":0}]
[]
["Datum",null,"Verein",null,"LR 1",null,null,"LR 2"]
[12,null,null,null,"Vorprüfung THS"]
[{"$nulls":5},"Jugend\nbis 18 J.","Aktive\n19 - 49 J.","Senioren\nab 50 J.","PARA","Gesamt"]
["BH - VT ohne AK"]
[{"$nulls":4},"Teil A",{"$nulls":4},{"$f":"F126+G126+H126+I126","v":0}]
["BH - VT bestanden",null,null,null,"Teil B",{"$nulls":4},{"$f":"F127+G127+H127+I127","v":0}]
[]
["BH -VT nur Sachkunde",null,null,null,"Summe",{"$f":"F126+F127","v":0},{"$f":"G126+G127","v":0},0,0,{"$f":"F129+G129+H129+I129","v":0}]
[]
["Gesamt",null,null,{"$f":"D125+D127+D129","v":0},null,"Gesamt",null,{"$f":"F129+G129+H129+I129","v":0}]
[]
["Datum",null,"Verein",null,"LR 1",null,null,"LR 2"]
[13,null,null,null,"Vorprüfung THS"]
[{"$nulls":5},"Jugend\nbis 18 J.","Aktive\n19 - 49 J.","Senioren\nab 50 J.","PARA","Gesamt"]
["BH - VT ohne AK"]
[{"$nulls":4},"Teil A",{"$nulls":4},{"$f":"F137+G137+H137+I137","v":0}]
["BH - VT bestanden",null,null,null,"Teil B",{"$nulls":4},{"$f":"F138+G138+H138+I138","v":0}]
[]
["BH -VT nur Sachkunde",null,null,null,"Summe",{"$f":"F137+F138","v":0},{"$f":"G137+G138","v":0},0,0,{"$f":"F140+G140+H140+I140","v":0}]
[]
["Gesamt",null,null,{"$f":"D136+D138+D140","v":0},null,"Gesamt",null,{"$f":"F140+G140+H140+I140","v":0}]
[]
["Datum",null,"Verein",null,"LR 1",null,null,"LR 2"]
[14,null,null,null,"Vorprüfung THS"]
[{"$nulls":5},"Jugend\nbis 18 J.","Aktive\n19 - 49 J.","Senioren\nab 50 J.","PARA","Gesamt"]
["BH - VT ohne AK"]
[{"$nulls":4},"Teil A",{"$nulls":4},{"$f":"F148+G148+H148+I148","v":0}]
["BH - VT bestanden",null,null,null,"Teil B",{"$nulls":4},{"$f":"F149+G149+H149+I149","v":0}]
[]
["BH -VT nur Sachkunde",null,null,null,"Summe",{"$f":"F148+F149","v":0},{"$f":"G148+G149","v":0},0,0,{"$f":"F151+G151+H151+I151","v":0}]
[]
["Gesamt",null,null,{"$f":"D147+D149+D151","v":0},null,"Gesamt",null,{"$f":"F151+G151+H151+I151","v":0}]
[]
["Datum",null,"Verein",null,"LR 1",null,null,"LR 2"]
[15,null,null,null,"Vorprüfung THS"]
[{"$nulls":5},"Jugend\nbis 18 J.","Aktive\n19 - 49 J.","Senioren\nab 50 J.","PARA","Gesamt"]
["BH - VT ohne AK"]
[{"$nulls":4},"Teil A",{"$nulls":4},{"$f":"F159+G159+H159+I159","v":0}]
["BH - VT bestanden",null,null,null,"Teil B",{"$nulls":4},{"$f":"F160+G160+H160+I160","v":0}]
[]
["BH -VT nur Sachkunde",null,null,null,"Summe",{"$f":"F159+F160","v":0},{"$f":"G159+G160","v":0},0,0,{"$f":"F162+G162+H162+I162","v":0}]
[]
["Gesamt",null,null,{"$f":"D158+D160+D162","v":0},null,"Gesamt",null,{"$f":"F162+G162+H162+I162","v":0}]
[]
["Datum",null,"Verein",null,"LR 1",null,null,"LR 2"]
[16,null,null,null,"Vorprüfung THS"]
[{"$nulls":5},"Jugend\nbis 18 J.","Aktive\n19 - 49 J.","Senioren\nab 50 J.","PARA","Gesamt"]
["BH - VT ohne AK"]
[{"$nulls":4},"Teil A",{"$nulls":4},{"$f":"F170+G170+H170+I170","v":0}]
["BH - VT bestanden",null,null,null,"Teil B",{"$nulls":4},{"$f":"F171+G171+H171+I171","v":0}]
[]
["BH -VT nur Sachkunde",null,null,null,"Summe",{"$f":"F170+F171","v":0},{"$f":"G170+G171","v":0},0,0,{"$f":"F173+G173+H173+I173","v":0}]
[]
["Gesamt",null,null,{"$f":"D169+D171+D173","v":0},null,"Gesamt",null,{"$f":"F173+G173+H173+I173","v":0}]
[]
["Datum",null,"Verein",null,"LR 1",null,null,"LR 2"]
[17,null,null,null,"Vorprüfung THS"]
[{"$nulls":5},"Jugend\nbis 18 J.","Aktive\n19 - 49 J.","Senioren\nab 50 J.","PARA","Gesamt"]
["BH - VT ohne AK"]
[{"$nulls":4},"Teil A",{"$nulls":4},{"$f":"F181+G181+H181+I181","v":0}]
["BH - VT bestanden",null,null,null,"Teil B",{"$nulls":4},{"$f":"F182+G182+H182+I182","v":0}]
[]
["BH -VT nur Sachkunde",null,null,null,"Summe",{"$f":"F181+F182","v":0},{"$f":"G181+G182","v":0},0,0,{"$f":"F184+G184+H184+I184","v":0}]
[]
["Gesamt",null,null,{"$f":"D180+D182+D184","v":0},null,"Gesamt",null,{"$f":"F184+G184+H184+I184","v":0}]
[]
["Datum",null,"Verein",null,"LR 1",null,null,"LR 2"]
[18,null,null,null,"Vorprüfung THS"]
[{"$nulls":5},"Jugend\nbis 18 J.","Aktive\n19 - 49 J.","Senioren\nab 50 J.","PARA","Gesamt"]
["BH - VT ohne AK"]
[{"$nulls":4},"Teil A",{"$nulls":4},{"$f":"F192+G192+H192+I192","v":0}]
["BH - VT bestanden",null,null,null,"Teil B",{"$nulls":4},{"$f":"F193+G193+H193+I193","v":0}]
[]
["BH -VT nur Sachkunde",null,null,null,"Summe",{"$f":"F192+F193","v":0},{"$f":"G192+G193","v":0},0,0,{"$f":"F195+G195+H195+I195","v":0}]
[]
["Gesamt",null,null,{"$f":"D191+D193+D195","v":0},null,"Gesamt",null,{"$f":"F195+G195+H195+I195","v":0}]
[]
["Datum",null,"Verein",null,"LR 1",null,null,"LR 2"]
[19,null,null,null,"Vorprüfung THS"]
[{"$nulls":5},"Jugend\nbis 18 J.","Aktive\n19 - 49 J.","Senioren\nab 50 J.","PARA","Gesamt"]
["BH - VT ohne AK"]
[{"$nulls":4},"Teil A",{"$nulls":4},{"$f":"F203+G203+H203+I203","v":0}]
["BH - VT bestanden",null,null,null,"Teil B",{"$nulls":4},{"$f":"F204+G204+H204+I204","v":0}]
[]
["BH -VT nur Sachkunde",null,null,null,"Summe",{"$f":"F203+F204","v":0},{"$f":"G203+G204","v":0},0,0,{"$f":"F206+G206+H206+I206","v":0}]
[]
["Gesamt",null,null,{"$f":"D202+D204+D206","v":0},null,"Gesamt",null,{"$f":"F206+G206+H206+I206","v":0}]
[]
["Datum",null,"Verein",null,"LR 1",null,null,"LR 2"]
[20,null,null,null,"Vorprüfung THS"]
[{"$nulls":5},"Jugend\nbis 18 J.","Aktive\n19 - 49 J.","Senioren\nab 50 J.","PARA","Gesamt"]
["BH - VT ohne AK",{"$nulls":10},"Leistungsrichter","LR 1","LR2"]
[{"$nulls":4},"Teil A",{"$nulls":4},{"$f":"F214+G214+H214+I214","v":0},null,"Bormann, Aloys",{"$f":"COUNTIF(F1:F210,\"Bormann, Aloys\")","v":0},{"$f":"COUNTIF(I1:I210,\"Bormann, Aloys\")","v":0}]
["BH - VT bestanden",null,null,null,"Teil B",{"$nulls":4},{"$f":"F215+G215+H215+I215","v":0},null,"Geber, Harald",{"$f":"COUNTIF(F1:F210,\"Geber, Harald\")","v":0},{"$f":"COUNTIF(I1:I210,\"Geber, Harald\")","v":0}]
[{"$nulls":11},"Gensrich, Michael",{"$f":"COUNTIF(F1:F210,\"Gensrich, Michael\")","v":0},{"$f":"COUNTIF(I1:I210,\"Gensrich, Michael\")","v":0}]
["BH -VT nur Sachkunde",null,null,null,"Summe",{"$f":"F214+F215","v":0},{"$f":"G214+G215","v":0},0,0,{"$f":"F217+G217+H217+I217","v":0},null,"Grünig, Rainer",{"$f":"COUNTIF(F1:F210,\"Grünig, Rainer\")","v":0},{"$f":"COUNTIF(I1:I210,\"Grünig, Rainer\")","v":0}]
[{"$nulls":11},"Lausch, Christian",{"$f":"COUNTIF(F1:F210,\"Lausch, Christian\")","v":0},{"$f":"COUNTIF(I1:I210,\"Lausch, Christian\")","v":0}]
["Gesamt",null,null,{"$f":"D213+D215+D217","v":0},null,"Gesamt",null,{"$f":"F217+G217+H217+I217","v":0},null,null,null,"Sprenger, Beate",{"$f":"COUNTIF(F1:F210,\"Sprenger, Beate\")","v":0},{"$f":"COUNTIF(I1:I210,\"Sprenger, Beate\")","v":0}]
[{"$nulls":11},"Volkmann, Claudia",{"$f":"COUNTIF(F1:F210,\"Volkmann, Claudia\")","v":0},{"$f":"COUNTIF(I1:I210,\"Volkmann, Claudia\")","v":0}]
["Gesamtergebnis BH - VT",null,null,null,"Vorprüfung THS"]
[]
[{"$nulls":5},"Jugend\nbis 18 J.","Aktive\n19 - 49 J.","Senioren\nab 50 J.","PARA","Gesamt"]
["BH - VT ohne AK",null,null,{"$f":"D4+D15+D26+D37+D48+D59+D70+D81+D92+D103+D114+D125+D136+D147+D158+D169+D180+D191+D202+D213","v":7}]
[{"$nulls":4},"Teil A",{"$f":"F5+F16+F27+F38+F49+F60+F71+F82+F93+F104+F115+F126+F137+F148+F159+F170+F181+F192+F203+F214","v":1},{"$f":"G5+G16+G27+G38+G49+G60+G71+G82+G93+G104+G115+G126+G137+G148+G159+G170+G181+G192+G203+G214","v":4},1,0,{"$f":"F225+G225+H225+I225","v":6}]
["BH - VT bestanden",null,null,{"$f":"D6+D17+D28+D39+D50+D61+D72+D83+D94+D105+D116+D127+D138+D149+D160+D171+D182+D193+D204+D215","v":42},"Teil B",{"$f":"F6+F17+F28+F39+F50+F61+F72+F83+F94+F105+F116+F127+F138+F149+F160+F171+F182+F193+F204+F215","v":0},{"$f":"G6+G17+G28+G39+G50+G61+G72+G83+G94+G105+G116+G127+G138+G149+G160+G171+G182+G193+G204+G215","v":2},1,0,{"$f":"F226+G226+H226+I226","v":3}]
[]
["BH -VT nur Sachkunde",null,null,{"$f":"D8+D19+D30+D41+D52+D63+D74+D85+D96+D107+D118+D129+D140+D151+D162+D173+D184+D195+D206+D217","v":0},"Summe",{"$f":"F225+F226","v":1},{"$f":"G225+G226","v":6},2,0,{"$f":"F228+G228+H228+I228","v":9}]
[]
["Gesamt",null,null,{"$f":"D224+D226+D228","v":49},"Gesamt",{"$f":"F228+G228+H228+I228","v":9}]

{"sheet":"Listen","index":3,"n_rows":16,"n_cols":4,"rows_kept":16,"cut":false,"hidden":false,"merged":[]}
[null,"Leistungsrichter",null,"Vereine"]
[null,"Bormann, Aloys",null,"GHV Hildesheim"]
[null,"Geber, Harald",null,"SGV Langelsheim"]
[null,"Gensrich, Michael",null,"HSV Bockenem"]
[null,"Grünig, Rainer",null,"HC Lachtetal"]
[null,"Lausch, Christian",null,"PHV Laatzen"]
[null,"Sprenger, Beate",null,"PHV Hameln"]
[null,"Volkmann, Claudia",null,"PHV Hambühren"]
[null,null,null,"PHV Misburg"]
[null,null,null,"PHV Göttingen"]
[null,null,null,"Hundefreunde Göttingen"]
[null,null,null,"PHV Hannover"]
[null,null,null,"HSV Velstove"]
[null,null,null,"VdH Lindhorst"]
[null,null,null,"MV Schöningen"]
[null,null,null,"MV Neuenfelde"]