{"text_format":"2","workbook":"xlsx","n_sheets":3,"sheets":["Gesamtstatistik 2018","Alle Vereine THS 2018","BH 2018"],"not_rendered":{"charts":0,"images":0,"macros":0,"external_links":0,"defined_names":0,"comments":0,"pivot_tables":0},"unopened":[],"bounds":{"document_bytes":16777216,"sheet_cells":100000,"run_cost":"one","rows_first":2000,"rows_last":500,"rows_between":2000,"halvings":0,"cell_chars":16384,"cell_head_chars":4096},"cells_cut":0,"cells_raw":0,"read":"whole","date_system":"1900"}

{"sheet":"Gesamtstatistik 2018","index":0,"n_rows":28,"n_cols":28,"rows_kept":28,"cut":false,"hidden":false,"merged":[[22,5,22,6],[14,9,14,10],[24,25,24,26],[25,25,25,26],[26,25,26,26],[26,11,26,12],[24,15,24,18],[27,25,27,26],[1,21,2,22],[1,0,2,0],[1,13,2,14],[1,15,2,16],[1,17,2,18],[1,19,2,20],[2,1,2,2],[2,3,2,4],[2,5,2,6],[1,1,1,6],[1,7,1,12],[2,7,2,8],[2,9,2,10],[2,11,2,12],[27,7,27,8],[27,9,27,10],[25,7,25,8],[13,0,14,2],[20,0,20,2],[21,0,21,2],[15,5,15,6],[16,5,16,6],[17,5,17,6],[18,5,18,6],[19,5,19,6],[19,9,19,10],[20,7,20,8],[20,9,20,10],[21,7,21,8],[21,9,21,10],[19,0,19,2],[15,3,15,4],[16,3,16,4],[17,3,17,4],[18,3,18,4],[19,3,19,4],[13,3,13,6],[13,7,13,10],[14,3,14,4],[14,5,14,6],[14,7,14,8],[27,11,27,12],[24,11,24,12],[25,11,25,12],[22,11,22,12],[23,11,23,12],[20,11,20,12],[21,11,21,12],[27,5,27,6],[26,0,26,2],[27,0,27,2],[22,0,22,2],[23,0,23,2],[24,0,24,2],[25,0,25,2],[25,3,25,4],[26,3,26,4],[27,3,27,4],[26,9,26,10],[25,9,25,10],[23,5,23,6],[24,5,24,6],[25,5,25,6],[26,5,26,6],[26,7,26,8],[16,11,16,12],[18,17,18,20],[19,7,19,8],[15,0,15,2],[16,0,16,2],[17,0,17,2],[15,7,15,8],[15,9,15,10],[16,7,16,8],[16,9,16,10],[17,7,17,8],[17,9,17,10],[18,7,18,8],[18,9,18,10],[18,0,18,2],[14,17,14,20],[17,11,17,12],[15,17,15,20],[16,17,16,20],[15,11,15,12],[24,3,24,4],[23,7,23,8],[23,9,23,10],[24,7,24,8],[24,9,24,10],[20,3,20,4],[21,3,21,4],[22,3,22,4],[23,3,23,4],[13,11,14,12],[18,11,18,12],[19,11,19,12],[21,15,21,26],[22,15,22,26],[23,25,23,26],[22,7,22,8],[22,9,22,10],[21,5,21,6],[20,5,20,6],[1,23,2,24],[1,25,2,26],[0,0,0,27],[1,27,2,27],[25,23,25,24],[26,23,26,24],[27,23,27,24],[25,15,25,18],[26,15,26,18],[27,15,27,18],[23,21,23,22],[23,23,23,24],[24,21,24,22],[25,21,25,22],[26,21,26,22],[27,21,27,22],[24,23,24,24],[25,19,25,20],[26,19,26,20],[27,19,27,20],[12,15,12,25],[12,0,12,12],[23,19,23,20],[24,19,24,20]]}
["Teilnehmerstatistik DVG Landesverband Niedersachen 2018"]
["Disziplin","Vierkampf",{"$nulls":5},"Geländelauf",{"$nulls":5},"CSC",null,"Hinder-nislauf",null,"Drei-kampf",null,"K. O.-Cup",null,"Shorty",null,"CaniCross",null,"Gesamt",null,"Summe"]
[null,1,null,2,null,3,null,1000,null,2000,null,5000]
["Altersklasse","männlich","weiblich","männlich","weiblich","männlich","weiblich","männlich","weiblich","männlich","weiblich","männlich","weiblich","männlich","weiblich","männlich","weiblich","männlich","weiblich","männlich","weiblich","männlich","weiblich","männlich","weiblich","männlich","weiblich"]
["bis 14",{"$f":"'Alle Vereine THS 2018'!B312","v":1},{"$f":"'Alle Vereine THS 2018'!C312","v":1},{"$f":"'Alle Vereine THS 2018'!D312","v":0},{"$f":"'Alle Vereine THS 2018'!E312","v":2},{"$f":"'Alle Vereine THS 2018'!F312","v":0},{"$f":"'Alle Vereine THS 2018'!G312","v":0},{"$f":"'Alle Vereine THS 2018'!H312","v":0},{"$f":"'Alle Vereine THS 2018'!I312","v":0},{"$f":"'Alle Vereine THS 2018'!J312","v":1},{"$f":"'Alle Vereine THS 2018'!K312","v":3},{"$f":"'Alle Vereine THS 2018'!L312","v":0},{"$f":"'Alle Vereine THS 2018'!M312","v":0},{"$f":"'Alle Vereine THS 2018'!N312","v":0},{"$f":"'Alle Vereine THS 2018'!O312","v":2},{"$f":"'Alle Vereine THS 2018'!P312","v":0},{"$f":"'Alle Vereine THS 2018'!Q312","v":1},{"$f":"'Alle Vereine THS 2018'!R312","v":3},{"$f":"'Alle Vereine THS 2018'!S312","v":8},{"$f":"'Alle Vereine THS 2018'!T312","v":0},{"$f":"'Alle Vereine THS 2018'!U312","v":1},{"$f":"'Alle Vereine THS 2018'!V312","v":1},{"$f":"'Alle Vereine THS 2018'!W312","v":4},{"$f":"'Alle Vereine THS 2018'!X312","v":2},{"$f":"'Alle Vereine THS 2018'!Y312","v":1},{"$f":"B5+D5+F5+H5+J5+L5+N5+P5+R5+T5+V5+X5","v":8},{"$f":"C5+E5+G5+I5+K5+M5+O5+Q5+S5+U5+W5+Y5","v":23},{"$f":"Z5+AA5","v":31}]
["15 - 18",{"$f":"'Alle Vereine THS 2018'!B313","v":0},{"$f":"'Alle Vereine THS 2018'!C313","v":3},{"$f":"'Alle Vereine THS 2018'!D313","v":0},{"$f":"'Alle Vereine THS 2018'!E313","v":3},{"$f":"'Alle Vereine THS 2018'!F313","v":0},{"$f":"'Alle Vereine THS 2018'!G313","v":1},{"$f":"'Alle Vereine THS 2018'!H313","v":0},{"$f":"'Alle Vereine THS 2018'!I313","v":0},{"$f":"'Alle Vereine THS 2018'!J313","v":0},{"$f":"'Alle Vereine THS 2018'!K313","v":0},{"$f":"'Alle Vereine THS 2018'!L313","v":0},{"$f":"'Alle Vereine THS 2018'!M313","v":0},{"$f":"'Alle Vereine THS 2018'!N313","v":2},{"$f":"'Alle Vereine THS 2018'!O313","v":5},{"$f":"'Alle Vereine THS 2018'!P313","v":1},{"$f":"'Alle Vereine THS 2018'!Q313","v":1},{"$f":"'Alle Vereine THS 2018'!R313","v":3},{"$f":"'Alle Vereine THS 2018'!S313","v":0},{"$f":"'Alle Vereine THS 2018'!T313","v":0},{"$f":"'Alle Vereine THS 2018'!U313","v":1},{"$f":"'Alle Vereine THS 2018'!V313","v":3},{"$f":"'Alle Vereine THS 2018'!W313","v":3},{"$f":"'Alle Vereine THS 2018'!X313","v":2},{"$f":"'Alle Vereine THS 2018'!Y313","v":1},{"$f":"B6+D6+F6+H6+J6+L6+N6+P6+R6+T6+V6+X6","v":11},{"$f":"C6+E6+G6+I6+K6+M6+O6+Q6+S6+U6+W6+Y6","v":18},{"$f":"Z6+AA6","v":29}]
["19 - 35",{"$f":"'Alle Vereine THS 2018'!B314","v":7},{"$f":"'Alle Vereine THS 2018'!C314","v":48},{"$f":"'Alle Vereine THS 2018'!D314","v":2},{"$f":"'Alle Vereine THS 2018'!E314","v":19},{"$f":"'Alle Vereine THS 2018'!F314","v":1},{"$f":"'Alle Vereine THS 2018'!G314","v":24},{"$f":"'Alle Vereine THS 2018'!H314","v":0},{"$f":"'Alle Vereine THS 2018'!I314","v":3},{"$f":"'Alle Vereine THS 2018'!J314","v":6},{"$f":"'Alle Vereine THS 2018'!K314","v":30},{"$f":"'Alle Vereine THS 2018'!L314","v":5},{"$f":"'Alle Vereine THS 2018'!M314","v":15},{"$f":"'Alle Vereine THS 2018'!N314","v":8},{"$f":"'Alle Vereine THS 2018'!O314","v":50},{"$f":"'Alle Vereine THS 2018'!P314","v":3},{"$f":"'Alle Vereine THS 2018'!Q314","v":25},{"$f":"'Alle Vereine THS 2018'!R314","v":4},{"$f":"'Alle Vereine THS 2018'!S314","v":33},{"$f":"'Alle Vereine THS 2018'!T314","v":1},{"$f":"'Alle Vereine THS 2018'!U314","v":4},{"$f":"'Alle Vereine THS 2018'!V314","v":11},{"$f":"'Alle Vereine THS 2018'!W314","v":70},{"$f":"'Alle Vereine THS 2018'!X314","v":2},{"$f":"'Alle Vereine THS 2018'!Y314","v":12},50,333,383]
["36 - 49",{"$f":"'Alle Vereine THS 2018'!B315","v":4},{"$f":"'Alle Vereine THS 2018'!C315","v":9},{"$f":"'Alle Vereine THS 2018'!D315","v":0},{"$f":"'Alle Vereine THS 2018'!E315","v":7},{"$f":"'Alle Vereine THS 2018'!F315","v":10},{"$f":"'Alle Vereine THS 2018'!G315","v":5},{"$f":"'Alle Vereine THS 2018'!H315","v":0},{"$f":"'Alle Vereine THS 2018'!I315","v":1},{"$f":"'Alle Vereine THS 2018'!J315","v":6},{"$f":"'Alle Vereine THS 2018'!K315","v":13},{"$f":"'Alle Vereine THS 2018'!L315","v":3},{"$f":"'Alle Vereine THS 2018'!M315","v":2},{"$f":"'Alle Vereine THS 2018'!N315","v":11},{"$f":"'Alle Vereine THS 2018'!O315","v":11},{"$f":"'Alle Vereine THS 2018'!P315","v":2},{"$f":"'Alle Vereine THS 2018'!Q315","v":4},{"$f":"'Alle Vereine THS 2018'!R315","v":4},{"$f":"'Alle Vereine THS 2018'!S315","v":3},{"$f":"'Alle Vereine THS 2018'!T315","v":1},{"$f":"'Alle Vereine THS 2018'!U315","v":1},{"$f":"'Alle Vereine THS 2018'!V315","v":14},{"$f":"'Alle Vereine THS 2018'!W315","v":10},{"$f":"'Alle Vereine THS 2018'!X315","v":4},{"$f":"'Alle Vereine THS 2018'!Y315","v":3},59,69,128]
["50 - 60",{"$f":"'Alle Vereine THS 2018'!B316","v":9},{"$f":"'Alle Vereine THS 2018'!C316","v":13},{"$f":"'Alle Vereine THS 2018'!D316","v":5},{"$f":"'Alle Vereine THS 2018'!E316","v":4},{"$f":"'Alle Vereine THS 2018'!F316","v":9},{"$f":"'Alle Vereine THS 2018'!G316","v":4},{"$f":"'Alle Vereine THS 2018'!H316","v":1},{"$f":"'Alle Vereine THS 2018'!I316","v":1},{"$f":"'Alle Vereine THS 2018'!J316","v":7},{"$f":"'Alle Vereine THS 2018'!K316","v":4},{"$f":"'Alle Vereine THS 2018'!L316","v":4},{"$f":"'Alle Vereine THS 2018'!M316","v":0},{"$f":"'Alle Vereine THS 2018'!N316","v":17},{"$f":"'Alle Vereine THS 2018'!O316","v":15},{"$f":"'Alle Vereine THS 2018'!P316","v":5},{"$f":"'Alle Vereine THS 2018'!Q316","v":3},{"$f":"'Alle Vereine THS 2018'!R316","v":7},{"$f":"'Alle Vereine THS 2018'!S316","v":15},{"$f":"'Alle Vereine THS 2018'!T316","v":2},{"$f":"'Alle Vereine THS 2018'!U316","v":2},{"$f":"'Alle Vereine THS 2018'!V316","v":11},{"$f":"'Alle Vereine THS 2018'!W316","v":13},{"$f":"'Alle Vereine THS 2018'!X316","v":1},{"$f":"'Alle Vereine THS 2018'!Y316","v":2},78,76,154]
["ab 61",{"$f":"'Alle Vereine THS 2018'!B317","v":6},{"$f":"'Alle Vereine THS 2018'!C317","v":6},{"$f":"'Alle Vereine THS 2018'!D317","v":0},{"$f":"'Alle Vereine THS 2018'!E317","v":0},{"$f":"'Alle Vereine THS 2018'!F317","v":0},{"$f":"'Alle Vereine THS 2018'!G317","v":3},{"$f":"'Alle Vereine THS 2018'!H317","v":0},{"$f":"'Alle Vereine THS 2018'!I317","v":0},{"$f":"'Alle Vereine THS 2018'!J317","v":2},{"$f":"'Alle Vereine THS 2018'!K317","v":0},{"$f":"'Alle Vereine THS 2018'!L317","v":0},{"$f":"'Alle Vereine THS 2018'!M317","v":0},{"$f":"'Alle Vereine THS 2018'!N317","v":3},{"$f":"'Alle Vereine THS 2018'!O317","v":1},{"$f":"'Alle Vereine THS 2018'!P317","v":1},{"$f":"'Alle Vereine THS 2018'!Q317","v":1},{"$f":"'Alle Vereine THS 2018'!R317","v":0},{"$f":"'Alle Vereine THS 2018'!S317","v":2},{"$f":"'Alle Vereine THS 2018'!T317","v":0},{"$f":"'Alle Vereine THS 2018'!U317","v":1},{"$f":"'Alle Vereine THS 2018'!V317","v":3},{"$f":"'Alle Vereine THS 2018'!W317","v":2},{"$f":"'Alle Vereine THS 2018'!X317","v":0},{"$f":"'Alle Vereine THS 2018'!Y317","v":0},15,16,31]
["Gesamt",{"$f":"SUM(B5:B10)","v":27},{"$f":"SUM(C5:C10)","v":80},7,35,20,37,1,5,22,50,12,17,41,84,12,35,21,61,4,10,43,102,{"$f":"SUM(X5:X10)","v":11},19,{"$f":"B11+D11+F11+H11+J11+L11+N11+P11+R11+T11+V11+X11","v":221},{"$f":"C11+E11+G11+I11+K11+M11+O11+Q11+S11+U11+W11+Y11","v":535},{"$f":"Z11+AA11","v":756}]
[]
["Gesamtstatistik Turnierhundsport",{"$nulls":14},"Begleithundprüfung"]
["Disziplin",null,null,"Jugend",null,null,null,"Erwachsene",null,null,null,"Gesamt"]
[null,null,null,"m",null,"w",null,"m",null,"w",{"$nulls":7},"BH - VT ohne AK",null,null,null,{"$f":"'BH 2018'!F79","v":4}]
["Vierkampf 1",null,null,{"$f":"B5+B6","v":1},null,{"$f":"C5+C6","v":4},null,{"$f":"SUM(B7:B10)","v":26},null,{"$f":"SUM(C7:C10)","v":76},null,{"$f":"SUM(D16:K16)","v":107},{"$nulls":5},"BH - VT bestanden",null,null,null,{"$f":"'BH 2018'!F80","v":18}]
["Vierkampf 2",null,null,{"$f":"D5+D6","v":0},null,{"$f":"E5+E6","v":5},null,{"$f":"SUM(D7:D10)","v":7},null,{"$f":"SUM(E7:E10)","v":30},null,{"$f":"SUM(D17:K17)","v":42},{"$nulls":5},"BH - VT nur SKP",null,null,null,{"$f":"'BH 2018'!F81","v":0}]
["Vierkampf 3",null,null,{"$f":"F5+F6","v":0},null,{"$f":"G5+G6","v":1},null,{"$f":"SUM(F7:F10)","v":20},null,{"$f":"SUM(G7:G10)","v":36},null,57]
["Gl 1000 m",null,null,{"$f":"H5+H6","v":0},null,{"$f":"I5+I6","v":0},null,{"$f":"SUM(H7:H10)","v":1},null,{"$f":"SUM(I7:I10)","v":5},null,6,{"$nulls":5},"Gesamt",null,null,null,{"$f":"SUM(V15:V18)","v":22}]
["Gl 2000 m",null,null,{"$f":"J5+J6","v":1},null,{"$f":"K5+K6","v":3},null,{"$f":"SUM(J7:J10)","v":21},null,{"$f":"SUM(K7:K10)","v":47},null,72]
["Gl 5000 m",null,null,{"$f":"L5+L6","v":0},null,{"$f":"M5+M6","v":0},null,{"$f":"SUM(L7:L10)","v":12},null,{"$f":"SUM(M7:M10)","v":17},null,29]
["CSC Mannschaften",null,null,{"$f":"N5+N6","v":2},null,{"$f":"O5+O6","v":7},null,{"$f":"SUM(N7:N10)","v":39},null,{"$f":"SUM(O7:O10)","v":77},null,125,null,null,null,"Gesamtstatistik der Prüfungen"]
["Hindernislauf",null,null,{"$f":"P5+P6","v":1},null,{"$f":"Q5+Q6","v":2},null,{"$f":"SUM(P7:P10)","v":11},null,{"$f":"SUM(Q7:Q10)","v":33},null,47]
["Dreikampf",null,null,{"$f":"R5+R6","v":6},null,{"$f":"S5+S6","v":8},null,{"$f":"SUM(R7:R10)","v":15},null,{"$f":"SUM(S7:S10)","v":53},null,82,{"$nulls":7},"THS",null,"BH-VT",null,"Kombi",null,"Gesamt"]
["K. O.-Cup",null,null,{"$f":"T5+T6","v":0},null,{"$f":"U5+U6","v":2},null,{"$f":"SUM(T7:T10)","v":4},null,{"$f":"SUM(U7:U10)","v":8},null,14,null,null,null,"Prüfung eingereicht",null,null,null,15,null,6,null,null,null,21]
["Shorty",null,null,{"$f":"V5+V6","v":4},null,{"$f":"W5+W6","v":7},null,{"$f":"SUM(V7:V10)","v":39},null,{"$f":"SUM(W7:W10)","v":95},null,145,null,null,null,"Prüfung durchgeführt",null,null,null,12,null,5,null,null,null,17]
["CaniCross",null,null,{"$f":"X5+X6","v":4},null,{"$f":"Y5+Y6","v":2},null,{"$f":"SUM(X7:X10)","v":7},null,{"$f":"SUM(Y7:Y10)","v":17},null,{"$f":"SUM(D27:K27)","v":30},null,null,null,"Prüfung erweitert",null,null,null,1,{"$nulls":5},1]
["Gesamt",null,null,{"$f":"SUM(D16:E27)","v":19},null,{"$f":"SUM(F16:G27)","v":41},null,{"$f":"SUM(H16:I27)","v":202},null,{"$f":"SUM(J16:K27)","v":494},null,{"$f":"SUM(L16:M27)","v":756},null,null,null,"Prüfung abgesagt",null,null,null,3,null,1,null,null,null,4]

{"sheet":"Alle Vereine THS 2018","index":1,"n_rows":318,"n_cols":28,"rows_kept":318,"cut":false,"hidden":false,"merged":[[308,27,310,27],[309,1,309,2],[309,3,309,4],[309,5,309,6],[309,7,309,8],[309,9,309,10],[309,11,309,12],[308,25,309,26],[297,25,298,26],[308,21,309,22],[286,23,287,24],[297,19,298,20],[297,23,298,24],[297,21,298,22],[297,27,299,27],[298,1,298,2],[298,3,298,4],[298,5,298,6],[298,7,298,8],[298,9,298,10],[298,11,298,12],[308,0,309,0],[308,1,308,6],[308,7,308,12],[308,13,309,14],[308,15,309,16],[308,17,309,18],[308,19,309,20],[308,23,309,24],[286,27,288,27],[287,1,287,2],[287,3,287,4],[287,5,287,6],[287,7,287,8],[287,9,287,10],[287,11,287,12],[286,25,287,26],[286,21,287,22],[297,0,298,0],[297,1,297,6],[297,7,297,12],[297,13,298,14],[297,15,298,16],[297,17,298,18],[286,19,287,20],[275,0,276,0],[275,1,275,6],[275,7,275,12],[275,13,276,14],[275,15,276,16],[275,17,276,18],[286,0,287,0],[286,1,286,6],[286,7,286,12],[286,13,287,14],[286,15,287,16],[286,17,287,18],[264,27,266,27],[265,1,265,2],[265,3,265,4],[265,5,265,6],[265,7,265,8],[265,9,265,10],[265,11,265,12],[275,27,277,27],[276,1,276,2],[276,3,276,4],[276,5,276,6],[276,7,276,8],[276,9,276,10],[276,11,276,12],[275,19,276,20],[275,23,276,24],[275,25,276,26],[264,25,265,26],[275,21,276,22],[264,0,265,0],[264,1,264,6],[264,7,264,12],[264,13,265,14],[264,15,265,16],[264,17,265,18],[253,19,254,20],[253,23,254,24],[264,19,265,20],[264,23,265,24],[264,21,265,22],[253,27,255,27],[254,1,254,2],[254,3,254,4],[254,5,254,6],[254,7,254,8],[254,9,254,10],[254,11,254,12],[253,0,254,0],[253,1,253,6],[253,7,253,12],[253,13,254,14],[253,15,254,16],[253,17,254,18],[253,25,254,26],[253,21,254,22],[242,19,243,20],[242,23,243,24],[242,25,243,26],[242,27,244,27],[243,1,243,2],[243,3,243,4],[243,5,243,6],[243,7,243,8],[243,9,243,10],[243,11,243,12],[242,21,243,22],[231,0,232,0],[231,1,231,6],[231,7,231,12],[231,13,232,14],[231,15,232,16],[231,17,232,18],[242,0,243,0],[242,1,242,6],[242,7,242,12],[242,13,243,14],[242,15,243,16],[242,17,243,18],[220,27,222,27],[221,1,221,2],[221,3,221,4],[221,5,221,6],[221,7,221,8],[221,9,221,10],[221,11,221,12],[231,27,233,27],[232,1,232,2],[232,3,232,4],[232,5,232,6],[232,7,232,8],[232,9,232,10],[232,11,232,12],[231,19,232,20],[231,23,232,24],[231,25,232,26],[220,25,221,26],[231,21,232,22],[220,0,221,0],[220,1,220,6],[220,7,220,12],[220,13,221,14],[220,15,221,16],[220,17,221,18],[209,19,210,20],[209,23,210,24],[220,19,221,20],[220,23,221,24],[220,21,221,22],[209,27,211,27],[210,1,210,2],[210,3,210,4],[210,5,210,6],[210,7,210,8],[210,9,210,10],[210,11,210,12],[209,0,210,0],[209,1,209,6],[209,7,209,12],[209,13,210,14],[209,15,210,16],[209,17,210,18],[209,25,210,26],[209,21,210,22],[198,19,199,20],[198,23,199,24],[198,25,199,26],[198,27,200,27],[199,1,199,2],[199,3,199,4],[199,5,199,6],[199,7,199,8],[199,9,199,10],[199,11,199,12],[198,21,199,22],[187,0,188,0],[187,1,187,6],[187,7,187,12],[187,13,188,14],[187,15,188,16],[187,17,188,18],[198,0,199,0],[198,1,198,6],[198,7,198,12],[198,13,199,14],[198,15,199,16],[198,17,199,18],[176,27,178,27],[177,1,177,2],[177,3,177,4],[177,5,177,6],[177,7,177,8],[177,9,177,10],[177,11,177,12],[187,27,189,27],[188,1,188,2],[188,3,188,4],[188,5,188,6],[188,7,188,8],[188,9,188,10],[188,11,188,12],[187,19,188,20],[187,23,188,24],[187,25,188,26],[176,25,177,26],[187,21,188,22],[176,0,177,0],[176,1,176,6],[176,7,176,12],[176,13,177,14],[176,15,177,16],[176,17,177,18],[165,19,166,20],[165,23,166,24],[176,19,177,20],[176,23,177,24],[176,21,177,22],[165,27,167,27],[166,1,166,2],[166,3,166,4],[166,5,166,6],[166,7,166,8],[166,9,166,10],[166,11,166,12],[165,0,166,0],[165,1,165,6],[165,7,165,12],[165,13,166,14],[165,15,166,16],[165,17,166,18],[165,25,166,26],[165,21,166,22],[154,19,155,20],[154,23,155,24],[154,25,155,26],[154,27,156,27],[155,1,155,2],[155,3,155,4],[155,5,155,6],[155,7,155,8],[155,9,155,10],[155,11,155,12],[154,21,155,22],[143,0,144,0],[143,1,143,6],[143,7,143,12],[143,13,144,14],[143,15,144,16],[143,17,144,18],[154,0,155,0],[154,1,154,6],[154,7,154,12],[154,13,155,14],[154,15,155,16],[154,17,155,18],[132,27,134,27],[133,1,133,2],[133,3,133,4],[133,5,133,6],[133,7,133,8],[133,9,133,10],[133,11,133,12],[143,27,145,27],[144,1,144,2],[144,3,144,4],[144,5,144,6],[144,7,144,8],[144,9,144,10],[144,11,144,12],[143,19,144,20],[143,23,144,24],[143,25,144,26],[132,25,133,26],[143,21,144,22],[132,0,133,0],[132,1,132,6],[132,7,132,12],[132,13,133,14],[132,15,133,16],[132,17,133,18],[121,19,122,20],[121,23,122,24],[132,19,133,20],[132,23,133,24],[132,21,133,22],[121,27,123,27],[122,1,122,2],[122,3,122,4],[122,5,122,6],[122,7,122,8],[122,9,122,10],[122,11,122,12],[121,0,122,0],[121,1,121,6],[121,7,121,12],[121,13,122,14],[121,15,122,16],[121,17,122,18],[121,25,122,26],[121,21,122,22],[110,19,111,20],[110,23,111,24],[110,25,111,26],[110,27,112,27],[111,1,111,2],[111,3,111,4],[111,5,111,6],[111,7,111,8],[111,9,111,10],[111,11,111,12],[110,21,111,22],[99,0,100,0],[99,1,99,6],[99,7,99,12],[99,13,100,14],[99,15,100,16],[99,17,100,18],[110,0,111,0],[110,1,110,6],[110,7,110,12],[110,13,111,14],[110,15,111,16],[110,17,111,18],[88,27,90,27],[89,1,89,2],[89,3,89,4],[89,5,89,6],[89,7,89,8],[89,9,89,10],[89,11,89,12],[99,27,101,27],[100,1,100,2],[100,3,100,4],[100,5,100,6],[100,7,100,8],[100,9,100,10],[100,11,100,12],[99,19,100,20],[99,23,100,24],[99,25,100,26],[88,25,89,26],[99,21,100,22],[88,0,89,0],[88,1,88,6],[88,7,88,12],[88,13,89,14],[88,15,89,16],[88,17,89,18],[77,19,78,20],[77,23,78,24],[88,19,89,20],[88,23,89,24],[88,21,89,22],[77,27,79,27],[78,1,78,2],[78,3,78,4],[78,5,78,6],[78,7,78,8],[78,9,78,10],[78,11,78,12],[77,0,78,0],[77,1,77,6],[77,7,77,12],[77,13,78,14],[77,15,78,16],[77,17,78,18],[77,25,78,26],[77,21,78,22],[66,19,67,20],[66,23,67,24],[66,25,67,26],[66,27,68,27],[67,1,67,2],[67,3,67,4],[67,5,67,6],[67,7,67,8],[67,9,67,10],[67,11,67,12],[66,21,67,22],[55,0,56,0],[55,1,55,6],[55,7,55,12],[55,13,56,14],[55,15,56,16],[55,17,56,18],[66,0,67,0],[66,1,66,6],[66,7,66,12],[66,13,67,14],[66,15,67,16],[66,17,67,18],[44,27,46,27],[45,1,45,2],[45,3,45,4],[45,5,45,6],[45,7,45,8],[45,9,45,10],[45,11,45,12],[55,27,57,27],[56,1,56,2],[56,3,56,4],[56,5,56,6],[56,7,56,8],[56,9,56,10],[56,11,56,12],[55,19,56,20],[55,23,56,24],[55,25,56,26],[44,25,45,26],[55,21,56,22],[44,0,45,0],[44,1,44,6],[44,7,44,12],[44,13,45,14],[44,15,45,16],[44,17,45,18],[33,19,34,20],[33,23,34,24],[44,19,45,20],[44,23,45,24],[44,21,45,22],[33,27,35,27],[34,1,34,2],[34,3,34,4],[34,5,34,6],[34,7,34,8],[34,9,34,10],[34,11,34,12],[33,0,34,0],[33,1,33,6],[33,7,33,12],[33,13,34,14],[33,15,34,16],[33,17,34,18],[33,25,34,26],[33,21,34,22],[22,19,23,20],[22,23,23,24],[22,25,23,26],[22,27,24,27],[23,1,23,2],[23,3,23,4],[23,5,23,6],[23,7,23,8],[23,9,23,10],[23,11,23,12],[22,21,23,22],[11,0,12,0],[11,1,11,6],[11,7,11,12],[11,13,12,14],[11,15,12,16],[11,17,12,18],[22,0,23,0],[22,1,22,6],[22,7,22,12],[22,13,23,14],[22,15,23,16],[22,17,23,18],[0,27,2,27],[1,1,1,2],[1,3,1,4],[1,5,1,6],[1,7,1,8],[1,9,1,10],[1,11,1,12],[11,27,13,27],[12,1,12,2],[12,3,12,4],[12,5,12,6],[12,7,12,8],[12,9,12,10],[12,11,12,12],[11,19,12,20],[11,23,12,24],[11,25,12,26],[0,25,1,26],[11,21,12,22],[0,0,1,0],[0,1,0,6],[0,7,0,12],[0,13,1,14],[0,15,1,16],[0,17,1,18],[0,19,1,20],[0,23,1,24],[0,21,1,22]]}
["Langelsheim 15.04.18","Vierkampf",{"$nulls":5},"Geländelauf",{"$nulls":5},"CSC",null,"Hinder-nislauf",null,"Drei-kampf",null,"K. O.-Cup",null,"Shorty",null,"Cani\ncross",null,"Gesamt",null,"Summe"]
[null,1,null,2,null,3,null,1000,null,2000,null,5000]
["Altersklasse","männlich","weiblich","männlich","weiblich","männlich","weiblich","männlich","weiblich","männlich","weiblich","männlich","weiblich","männlich","weiblich","männlich","weiblich","männlich","weiblich","männlich","weiblich","männlich","weiblich","männlich","weiblich","männlich","weiblich"]
["bis 14",{"$nulls":17},2,{"$nulls":4},2,1,{"$f":"B4+D4+F4+H4+J4+L4+N4+P4+R4+T4+X4+V4","v":2},{"$f":"C4+E4+G4+I4+K4+M4+O4+Q4+S4+U4+Y4+W4","v":3},{"$f":"Z4+AA4","v":5}]
["15 - 18",null,1,{"$nulls":11},1,null,null,1,{"$nulls":5},1,1,2,3,{"$f":"Z5+AA5","v":5}]
["19 - 35",null,11,null,2,1,3,null,null,null,2,1,null,2,7,2,3,1,1,null,null,2,8,null,6,9,43,52]
["36 - 49",1,5,null,1,1,null,null,null,1,3,null,null,2,1,null,1,1,null,null,null,2,1,1,3,9,15,24]
["50 - 60",null,4,1,1,3,1,null,null,1,1,1,null,3,1,1,null,null,2,null,null,2,6,null,null,12,16,28]
["ab 61",1,1,{"$nulls":10},1,{"$nulls":7},1,null,null,null,{"$f":"B9+D9+F9+H9+J9+L9+N9+P9+R9+T9+X9+V9","v":3},{"$f":"C9+E9+G9+I9+K9+M9+O9+Q9+S9+U9+Y9+W9","v":1},4]
["Gesamt",{"$f":"SUM(B4:B9)","v":2},{"$f":"SUM(C4:C9)","v":22},1,4,5,4,0,0,2,6,2,0,8,10,3,4,3,5,0,0,{"$f":"SUM(V4:V9)","v":7},15,4,11,{"$f":"B10+D10+F10+H10+J10+L10+N10+P10+R10+T10+X10+V10","v":37},{"$f":"C10+E10+G10+I10+K10+M10+O10+Q10+S10+U10+Y10+W10","v":81},118]
[]
["Hambühren 22.04.18","Vierkampf",{"$nulls":5},"Geländelauf",{"$nulls":5},"CSC",null,"Hinder-nislauf",null,"Drei-kampf",null,"K. O.-Cup",null,"Shorty",null,"Cani\ncross",null,"Gesamt",null,"Summe"]
[null,1,null,2,null,3,null,1000,null,2000,null,5000]
["Altersklasse","männlich","weiblich","männlich","weiblich","männlich","weiblich","männlich","weiblich","männlich","weiblich","männlich","weiblich","männlich","weiblich","männlich","weiblich","männlich","weiblich","männlich","weiblich","männlich","weiblich","männlich","weiblich","männlich","weiblich"]
["bis 14",{"$nulls":24},{"$f":"B15+D15+F15+H15+J15+L15+N15+P15+R15+T15+X15+V15","v":0},{"$f":"C15+E15+G15+I15+K15+M15+O15+Q15+S15+U15+Y15+W15","v":0},{"$f":"Z15+AA15","v":0}]
["15 - 18",null,1,null,null,null,1,{"$nulls":15},1,null,null,0,3,{"$f":"Z16+AA16","v":3}]
["19 - 35",2,6,null,2,null,3,null,1,3,2,1,2,null,null,null,4,1,6,null,null,3,10,null,null,10,36,46]
["36 - 49",{"$nulls":4},3,1,null,null,null,1,{"$nulls":10},3,1,null,null,6,3,9]
["50 - 60",1,1,2,null,2,1,1,1,2,{"$nulls":7},1,3,null,null,2,3,null,null,11,9,20]
["ab 61",1,{"$nulls":4},1,{"$nulls":9},1,null,1,null,null,null,1,null,null,{"$f":"B20+D20+F20+H20+J20+L20+N20+P20+R20+T20+X20+V20","v":1},{"$f":"C20+E20+G20+I20+K20+M20+O20+Q20+S20+U20+Y20+W20","v":4},5]
["Gesamt",{"$f":"SUM(B15:B20)","v":4},{"$f":"SUM(C15:C20)","v":8},2,2,5,7,1,2,5,3,1,2,0,0,0,5,2,10,0,0,{"$f":"SUM(V15:V20)","v":8},16,0,0,{"$f":"B21+D21+F21+H21+J21+L21+N21+P21+R21+T21+X21+V21","v":28},{"$f":"C21+E21+G21+I21+K21+M21+O21+Q21+S21+U21+Y21+W21","v":55},83]
[]
["Bockenem 29.04.18\n08.05.16","Vierkampf",{"$nulls":5},"Geländelauf",{"$nulls":5},"CSC",null,"Hinder-nislauf",null,"Drei-kampf",null,"K. O.-Cup",null,"Shorty",null,"Cani\ncross",null,"Gesamt",null,"Summe"]
[null,1,null,2,null,3,null,1000,null,2000,null,5000]
["Altersklasse","männlich","weiblich","männlich","weiblich","männlich","weiblich","männlich","weiblich","männlich","weiblich","männlich","weiblich","männlich","weiblich","männlich","weiblich","männlich","weiblich","männlich","weiblich","männlich","weiblich","männlich","weiblich","männlich","weiblich"]
["bis 14",{"$nulls":24},{"$f":"B26+D26+F26+H26+J26+L26+N26+P26+R26+T26+X26+V26","v":0},{"$f":"C26+E26+G26+I26+K26+M26+O26+Q26+S26+U26+Y26+W26","v":0},{"$f":"Z26+AA26","v":0}]
["15 - 18",null,null,null,1,{"$nulls":9},1,null,null,1,null,null,null,1,null,null,null,2,2,{"$f":"Z27+AA27","v":4}]
["19 - 35",null,1,null,null,null,1,{"$nulls":5},2,null,3,null,2,null,3,null,null,null,2,null,null,0,14,14]
["36 - 49",2,1,null,1,1,1,null,null,1,1,null,1,1,{"$nulls":7},3,1,null,null,8,6,14]
["50 - 60",null,1,{"$nulls":7},1,null,null,1,null,null,null,1,{"$nulls":7},2,2,4]
["ab 61",1,1,{"$nulls":18},1,null,null,null,{"$f":"B31+D31+F31+H31+J31+L31+N31+P31+R31+T31+X31+V31","v":2},{"$f":"C31+E31+G31+I31+K31+M31+O31+Q31+S31+U31+Y31+W31","v":1},3]
["Gesamt",{"$f":"SUM(B26:B31)","v":3},{"$f":"SUM(C26:C31)","v":4},0,2,1,2,0,0,1,2,0,3,2,4,0,2,2,3,0,0,{"$f":"SUM(V26:V31)","v":5},3,0,0,{"$f":"B32+D32+F32+H32+J32+L32+N32+P32+R32+T32+X32+V32","v":14},{"$f":"C32+E32+G32+I32+K32+M32+O32+Q32+S32+U32+Y32+W32","v":25},39]
[]
["Hildesheim 12.05.18","Vierkampf",{"$nulls":5},"Geländelauf",{"$nulls":5},"CSC",null,"Hinder-nislauf",null,"Drei-kampf",null,"K. O.-Cup",null,"Shorty",null,"Cani\ncross",null,"Gesamt",null,"Summe"]
[null,1,null,2,null,3,null,1000,null,2000,null,5000]
["Altersklasse","männlich","weiblich","männlich","weiblich","männlich","weiblich","männlich","weiblich","männlich","weiblich","männlich","weiblich","männlich","weiblich","männlich","weiblich","männlich","weiblich","männlich","weiblich","männlich","weiblich","männlich","weiblich","männlich","weiblich"]
["bis 14",null,1,{"$nulls":7},1,{"$nulls":7},2,{"$nulls":6},{"$f":"B37+D37+F37+H37+J37+L37+N37+P37+R37+T37+X37+V37","v":0},{"$f":"C37+E37+G37+I37+K37+M37+O37+Q37+S37+U37+Y37+W37","v":4},{"$f":"Z37+AA37","v":4}]
["15 - 18",{"$nulls":24},0,0,{"$f":"Z38+AA38","v":0}]
["19 - 35",1,7,null,1,null,2,null,null,1,2,null,2,null,7,null,1,null,2,{"$nulls":6},2,24,26]
["36 - 49",null,1,null,null,1,null,null,null,1,1,null,null,2,1,{"$nulls":10},4,3,7]
["50 - 60",3,1,{"$nulls":7},1,1,null,4,1,null,null,1,1,{"$nulls":6},9,4,13]
["ab 61",1,1,null,null,null,1,{"$nulls":6},1,1,{"$nulls":10},{"$f":"B42+D42+F42+H42+J42+L42+N42+P42+R42+T42+X42+V42","v":2},{"$f":"C42+E42+G42+I42+K42+M42+O42+Q42+S42+U42+Y42+W42","v":3},5]
["Gesamt",{"$f":"SUM(B37:B42)","v":5},{"$f":"SUM(C37:C42)","v":11},0,1,1,3,0,0,2,5,1,2,7,10,0,1,1,5,0,0,{"$f":"SUM(V37:V42)","v":0},0,0,0,{"$f":"B43+D43+F43+H43+J43+L43+N43+P43+R43+T43+X43+V43","v":17},{"$f":"C43+E43+G43+I43+K43+M43+O43+Q43+S43+U43+Y43+W43","v":38},55]
[]
["Hambühren LVSP 18.06.17\n12.06.16","Vierkampf",{"$nulls":5},"Geländelauf",{"$nulls":5},"CSC",null,"Hinder-nislauf",null,"Drei-kampf",null,"K. O.-Cup",null,"Shorty",null,"Cani\ncross",null,"Gesamt",null,"Summe"]
[null,1,null,2,null,3,null,1000,null,2000,null,5000]
["Altersklasse","männlich","weiblich","männlich","weiblich","männlich","weiblich","männlich","weiblich","männlich","weiblich","männlich","weiblich","männlich","weiblich","männlich","weiblich","männlich","weiblich","männlich","weiblich","männlich","weiblich","männlich","weiblich","männlich","weiblich"]
["bis 14",{"$nulls":9},1,{"$nulls":11},1,null,null,{"$f":"B48+D48+F48+H48+J48+L48+N48+P48+R48+T48+X48+V48","v":0},{"$f":"C48+E48+G48+I48+K48+M48+O48+Q48+S48+U48+Y48+W48","v":2},{"$f":"Z48+AA48","v":2}]
["15 - 18",null,null,null,1,{"$nulls":20},0,1,{"$f":"Z49+AA49","v":1}]
["19 - 35",null,9,null,2,null,4,null,null,2,3,1,3,null,7,{"$nulls":7},8,null,null,3,36,39]
["36 - 49",null,null,null,1,2,1,null,null,1,2,null,1,2,2,{"$nulls":8},1,null,6,7,13]
["50 - 60",1,null,null,2,3,null,null,null,1,null,1,null,3,1,{"$nulls":9},2,9,5,14]
["ab 61",1,{"$nulls":4},1,{"$nulls":18},{"$f":"B53+D53+F53+H53+J53+L53+N53+P53+R53+T53+X53+V53","v":1},{"$f":"C53+E53+G53+I53+K53+M53+O53+Q53+S53+U53+Y53+W53","v":1},2]
["Gesamt",{"$f":"SUM(B48:B53)","v":2},{"$f":"SUM(C48:C53)","v":9},0,6,5,6,0,0,4,6,2,4,5,10,0,0,0,0,0,0,{"$f":"SUM(V48:V53)","v":0},9,1,2,{"$f":"B54+D54+F54+H54+J54+L54+N54+P54+R54+T54+X54+V54","v":19},{"$f":"C54+E54+G54+I54+K54+M54+O54+Q54+S54+U54+Y54+W54","v":52},71]
[]
["Lachtetal 12.08.18","Vierkampf",{"$nulls":5},"Geländelauf",{"$nulls":5},"CSC",null,"Hinder-nislauf",null,"Drei-kampf",null,"K. O.-Cup",null,"Shorty",null,"Cani\ncross",null,"Gesamt",null,"Summe"]
[null,1,null,2,null,3,null,1000,null,2000,null,5000]
["Altersklasse","männlich","weiblich","männlich","weiblich","männlich","weiblich","männlich","weiblich","männlich","weiblich","männlich","weiblich","männlich","weiblich","männlich","weiblich","männlich","weiblich","männlich","weiblich","männlich","weiblich","männlich","weiblich","männlich","weiblich"]
["bis 14",{"$nulls":16},1,1,null,1,{"$nulls":4},{"$f":"B59+D59+F59+H59+J59+L59+N59+P59+R59+T59+X59+V59","v":1},{"$f":"C59+E59+G59+I59+K59+M59+O59+Q59+S59+U59+Y59+W59","v":2},{"$f":"Z59+AA59","v":3}]
["15 - 18",{"$nulls":22},1,null,1,0,{"$f":"Z60+AA60","v":1}]
["19 - 35",1,5,null,1,null,1,null,1,null,3,null,1,1,10,null,null,null,7,null,null,null,10,2,6,4,45,49]
["36 - 49",{"$nulls":7},1,null,1,1,null,2,null,null,null,1,1,1,1,null,null,2,null,7,4,11]
["50 - 60",1,{"$nulls":11},1,1,null,null,1,4,1,2,null,null,1,null,5,7,12]
["ab 61",null,1,{"$nulls":22},{"$f":"B64+D64+F64+H64+J64+L64+N64+P64+R64+T64+X64+V64","v":0},{"$f":"C64+E64+G64+I64+K64+M64+O64+Q64+S64+U64+Y64+W64","v":1},1]
["Gesamt",{"$f":"SUM(B59:B64)","v":2},{"$f":"SUM(C59:C64)","v":6},0,1,0,1,0,2,0,4,1,1,4,11,0,0,3,13,2,4,{"$f":"SUM(V59:V64)","v":0},10,6,6,{"$f":"B65+D65+F65+H65+J65+L65+N65+P65+R65+T65+X65+V65","v":18},{"$f":"C65+E65+G65+I65+K65+M65+O65+Q65+S65+U65+Y65+W65","v":59},77]
[]
["Hameln 19.08.18","Vierkampf",{"$nulls":5},"Geländelauf",{"$nulls":5},"CSC",null,"Hinder-nislauf",null,"Drei-kampf",null,"K. O.-Cup",null,"Shorty",null,"Cani\ncross",null,"Gesamt",null,"Summe"]
[null,1,null,2,null,3,null,1000,null,2000,null,5000]
["Altersklasse","männlich","weiblich","männlich","weiblich","männlich","weiblich","männlich","weiblich","männlich","weiblich","männlich","weiblich","männlich","weiblich","männlich","weiblich","männlich","weiblich","männlich","weiblich","männlich","weiblich","männlich","weiblich","männlich","weiblich"]
["bis 14",{"$nulls":24},{"$f":"B70+D70+F70+H70+J70+L70+N70+P70+R70+T70+X70+V70","v":0},{"$f":"C70+E70+G70+I70+K70+M70+O70+Q70+S70+U70+Y70+W70","v":0},{"$f":"Z70+AA70","v":0}]
["15 - 18",{"$nulls":13},1,null,1,null,null,null,1,null,1,null,null,0,4,{"$f":"Z71+AA71","v":4}]
["19 - 35",{"$nulls":12},1,3,null,7,null,null,1,4,1,8,null,null,3,22,25]
["36 - 49",{"$nulls":24},0,0,0]
["50 - 60",{"$nulls":12},1,2,2,1,null,null,1,null,3,1,null,null,7,4,11]
["ab 61",{"$nulls":12},1,null,1,{"$nulls":4},1,1,1,null,null,{"$f":"B75+D75+F75+H75+J75+L75+N75+P75+R75+T75+X75+V75","v":3},{"$f":"C75+E75+G75+I75+K75+M75+O75+Q75+S75+U75+Y75+W75","v":2},5]
["Gesamt",{"$f":"SUM(B70:B75)","v":0},{"$f":"SUM(C70:C75)","v":0},0,0,0,0,0,0,0,0,0,0,3,6,3,9,0,0,2,6,{"$f":"SUM(V70:V75)","v":5},11,0,0,{"$f":"B76+D76+F76+H76+J76+L76+N76+P76+R76+T76+X76+V76","v":13},{"$f":"C76+E76+G76+I76+K76+M76+O76+Q76+S76+U76+Y76+W76","v":32},45]
[]
["Hambühren 02.09.18","Vierkampf",{"$nulls":5},"Geländelauf",{"$nulls":5},"CSC",null,"Hinder-nislauf",null,"Drei-kampf",null,"K. O.-Cup",null,"Shorty",null,"Cani\ncross",null,"Gesamt",null,"Summe"]
[null,1,null,2,null,3,null,1000,null,2000,null,5000]
["Altersklasse","männlich","weiblich","männlich","weiblich","männlich","weiblich","männlich","weiblich","männlich","weiblich","männlich","weiblich","männlich","weiblich","männlich","weiblich","männlich","weiblich","männlich","weiblich","männlich","weiblich","männlich","weiblich","männlich","weiblich"]
["bis 14",1,{"$nulls":7},1,1,{"$nulls":7},1,null,null,null,1,null,null,{"$f":"B81+D81+F81+H81+J81+L81+N81+P81+R81+T81+X81+V81","v":2},{"$f":"C81+E81+G81+I81+K81+M81+O81+Q81+S81+U81+Y81+W81","v":3},{"$f":"Z81+AA81","v":5}]
["15 - 18",{"$nulls":24},0,0,{"$f":"Z82+AA82","v":0}]
["19 - 35",1,1,null,3,null,2,null,1,null,7,null,3,null,null,1,5,null,9,null,null,1,13,null,null,3,44,47]
["36 - 49",null,null,null,2,1,1,null,null,null,1,1,null,null,null,1,1,1,1,null,null,3,3,null,null,7,9,16]
["50 - 60",1,null,1,null,null,1,{"$nulls":4},1,null,null,null,1,null,1,1,null,null,2,1,null,null,7,3,10]
["ab 61",{"$nulls":24},{"$f":"B86+D86+F86+H86+J86+L86+N86+P86+R86+T86+X86+V86","v":0},{"$f":"C86+E86+G86+I86+K86+M86+O86+Q86+S86+U86+Y86+W86","v":0},0]
["Gesamt",{"$f":"SUM(B81:B86)","v":3},{"$f":"SUM(C81:C86)","v":1},1,5,1,4,0,1,1,9,2,3,0,0,3,6,2,12,0,0,{"$f":"SUM(V81:V86)","v":6},18,0,0,{"$f":"B87+D87+F87+H87+J87+L87+N87+P87+R87+T87+X87+V87","v":19},{"$f":"C87+E87+G87+I87+K87+M87+O87+Q87+S87+U87+Y87+W87","v":59},78]
[]
["Misburg 09.09.18","Vierkampf",{"$nulls":5},"Geländelauf",{"$nulls":5},"CSC",null,"Hinder-nislauf",null,"Drei-kampf",null,"K. O.-Cup",null,"Shorty",null,"Cani\ncross",null,"Gesamt",null,"Summe"]
[null,1,null,2,null,3,null,1000,null,2000,null,5000]
["Altersklasse","männlich","weiblich","männlich","weiblich","männlich","weiblich","männlich","weiblich","männlich","weiblich","männlich","weiblich","männlich","weiblich","männlich","weiblich","männlich","weiblich","männlich","weiblich","männlich","weiblich","männlich","weiblich","männlich","weiblich"]
["bis 14",null,null,null,1,{"$nulls":9},2,null,1,1,1,null,null,1,2,null,null,{"$f":"B92+D92+F92+H92+J92+L92+N92+P92+R92+T92+X92+V92","v":2},{"$f":"C92+E92+G92+I92+K92+M92+O92+Q92+S92+U92+Y92+W92","v":7},{"$f":"Z92+AA92","v":9}]
["15 - 18",null,1,null,1,{"$nulls":8},2,2,1,null,1,null,null,null,2,1,null,null,6,5,{"$f":"Z93+AA93","v":11}]
["19 - 35",null,2,2,3,null,3,null,null,null,4,1,1,3,7,null,1,1,2,null,null,3,3,null,null,10,26,36]
["36 - 49",null,1,null,1,1,1,null,null,null,1,1,null,1,4,null,1,{"$nulls":4},2,2,null,null,5,11,16]
["50 - 60",1,3,null,1,1,null,null,null,1,null,null,null,1,5,1,2,1,2,null,null,2,2,null,null,8,15,23]
["ab 61",1,{"$nulls":7},1,{"$nulls":8},1,{"$nulls":6},{"$f":"B97+D97+F97+H97+J97+L97+N97+P97+R97+T97+X97+V97","v":2},{"$f":"C97+E97+G97+I97+K97+M97+O97+Q97+S97+U97+Y97+W97","v":1},3]
["Gesamt",{"$f":"SUM(B92:B97)","v":2},{"$f":"SUM(C92:C97)","v":7},2,7,2,4,0,0,2,5,2,1,7,20,2,5,4,6,0,0,{"$f":"SUM(V92:V97)","v":10},10,0,0,{"$f":"B98+D98+F98+H98+J98+L98+N98+P98+R98+T98+X98+V98","v":33},{"$f":"C98+E98+G98+I98+K98+M98+O98+Q98+S98+U98+Y98+W98","v":65},98]
[]
["Langelsheim 30.09.18","Vierkampf",{"$nulls":5},"Geländelauf",{"$nulls":5},"CSC",null,"Hinder-nislauf",null,"Drei-kampf",null,"K. O.-Cup",null,"Shorty",null,"Cani\ncross",null,"Gesamt",null,"Summe"]
[null,1,null,2,null,3,null,1000,null,2000,null,5000]
["Altersklasse","männlich","weiblich","männlich","weiblich","männlich","weiblich","männlich","weiblich","männlich","weiblich","männlich","weiblich","männlich","weiblich","männlich","weiblich","männlich","weiblich","männlich","weiblich","männlich","weiblich","männlich","weiblich","männlich","weiblich"]
["bis 14",{"$nulls":16},1,{"$nulls":7},{"$f":"B103+D103+F103+H103+J103+L103+N103+P103+R103+T103+X103+V103","v":1},{"$f":"C103+E103+G103+I103+K103+M103+O103+Q103+S103+U103+Y103+W103","v":0},{"$f":"Z103+AA103","v":1}]
["15 - 18",{"$nulls":24},0,0,{"$f":"Z104+AA104","v":0}]
["19 - 35",1,4,null,3,null,3,null,null,null,5,{"$nulls":5},2,null,3,null,null,1,8,null,null,2,28,30]
["36 - 49",1,{"$nulls":7},1,1,{"$nulls":4},1,1,1,1,null,null,1,2,null,null,5,5,10]
["50 - 60",null,null,1,{"$nulls":21},1,0,1]
["ab 61",null,1,{"$nulls":6},1,{"$nulls":15},{"$f":"B108+D108+F108+H108+J108+L108+N108+P108+R108+T108+X108+V108","v":1},{"$f":"C108+E108+G108+I108+K108+M108+O108+Q108+S108+U108+Y108+W108","v":1},2]
["Gesamt",{"$f":"SUM(B103:B108)","v":2},{"$f":"SUM(C103:C108)","v":5},1,3,0,3,0,0,2,6,0,0,0,0,1,3,2,4,0,0,{"$f":"SUM(V103:V108)","v":2},10,0,0,{"$f":"B109+D109+F109+H109+J109+L109+N109+P109+R109+T109+X109+V109","v":10},{"$f":"C109+E109+G109+I109+K109+M109+O109+Q109+S109+U109+Y109+W109","v":34},44]
[]
["Laatzen 28.10.18","Vierkampf",{"$nulls":5},"Geländelauf",{"$nulls":5},"CSC",null,"Hinder-nislauf",null,"Drei-kampf",null,"K. O.-Cup",null,"Shorty",null,"Cani\ncross",null,"Gesamt",null,"Summe"]
[null,1,null,2,null,3,null,1000,null,2000,null,5000]
["Altersklasse","männlich","weiblich","männlich","weiblich","männlich","weiblich","männlich","weiblich","männlich","weiblich","männlich","weiblich","männlich","weiblich","männlich","weiblich","männlich","weiblich","männlich","weiblich","männlich","weiblich","männlich","weiblich","männlich","weiblich"]
["bis 14",null,null,null,1,{"$nulls":13},1,{"$nulls":6},{"$f":"B114+D114+F114+H114+J114+L114+N114+P114+R114+T114+X114+V114","v":0},{"$f":"C114+E114+G114+I114+K114+M114+O114+Q114+S114+U114+Y114+W114","v":2},{"$f":"Z114+AA114","v":2}]
["15 - 18",{"$nulls":24},0,0,{"$f":"Z115+AA115","v":0}]
["19 - 35",1,2,null,2,null,2,null,null,null,2,1,1,1,6,null,null,1,{"$nulls":7},4,15,19]
["36 - 49",null,1,null,1,{"$nulls":4},1,1,null,null,1,3,{"$nulls":10},2,6,8]
["50 - 60",1,3,null,null,null,1,null,null,2,1,null,null,3,4,null,null,1,2,{"$nulls":6},7,11,18]
["ab 61",null,1,{"$nulls":22},{"$f":"B119+D119+F119+H119+J119+L119+N119+P119+R119+T119+X119+V119","v":0},{"$f":"C119+E119+G119+I119+K119+M119+O119+Q119+S119+U119+Y119+W119","v":1},1]
["Gesamt",{"$f":"SUM(B114:B119)","v":2},{"$f":"SUM(C114:C119)","v":7},0,4,0,3,0,0,3,4,1,1,5,13,0,0,2,3,0,0,{"$f":"SUM(V114:V119)","v":0},0,0,0,{"$f":"B120+D120+F120+H120+J120+L120+N120+P120+R120+T120+X120+V120","v":13},{"$f":"C120+E120+G120+I120+K120+M120+O120+Q120+S120+U120+Y120+W120","v":35},48]
[]
["Hambühren\n25.09.16","Vierkampf",{"$nulls":5},"Geländelauf",{"$nulls":5},"CSC",null,"Hinder-nislauf",null,"Drei-kampf",null,"K. O.-Cup",null,"Shorty",null,"Cani\ncross",null,"Gesamt",null,"Summe"]
[null,1,null,2,null,3,null,1000,null,2000,null,5000]
["Altersklasse","männlich","weiblich","männlich","weiblich","männlich","weiblich","männlich","weiblich","männlich","weiblich","männlich","weiblich","männlich","weiblich","männlich","weiblich","männlich","weiblich","männlich","weiblich","männlich","weiblich","männlich","weiblich","männlich","weiblich"]
["bis 14",{"$nulls":24},{"$f":"B125+D125+F125+H125+J125+L125+N125+P125+R125+T125+X125+V125","v":0},{"$f":"C125+E125+G125+I125+K125+M125+O125+Q125+S125+U125+Y125+W125","v":0},{"$f":"Z125+AA125","v":0}]
["15 - 18",{"$nulls":24},0,0,{"$f":"Z126+AA126","v":0}]
["19 - 35",{"$nulls":24},0,0,0]
["36 - 49",{"$nulls":24},0,0,0]
["50 - 60",{"$nulls":24},0,0,0]
["ab 61",{"$nulls":24},{"$f":"B130+D130+F130+H130+J130+L130+N130+P130+R130+T130+X130+V130","v":0},{"$f":"C130+E130+G130+I130+K130+M130+O130+Q130+S130+U130+Y130+W130","v":0},0]
["Gesamt",{"$f":"SUM(B125:B130)","v":0},{"$f":"SUM(C125:C130)","v":0},0,0,0,0,0,0,0,0,0,0,0,0,0,0,0,0,0,0,{"$f":"SUM(V125:V130)","v":0},0,0,0,{"$f":"B131+D131+F131+H131+J131+L131+N131+P131+R131+T131+X131+V131","v":0},{"$f":"C131+E131+G131+I131+K131+M131+O131+Q131+S131+U131+Y131+W131","v":0},0]
[]
["Göttingen 02.10.16","Vierkampf",{"$nulls":5},"Geländelauf",{"$nulls":5},"CSC",null,"Hinder-nislauf",null,"Drei-kampf",null,"K. O.-Cup",null,"Shorty",null,"Cani\ncross",null,"Gesamt",null,"Summe"]
[null,1,null,2,null,3,null,1000,null,2000,null,5000]
["Altersklasse","männlich","weiblich","männlich","weiblich","männlich","weiblich","männlich","weiblich","männlich","weiblich","männlich","weiblich","männlich","weiblich","männlich","weiblich","männlich","weiblich","männlich","weiblich","männlich","weiblich","männlich","weiblich","männlich","weiblich"]
["bis 14",{"$nulls":24},{"$f":"B136+D136+F136+H136+J136+L136+N136+P136+R136+T136+X136+V136","v":0},{"$f":"C136+E136+G136+I136+K136+M136+O136+Q136+S136+U136+Y136+W136","v":0},{"$f":"Z136+AA136","v":0}]
["15 - 18",{"$nulls":24},0,0,{"$f":"Z137+AA137","v":0}]
["19 - 35",{"$nulls":24},0,0,0]
["36 - 49",{"$nulls":24},0,0,0]
["50 - 60",{"$nulls":24},0,0,0]
["ab 61",{"$nulls":24},{"$f":"B141+D141+F141+H141+J141+L141+N141+P141+R141+T141+X141+V141","v":0},{"$f":"C141+E141+G141+I141+K141+M141+O141+Q141+S141+U141+Y141+W141","v":0},0]
["Gesamt",{"$f":"SUM(B136:B141)","v":0},{"$f":"SUM(C136:C141)","v":0},0,0,0,0,0,0,0,0,0,0,0,0,0,0,0,0,0,0,{"$f":"SUM(V136:V141)","v":0},0,0,0,{"$f":"B142+D142+F142+H142+J142+L142+N142+P142+R142+T142+X142+V142","v":0},{"$f":"C142+E142+G142+I142+K142+M142+O142+Q142+S142+U142+Y142+W142","v":0},0]
[]
["Hameln 09.10.16\n18.10.14","Vierkampf",{"$nulls":5},"Geländelauf",{"$nulls":5},"CSC",null,"Hinder-nislauf",null,"Drei-kampf",null,"K. O.-Cup",null,"Shorty",null,"Cani\ncross",null,"Gesamt",null,"Summe"]
[null,1,null,2,null,3,null,1000,null,2000,null,5000]
["Altersklasse","männlich","weiblich","männlich","weiblich","männlich","weiblich","männlich","weiblich","männlich","weiblich","männlich","weiblich","männlich","weiblich","männlich","weiblich","männlich","weiblich","männlich","weiblich","männlich","weiblich","männlich","weiblich","männlich","weiblich"]
["bis 14",{"$nulls":24},{"$f":"B147+D147+F147+H147+J147+L147+N147+P147+R147+T147+X147+V147","v":0},{"$f":"C147+E147+G147+I147+K147+M147+O147+Q147+S147+U147+Y147+W147","v":0},{"$f":"Z147+AA147","v":0}]
["15 - 18",{"$nulls":24},0,0,{"$f":"Z148+AA148","v":0}]
["19 - 35",{"$nulls":24},0,0,0]
["36 - 49",{"$nulls":24},0,0,0]
["50 - 60",{"$nulls":24},0,0,0]
["ab 61",{"$nulls":24},{"$f":"B152+D152+F152+H152+J152+L152+N152+P152+R152+T152+X152+V152","v":0},{"$f":"C152+E152+G152+I152+K152+M152+O152+Q152+S152+U152+Y152+W152","v":0},0]
["Gesamt",{"$f":"SUM(B147:B152)","v":0},{"$f":"SUM(C147:C152)","v":0},0,0,0,0,0,0,0,0,0,0,0,0,0,0,0,0,0,0,{"$f":"SUM(V147:V152)","v":0},0,0,0,{"$f":"B153+D153+F153+H153+J153+L153+N153+P153+R153+T153+X153+V153","v":0},{"$f":"C153+E153+G153+I153+K153+M153+O153+Q153+S153+U153+Y153+W153","v":0},0]
[]
["Langelsheim 23.10.16","Vierkampf",{"$nulls":5},"Geländelauf",{"$nulls":5},"CSC",null,"Hinder-nislauf",null,"Drei-kampf",null,"K. O.-Cup",null,"Shorty",null,"Cani\ncross",null,"Gesamt",null,"Summe"]
[null,1,null,2,null,3,null,1000,null,2000,null,5000]
["Altersklasse","männlich","weiblich","männlich","weiblich","männlich","weiblich","männlich","weiblich","männlich","weiblich","männlich","weiblich","männlich","weiblich","männlich","weiblich","männlich","weiblich","männlich","weiblich","männlich","weiblich","männlich","weiblich","männlich","weiblich"]
["bis 14",{"$nulls":24},{"$f":"B158+D158+F158+H158+J158+L158+N158+P158+R158+T158+X158+V158","v":0},{"$f":"C158+E158+G158+I158+K158+M158+O158+Q158+S158+U158+Y158+W158","v":0},{"$f":"Z158+AA158","v":0}]
["15 - 18",{"$nulls":24},0,0,{"$f":"Z159+AA159","v":0}]
["19 - 35",{"$nulls":24},0,0,0]
["36 - 49",{"$nulls":24},0,0,0]
["50 - 60",{"$nulls":24},0,0,0]
["ab 61",{"$nulls":24},{"$f":"B163+D163+F163+H163+J163+L163+N163+P163+R163+T163+X163+V163","v":0},{"$f":"C163+E163+G163+I163+K163+M163+O163+Q163+S163+U163+Y163+W163","v":0},0]
["Gesamt",{"$f":"SUM(B158:B163)","v":0},{"$f":"SUM(C158:C163)","v":0},0,0,0,0,0,0,0,0,0,0,0,0,0,0,0,0,0,0,{"$f":"SUM(V158:V163)","v":0},0,0,0,{"$f":"B164+D164+F164+H164+J164+L164+N164+P164+R164+T164+X164+V164","v":0},{"$f":"C164+E164+G164+I164+K164+M164+O164+Q164+S164+U164+Y164+W164","v":0},0]
[]
[null,"Vierkampf",{"$nulls":5},"Geländelauf",{"$nulls":5},"CSC",null,"Hinder-nislauf",null,"Drei-kampf",null,"K. O.-Cup",null,"Shorty",null,"Cani\ncross",null,"Gesamt",null,"Summe"]
[null,1,null,2,null,3,null,1000,null,2000,null,5000]
["Altersklasse","männlich","weiblich","männlich","weiblich","männlich","weiblich","männlich","weiblich","männlich","weiblich","männlich","weiblich","männlich","weiblich","männlich","weiblich","männlich","weiblich","männlich","weiblich","männlich","weiblich","männlich","weiblich","männlich","weiblich"]
["bis 14",{"$nulls":24},{"$f":"B169+D169+F169+H169+J169+L169+N169+P169+R169+T169+X169+V169","v":0},{"$f":"C169+E169+G169+I169+K169+M169+O169+Q169+S169+U169+Y169+W169","v":0},{"$f":"Z169+AA169","v":0}]
["15 - 18",{"$nulls":24},0,0,{"$f":"Z170+AA170","v":0}]
["19 - 35",{"$nulls":24},0,0,0]
["36 - 49",{"$nulls":24},0,0,0]
["50 - 60",{"$nulls":24},0,0,0]
["ab 61",{"$nulls":24},{"$f":"B174+D174+F174+H174+J174+L174+N174+P174+R174+T174+X174+V174","v":0},{"$f":"C174+E174+G174+I174+K174+M174+O174+Q174+S174+U174+Y174+W174","v":0},0]
["Gesamt",{"$f":"SUM(B169:B174)","v":0},{"$f":"SUM(C169:C174)","v":0},0,0,0,0,0,0,0,0,0,0,0,0,0,0,0,0,0,0,{"$f":"SUM(V169:V174)","v":0},0,0,0,{"$f":"B175+D175+F175+H175+J175+L175+N175+P175+R175+T175+X175+V175","v":0},{"$f":"C175+E175+G175+I175+K175+M175+O175+Q175+S175+U175+Y175+W175","v":0},0]
[]
[null,"Vierkampf",{"$nulls":5},"Geländelauf",{"$nulls":5},"CSC",null,"Hinder-nislauf",null,"Drei-kampf",null,"K. O.-Cup",null,"Shorty",null,"Cani\ncross",null,"Gesamt",null,"Summe"]
[null,1,null,2,null,3,null,1000,null,2000,null,5000]
["Altersklasse","männlich","weiblich","männlich","weiblich","männlich","weiblich","männlich","weiblich","männlich","weiblich","männlich","weiblich","männlich","weiblich","männlich","weiblich","männlich","weiblich","männlich","weiblich","männlich","weiblich","männlich","weiblich","männlich","weiblich"]
["bis 14",{"$nulls":24},{"$f":"B180+D180+F180+H180+J180+L180+N180+P180+R180+T180+X180+V180","v":0},{"$f":"C180+E180+G180+I180+K180+M180+O180+Q180+S180+U180+Y180+W180","v":0},{"$f":"Z180+AA180","v":0}]
["15 - 18",{"$nulls":24},0,0,{"$f":"Z181+AA181","v":0}]
["19 - 35",{"$nulls":24},0,0,0]
["36 - 49",{"$nulls":24},0,0,0]
["50 - 60",{"$nulls":24},0,0,0]
["ab 61",{"$nulls":24},{"$f":"B185+D185+F185+H185+J185+L185+N185+P185+R185+T185+X185+V185","v":0},{"$f":"C185+E185+G185+I185+K185+M185+O185+Q185+S185+U185+Y185+W185","v":0},0]
["Gesamt",{"$f":"SUM(B180:B185)","v":0},{"$f":"SUM(C180:C185)","v":0},0,0,0,0,0,0,0,0,0,0,0,0,0,0,0,0,0,0,{"$f":"SUM(V180:V185)","v":0},0,0,0,{"$f":"B186+D186+F186+H186+J186+L186+N186+P186+R186+T186+X186+V186","v":0},{"$f":"C186+E186+G186+I186+K186+M186+O186+Q186+S186+U186+Y186+W186","v":0},0]
[]
[null,"Vierkampf",{"$nulls":5},"Geländelauf",{"$nulls":5},"CSC",null,"Hinder-nislauf",null,"Drei-kampf",null,"K. O.-Cup",null,"Shorty",null,"Cani\ncross",null,"Gesamt",null,"Summe"]
[null,1,null,2,null,3,null,1000,null,2000,null,5000]
["Altersklasse","männlich","weiblich","männlich","weiblich","männlich","weiblich","männlich","weiblich","männlich","weiblich","männlich","weiblich","männlich","weiblich","männlich","weiblich","männlich","weiblich","männlich","weiblich","männlich","weiblich","männlich","weiblich","männlich","weiblich"]
["bis 14",{"$nulls":24},{"$f":"B191+D191+F191+H191+J191+L191+N191+P191+R191+T191+X191+V191","v":0},{"$f":"C191+E191+G191+I191+K191+M191+O191+Q191+S191+U191+Y191+W191","v":0},{"$f":"Z191+AA191","v":0}]
["15 - 18",{"$nulls":24},0,0,{"$f":"Z192+AA192","v":0}]
["19 - 35",{"$nulls":24},0,0,0]
["36 - 49",{"$nulls":24},0,0,0]
["50 - 60",{"$nulls":24},0,0,0]
["ab 61",{"$nulls":24},{"$f":"B196+D196+F196+H196+J196+L196+N196+P196+R196+T196+X196+V196","v":0},{"$f":"C196+E196+G196+I196+K196+M196+O196+Q196+S196+U196+Y196+W196","v":0},0]
["Gesamt",{"$f":"SUM(B191:B196)","v":0},{"$f":"SUM(C191:C196)","v":0},0,0,0,0,0,0,0,0,0,0,0,0,0,0,0,0,0,0,{"$f":"SUM(V191:V196)","v":0},0,0,0,{"$f":"B197+D197+F197+H197+J197+L197+N197+P197+R197+T197+X197+V197","v":0},{"$f":"C197+E197+G197+I197+K197+M197+O197+Q197+S197+U197+Y197+W197","v":0},0]
[]
[null,"Vierkampf",{"$nulls":5},"Geländelauf",{"$nulls":5},"CSC",null,"Hinder-nislauf",null,"Drei-kampf",null,"K. O.-Cup",null,"Shorty",null,"Cani\ncross",null,"Gesamt",null,"Summe"]
[null,1,null,2,null,3,null,1000,null,2000,null,5000]
["Altersklasse","männlich","weiblich","männlich","weiblich","männlich","weiblich","männlich","weiblich","männlich","weiblich","männlich","weiblich","männlich","weiblich","männlich","weiblich","männlich","weiblich","männlich","weiblich","männlich","weiblich","männlich","weiblich","männlich","weiblich"]
["bis 14",{"$nulls":24},{"$f":"B202+D202+F202+H202+J202+L202+N202+P202+R202+T202+X202+V202","v":0},{"$f":"C202+E202+G202+I202+K202+M202+O202+Q202+S202+U202+Y202+W202","v":0},{"$f":"Z202+AA202","v":0}]
["15 - 18",{"$nulls":24},0,0,{"$f":"Z203+AA203","v":0}]
["19 - 35",{"$nulls":24},0,0,0]
["36 - 49",{"$nulls":24},0,0,0]
["50 - 60",{"$nulls":24},0,0,0]
["ab 61",{"$nulls":24},{"$f":"B207+D207+F207+H207+J207+L207+N207+P207+R207+T207+X207+V207","v":0},{"$f":"C207+E207+G207+I207+K207+M207+O207+Q207+S207+U207+Y207+W207","v":0},0]
["Gesamt",{"$f":"SUM(B202:B207)","v":0},{"$f":"SUM(C202:C207)","v":0},0,0,0,0,0,0,0,0,0,0,0,0,0,0,0,0,0,0,{"$f":"SUM(V202:V207)","v":0},0,0,0,{"$f":"B208+D208+F208+H208+J208+L208+N208+P208+R208+T208+X208+V208","v":0},{"$f":"C208+E208+G208+I208+K208+M208+O208+Q208+S208+U208+Y208+W208","v":0},0]
[]
[null,"Vierkampf",{"$nulls":5},"Geländelauf",{"$nulls":5},"CSC",null,"Hinder-nislauf",null,"Drei-kampf",null,"K. O.-Cup",null,"Shorty",null,"Cani\ncross",null,"Gesamt",null,"Summe"]
[null,1,null,2,null,3,null,1000,null,2000,null,5000]
["Altersklasse","männlich","weiblich","männlich","weiblich","männlich","weiblich","männlich","weiblich","männlich","weiblich","männlich","weiblich","männlich","weiblich","männlich","weiblich","männlich","weiblich","männlich","weiblich","männlich","weiblich","männlich","weiblich","männlich","weiblich"]
["bis 14",{"$nulls":24},{"$f":"B213+D213+F213+H213+J213+L213+N213+P213+R213+T213+X213+V213","v":0},{"$f":"C213+E213+G213+I213+K213+M213+O213+Q213+S213+U213+Y213+W213","v":0},{"$f":"Z213+AA213","v":0}]
["15 - 18",{"$nulls":24},0,0,{"$f":"Z214+AA214","v":0}]
["19 - 35",{"$nulls":24},0,0,0]
["36 - 49",{"$nulls":24},0,0,0]
["50 - 60",{"$nulls":24},0,0,0]
["ab 61",{"$nulls":24},{"$f":"B218+D218+F218+H218+J218+L218+N218+P218+R218+T218+X218+V218","v":0},{"$f":"C218+E218+G218+I218+K218+M218+O218+Q218+S218+U218+Y218+W218","v":0},0]
["Gesamt",{"$f":"SUM(B213:B218)","v":0},{"$f":"SUM(C213:C218)","v":0},0,0,0,0,0,0,0,0,0,0,0,0,0,0,0,0,0,0,{"$f":"SUM(V213:V218)","v":0},0,0,0,{"$f":"B219+D219+F219+H219+J219+L219+N219+P219+R219+T219+X219+V219","v":0},{"$f":"C219+E219+G219+I219+K219+M219+O219+Q219+S219+U219+Y219+W219","v":0},0]
[]
[null,"Vierkampf",{"$nulls":5},"Geländelauf",{"$nulls":5},"CSC",null,"Hinder-nislauf",null,"Drei-kampf",null,"K. O.-Cup",null,"Shorty",null,"Cani\ncross",null,"Gesamt",null,"Summe"]
[null,1,null,2,null,3,null,1000,null,2000,null,5000]
["Altersklasse","männlich","weiblich","männlich","weiblich","männlich","weiblich","männlich","weiblich","männlich","weiblich","männlich","weiblich","männlich","weiblich","männlich","weiblich","männlich","weiblich","männlich","weiblich","männlich","weiblich","männlich","weiblich","männlich","weiblich"]
["bis 14",{"$nulls":24},{"$f":"B224+D224+F224+H224+J224+L224+N224+P224+R224+T224+X224+V224","v":0},{"$f":"C224+E224+G224+I224+K224+M224+O224+Q224+S224+U224+Y224+W224","v":0},{"$f":"Z224+AA224","v":0}]
["15 - 18",{"$nulls":24},0,0,{"$f":"Z225+AA225","v":0}]
["19 - 35",{"$nulls":24},0,0,0]
["36 - 49",{"$nulls":24},0,0,0]
["50 - 60",{"$nulls":24},0,0,0]
["ab 61",{"$nulls":24},{"$f":"B229+D229+F229+H229+J229+L229+N229+P229+R229+T229+X229+V229","v":0},{"$f":"C229+E229+G229+I229+K229+M229+O229+Q229+S229+U229+Y229+W229","v":0},0]
["Gesamt",{"$f":"SUM(B224:B229)","v":0},{"$f":"SUM(C224:C229)","v":0},0,0,0,0,0,0,0,0,0,0,0,0,0,0,0,0,0,0,{"$f":"SUM(V224:V229)","v":0},0,0,0,{"$f":"B230+D230+F230+H230+J230+L230+N230+P230+R230+T230+X230+V230","v":0},{"$f":"C230+E230+G230+I230+K230+M230+O230+Q230+S230+U230+Y230+W230","v":0},0]
[]
[null,"Vierkampf",{"$nulls":5},"Geländelauf",{"$nulls":5},"CSC",null,"Hinder-nislauf",null,"Drei-kampf",null,"K. O.-Cup",null,"Shorty",null,"Cani\ncross",null,"Gesamt",null,"Summe"]
[null,1,null,2,null,3,null,1000,null,2000,null,5000]
["Altersklasse","männlich","weiblich","männlich","weiblich","männlich","weiblich","männlich","weiblich","männlich","weiblich","männlich","weiblich","männlich","weiblich","männlich","weiblich","männlich","weiblich","männlich","weiblich","männlich","weiblich","männlich","weiblich","männlich","weiblich"]
["bis 14",{"$nulls":24},{"$f":"B235+D235+F235+H235+J235+L235+N235+P235+R235+T235+X235+V235","v":0},{"$f":"C235+E235+G235+I235+K235+M235+O235+Q235+S235+U235+Y235+W235","v":0},{"$f":"Z235+AA235","v":0}]
["15 - 18",{"$nulls":24},0,0,{"$f":"Z236+AA236","v":0}]
["19 - 35",{"$nulls":24},0,0,0]
["36 - 49",{"$nulls":24},0,0,0]
["50 - 60",{"$nulls":24},0,0,0]
["ab 61",{"$nulls":24},{"$f":"B240+D240+F240+H240+J240+L240+N240+P240+R240+T240+X240+V240","v":0},{"$f":"C240+E240+G240+I240+K240+M240+O240+Q240+S240+U240+Y240+W240","v":0},0]
["Gesamt",{"$f":"SUM(B235:B240)","v":0},{"$f":"SUM(C235:C240)","v":0},0,0,0,0,0,0,0,0,0,0,0,0,0,0,0,0,0,0,{"$f":"SUM(V235:V240)","v":0},0,0,0,{"$f":"B241+D241+F241+H241+J241+L241+N241+P241+R241+T241+X241+V241","v":0},{"$f":"C241+E241+G241+I241+K241+M241+O241+Q241+S241+U241+Y241+W241","v":0},0]
[]
[null,"Vierkampf",{"$nulls":5},"Geländelauf",{"$nulls":5},"CSC",null,"Hinder-nislauf",null,"Drei-kampf",null,"K. O.-Cup",null,"Shorty",null,"Cani\ncross",null,"Gesamt",null,"Summe"]
[null,1,null,2,null,3,null,1000,null,2000,null,5000]
["Altersklasse","männlich","weiblich","männlich","weiblich","männlich","weiblich","männlich","weiblich","männlich","weiblich","männlich","weiblich","männlich","weiblich","männlich","weiblich","männlich","weiblich","männlich","weiblich","männlich","weiblich","männlich","weiblich","männlich","weiblich"]
["bis 14",{"$nulls":24},{"$f":"B246+D246+F246+H246+J246+L246+N246+P246+R246+T246+X246+V246","v":0},{"$f":"C246+E246+G246+I246+K246+M246+O246+Q246+S246+U246+Y246+W246","v":0},{"$f":"Z246+AA246","v":0}]
["15 - 18",{"$nulls":24},0,0,{"$f":"Z247+AA247","v":0}]
["19 - 35",{"$nulls":24},0,0,0]
["36 - 49",{"$nulls":24},0,0,0]
["50 - 60",{"$nulls":24},0,0,0]
["ab 61",{"$nulls":24},{"$f":"B251+D251+F251+H251+J251+L251+N251+P251+R251+T251+X251+V251","v":0},{"$f":"C251+E251+G251+I251+K251+M251+O251+Q251+S251+U251+Y251+W251","v":0},0]
["Gesamt",{"$f":"SUM(B246:B251)","v":0},{"$f":"SUM(C246:C251)","v":0},0,0,0,0,0,0,0,0,0,0,0,0,0,0,0,0,0,0,{"$f":"SUM(V246:V251)","v":0},0,0,0,{"$f":"B252+D252+F252+H252+J252+L252+N252+P252+R252+T252+X252+V252","v":0},{"$f":"C252+E252+G252+I252+K252+M252+O252+Q252+S252+U252+Y252+W252","v":0},0]
[]
[null,"Vierkampf",{"$nulls":5},"Geländelauf",{"$nulls":5},"CSC",null,"Hinder-nislauf",null,"Drei-kampf",null,"K. O.-Cup",null,"Shorty",null,"Cani\ncross",null,"Gesamt",null,"Summe"]
[null,1,null,2,null,3,null,1000,null,2000,null,5000]
["Altersklasse","männlich","weiblich","männlich","weiblich","männlich","weiblich","männlich","weiblich","männlich","weiblich","männlich","weiblich","männlich","weiblich","männlich","weiblich","männlich","weiblich","männlich","weiblich","männlich","weiblich","männlich","weiblich","männlich","weiblich"]
["bis 14",{"$nulls":24},{"$f":"B257+D257+F257+H257+J257+L257+N257+P257+R257+T257+X257+V257","v":0},{"$f":"C257+E257+G257+I257+K257+M257+O257+Q257+S257+U257+Y257+W257","v":0},{"$f":"Z257+AA257","v":0}]
["15 - 18",{"$nulls":24},0,0,{"$f":"Z258+AA258","v":0}]
["19 - 35",{"$nulls":24},0,0,0]
["36 - 49",{"$nulls":24},0,0,0]
["50 - 60",{"$nulls":24},0,0,0]
["ab 61",{"$nulls":24},{"$f":"B262+D262+F262+H262+J262+L262+N262+P262+R262+T262+X262+V262","v":0},{"$f":"C262+E262+G262+I262+K262+M262+O262+Q262+S262+U262+Y262+W262","v":0},0]
["Gesamt",{"$f":"SUM(B257:B262)","v":0},{"$f":"SUM(C257:C262)","v":0},0,0,0,0,0,0,0,0,0,0,0,0,0,0,0,0,0,0,{"$f":"SUM(V257:V262)","v":0},0,0,0,{"$f":"B263+D263+F263+H263+J263+L263+N263+P263+R263+T263+X263+V263","v":0},{"$f":"C263+E263+G263+I263+K263+M263+O263+Q263+S263+U263+Y263+W263","v":0},0]
[]
[null,"Vierkampf",{"$nulls":5},"Geländelauf",{"$nulls":5},"CSC",null,"Hinder-nislauf",null,"Drei-kampf",null,"K. O.-Cup",null,"Shorty",null,"Cani\ncross",null,"Gesamt",null,"Summe"]
[null,1,null,2,null,3,null,1000,null,2000,null,5000]
["Altersklasse","männlich","weiblich","männlich","weiblich","männlich","weiblich","männlich","weiblich","männlich","weiblich","männlich","weiblich","männlich","weiblich","männlich","weiblich","männlich","weiblich","männlich","weiblich","männlich","weiblich","männlich","weiblich","männlich","weiblich"]
["bis 14",{"$nulls":24},{"$f":"B268+D268+F268+H268+J268+L268+N268+P268+R268+T268+X268+V268","v":0},{"$f":"C268+E268+G268+I268+K268+M268+O268+Q268+S268+U268+Y268+W268","v":0},{"$f":"Z268+AA268","v":0}]
["15 - 18",{"$nulls":24},0,0,{"$f":"Z269+AA269","v":0}]
["19 - 35",{"$nulls":24},0,0,0]
["36 - 49",{"$nulls":24},0,0,0]
["50 - 60",{"$nulls":24},0,0,0]
["ab 61",{"$nulls":24},{"$f":"B273+D273+F273+H273+J273+L273+N273+P273+R273+T273+X273+V273","v":0},{"$f":"C273+E273+G273+I273+K273+M273+O273+Q273+S273+U273+Y273+W273","v":0},0]
["Gesamt",{"$f":"SUM(B268:B273)","v":0},{"$f":"SUM(C268:C273)","v":0},0,0,0,0,0,0,0,0,0,0,0,0,0,0,0,0,0,0,{"$f":"SUM(V268:V273)","v":0},0,0,0,{"$f":"B274+D274+F274+H274+J274+L274+N274+P274+R274+T274+X274+V274","v":0},{"$f":"C274+E274+G274+I274+K274+M274+O274+Q274+S274+U274+Y274+W274","v":0},0]
[]
[null,"Vierkampf",{"$nulls":5},"Geländelauf",{"$nulls":5},"CSC",null,"Hinder-nislauf",null,"Drei-kampf",null,"K. O.-Cup",null,"Shorty",null,"Cani\ncross",null,"Gesamt",null,"Summe"]
[null,1,null,2,null,3,null,1000,null,2000,null,5000]
["Altersklasse","männlich","weiblich","männlich","weiblich","männlich","weiblich","männlich","weiblich","männlich","weiblich","männlich","weiblich","männlich","weiblich","männlich","weiblich","männlich","weiblich","männlich","weiblich","männlich","weiblich","männlich","weiblich","männlich","weiblich"]
["bis 14",{"$nulls":24},{"$f":"B279+D279+F279+H279+J279+L279+N279+P279+R279+T279+X279+V279","v":0},{"$f":"C279+E279+G279+I279+K279+M279+O279+Q279+S279+U279+Y279+W279","v":0},{"$f":"Z279+AA279","v":0}]
["15 - 18",{"$nulls":24},0,0,{"$f":"Z280+AA280","v":0}]
["19 - 35",{"$nulls":24},0,0,0]
["36 - 49",{"$nulls":24},0,0,0]
["50 - 60",{"$nulls":24},0,0,0]
["ab 61",{"$nulls":24},{"$f":"B284+D284+F284+H284+J284+L284+N284+P284+R284+T284+X284+V284","v":0},{"$f":"C284+E284+G284+I284+K284+M284+O284+Q284+S284+U284+Y284+W284","v":0},0]
["Gesamt",{"$f":"SUM(B279:B284)","v":0},{"$f":"SUM(C279:C284)","v":0},0,0,0,0,0,0,0,0,0,0,0,0,0,0,0,0,0,0,{"$f":"SUM(V279:V284)","v":0},0,0,0,{"$f":"B285+D285+F285+H285+J285+L285+N285+P285+R285+T285+X285+V285","v":0},{"$f":"C285+E285+G285+I285+K285+M285+O285+Q285+S285+U285+Y285+W285","v":0},0]
[]
[null,"Vierkampf",{"$nulls":5},"Geländelauf",{"$nulls":5},"CSC",null,"Hinder-nislauf",null,"Drei-kampf",null,"K. O.-Cup",null,"Shorty",null,"Cani\ncross",null,"Gesamt",null,"Summe"]
[null,1,null,2,null,3,null,1000,null,2000,null,5000]
["Altersklasse","männlich","weiblich","männlich","weiblich","männlich","weiblich","männlich","weiblich","männlich","weiblich","männlich","weiblich","männlich","weiblich","männlich","weiblich","männlich","weiblich","männlich","weiblich","männlich","weiblich","männlich","weiblich","männlich","weiblich"]
["bis 14",{"$nulls":24},{"$f":"B290+D290+F290+H290+J290+L290+N290+P290+R290+T290+X290+V290","v":0},{"$f":"C290+E290+G290+I290+K290+M290+O290+Q290+S290+U290+Y290+W290","v":0},{"$f":"Z290+AA290","v":0}]
["15 - 18",{"$nulls":24},0,0,{"$f":"Z291+AA291","v":0}]
["19 - 35",{"$nulls":24},0,0,0]
["36 - 49",{"$nulls":24},0,0,0]
["50 - 60",{"$nulls":24},0,0,0]
["ab 61",{"$nulls":24},{"$f":"B295+D295+F295+H295+J295+L295+N295+P295+R295+T295+X295+V295","v":0},{"$f":"C295+E295+G295+I295+K295+M295+O295+Q295+S295+U295+Y295+W295","v":0},0]
["Gesamt",{"$f":"SUM(B290:B295)","v":0},{"$f":"SUM(C290:C295)","v":0},0,0,0,0,0,0,0,0,0,0,0,0,0,0,0,0,0,0,{"$f":"SUM(V290:V295)","v":0},0,0,0,{"$f":"B296+D296+F296+H296+J296+L296+N296+P296+R296+T296+X296+V296","v":0},{"$f":"C296+E296+G296+I296+K296+M296+O296+Q296+S296+U296+Y296+W296","v":0},0]
[]
[null,"Vierkampf",{"$nulls":5},"Geländelauf",{"$nulls":5},"CSC",null,"Hinder-nislauf",null,"Drei-kampf",null,"K. O.-Cup",null,"Shorty",null,"Cani\ncross",null,"Gesamt",null,"Summe"]
[null,1,null,2,null,3,null,1000,null,2000,null,5000]
["Altersklasse","männlich","weiblich","männlich","weiblich","männlich","weiblich","männlich","weiblich","männlich","weiblich","männlich","weiblich","männlich","weiblich","männlich","weiblich","männlich","weiblich","männlich","weiblich","männlich","weiblich","männlich","weiblich","männlich","weiblich"]
["bis 14",{"$nulls":24},{"$f":"B301+D301+F301+H301+J301+L301+N301+P301+R301+T301+X301+V301","v":0},0,{"$f":"Z301+AA301","v":0}]
["15 - 18",{"$nulls":24},0,0,{"$f":"Z302+AA302","v":0}]
["19 - 35",{"$nulls":24},0,0,0]
["36 - 49",{"$nulls":24},0,0,0]
["50 - 60",{"$nulls":24},0,0,0]
["ab 61",{"$nulls":24},{"$f":"B306+D306+F306+H306+J306+L306+N306+P306+R306+T306+X306+V306","v":0},{"$f":"C306+E306+G306+I306+K306+M306+O306+Q306+S306+U306+Y306+W306","v":0},0]
["Gesamt",{"$f":"SUM(B301:B306)","v":0},{"$f":"SUM(C301:C306)","v":0},0,0,0,0,0,0,0,0,0,0,0,0,0,0,0,0,0,0,{"$f":"SUM(V301:V306)","v":0},0,0,0,{"$f":"B307+D307+F307+H307+J307+L307+N307+P307+R307+T307+X307+V307","v":0},{"$f":"C307+E307+G307+I307+K307+M307+O307+Q307+S307+U307+Y307+W307","v":0},0]
[]
["Gesamt","Vierkampf",{"$nulls":5},"Geländelauf",{"$nulls":5},"CSC",null,"Hinder-nislauf",null,"Drei-kampf",null,"K. O.-Cup",null,"Shorty",null,"Cani\ncross",null,"Gesamt",null,"Summe"]
[null,1,null,2,null,3,null,1000,null,2000,null,5000]
["Altersklasse","männlich","weiblich","männlich","weiblich","männlich","weiblich","männlich","weiblich","männlich","weiblich","männlich","weiblich","männlich","weiblich","männlich","weiblich","männlich","weiblich","männlich","weiblich","männlich","weiblich","männlich","weiblich","männlich","weiblich"]
["bis 14",{"$f":"B301+B290+B279+B268+B257+B246+B235+B224+B213+B202+B191+B180+B158+B169+B147+B136+B125+B114+B103+B92+B81+B70+B59+B48+B37+B26+B15+B4","v":1},{"$f":"C301+C290+C279+C268+C257+C246+C235+C224+C213+C202+C191+C180+C158+C169+C147+C136+C125+C114+C103+C92+C81+C70+C59+C48+C37+C26+C15+C4","v":1},0,2,0,0,0,0,1,3,0,0,0,2,0,1,3,8,0,1,{"$f":"V301+V290+V279+V268+V257+V246+V235+V224+V213+V202+V191+V180+V158+V169+V147+V136+V125+V114+V103+V92+V81+V70+V59+V48+V37+V26+V15+V4","v":1},4,2,1,{"$f":"B312+D312+F312+H312+J312+L312+N312+P312+R312+T312+X312","v":7},{"$f":"C312+E312+G312+I312+K312+M312+O312+Q312+S312+U312+Y312","v":19},{"$f":"Z312+AA312","v":26}]
["15 - 18",{"$f":"B302+B291+B280+B269+B258+B247+B236+B225+B214+B203+B192+B181+B159+B170+B148+B137+B126+B115+B104+B93+B82+B71+B60+B49+B38+B27+B16+B5","v":0},3,0,3,0,1,0,0,0,0,0,0,2,5,1,1,3,0,0,1,{"$f":"V302+V291+V280+V269+V258+V247+V236+V225+V214+V203+V192+V181+V159+V170+V148+V137+V126+V115+V104+V93+V82+V71+V60+V49+V38+V27+V16+V5","v":3},3,2,1,{"$f":"B313+D313+F313+H313+J313+L313+N313+P313+R313+T313+X313","v":8},{"$f":"C313+E313+G313+I313+K313+M313+O313+Q313+S313+U313+Y313","v":15},{"$f":"Z313+AA313","v":23}]
["19 - 35",{"$f":"B303+B292+B281+B270+B259+B248+B237+B226+B215+B204+B193+B182+B160+B171+B149+B138+B127+B116+B105+B94+B83+B72+B61+B50+B39+B28+B17+B6","v":7},48,2,19,1,24,0,3,6,30,5,15,8,50,3,25,4,33,1,4,{"$f":"V303+V292+V281+V270+V259+V248+V237+V226+V215+V204+V193+V182+V160+V171+V149+V138+V127+V116+V105+V94+V83+V72+V61+V50+V39+V28+V17+V6","v":11},70,2,12,39,263,302]
["36 - 49",{"$f":"B304+B293+B282+B271+B260+B249+B238+B227+B216+B205+B194+B183+B161+B172+B150+B139+B128+B117+B106+B95+B84+B73+B62+B51+B40+B29+B18+B7","v":4},9,0,7,10,5,0,1,6,13,3,2,11,11,2,4,4,3,1,1,{"$f":"V304+V293+V282+V271+V260+V249+V238+V227+V216+V205+V194+V183+V161+V172+V150+V139+V128+V117+V106+V95+V84+V73+V62+V51+V40+V29+V18+V7","v":14},10,4,3,45,59,104]
["50 - 60",{"$f":"B305+B294+B283+B272+B261+B250+B239+B228+B217+B206+B195+B184+B162+B173+B151+B140+B129+B118+B107+B96+B85+B74+B63+B52+B41+B30+B19+B8","v":9},13,5,4,9,4,1,1,7,4,4,0,17,15,5,3,7,15,2,2,{"$f":"V305+V294+V283+V272+V261+V250+V239+V228+V217+V206+V195+V184+V162+V173+V151+V140+V129+V118+V107+V96+V85+V74+V63+V52+V41+V30+V19+V8","v":11},13,1,2,67,63,130]
["ab 61",{"$f":"B306+B295+B284+B273+B262+B251+B240+B229+B218+B207+B196+B185+B163+B174+B152+B141+B130+B119+B108+B97+B86+B75+B64+B53+B42+B31+B20+B9","v":6},6,0,0,0,3,0,0,2,0,0,0,3,1,1,1,0,2,0,1,{"$f":"V306+V295+V284+V273+V262+V251+V240+V229+V218+V207+V196+V185+V163+V174+V152+V141+V130+V119+V108+V97+V86+V75+V64+V53+V42+V31+V20+V9","v":3},2,0,0,12,14,26]
["Gesamt",{"$f":"SUM(B312:B317)","v":27},{"$f":"SUM(C312:C317)","v":80},7,35,20,37,1,5,22,50,12,17,41,84,12,35,21,61,4,10,{"$f":"SUM(V312:V317)","v":43},102,11,19,{"$f":"B318+D318+F318+H318+J318+L318+N318+P318+R318+T318+X318+V318","v":221},{"$f":"C318+E318+G318+I318+K318+M318+O318+Q318+S318+U318+Y318+W318","v":535},{"$f":"Z318+AA318","v":756}]

{"sheet":"BH 2018","index":2,"n_rows":83,"n_cols":6,"rows_kept":83,"cut":false,"hidden":false,"merged":[[16,1,16,4],[0,1,0,4],[1,1,1,4],[2,1,2,4],[4,1,4,4],[6,1,6,4],[7,1,7,4],[8,1,8,4],[10,1,10,4],[12,1,12,4],[13,1,13,4],[14,1,14,4],[50,1,50,4],[34,1,34,4],[18,1,18,4],[19,1,19,4],[20,1,20,4],[22,1,22,4],[24,1,24,4],[25,1,25,4],[26,1,26,4],[28,1,28,4],[30,1,30,4],[31,1,31,4],[32,1,32,4],[43,1,43,4],[44,1,44,4],[46,1,46,4],[48,1,48,4],[49,1,49,4],[36,1,36,4],[37,1,37,4],[38,1,38,4],[40,1,40,4],[42,1,42,4],[67,1,67,4],[68,1,68,4],[70,1,70,4],[72,1,72,4],[52,1,52,4],[73,1,73,4],[80,1,80,4],[82,1,82,4],[79,1,79,4],[54,1,54,4],[55,1,55,4],[56,1,56,4],[58,1,58,4],[78,1,78,4],[60,1,60,4],[61,1,61,4],[62,1,62,4],[64,1,64,4],[74,1,74,4],[76,1,76,4],[66,1,66,4]]}
["2018-04-07","BH - VT ohne AK",null,null,null,1]
["Laatzen","BH - VT bestanden",null,null,null,3]
[null,"BH - VT nur SKP"]
[]
[null,"Gesamt",null,null,null,4]
[]
["2018-04-29","BH - VT ohne AK",null,null,null,1]
["Langelsheim","BH - VT bestanden",null,null,null,8]
[null,"BH - VT nur SKP"]
[]
[null,"Gesamt",null,null,null,9]
[]
["2018-10-28","BH - VT ohne AK"]
["Hambühren","BH - VT bestanden",null,null,null,4]
[null,"BH - VT nur SKP"]
[]
[null,"Gesamt",null,null,null,4]
[]
["2018-11-03","BH - VT ohne AK",null,null,null,2]
["Laatzen","BH - VT bestanden",null,null,null,3]
[null,"BH - VT nur SKP"]
[]
[null,"Gesamt",null,null,null,5]
[]
["2017-09-09","BH - VT ohne AK"]
["Hambühren","BH - VT bestanden"]
[null,"BH - VT nur SKP"]
[]
[null,"Gesamt"]
[]
["2017-10-07","BH - VT ohne AK"]
["Laatzen","BH - VT bestanden"]
[null,"BH - VT nur SKP"]
[]
[null,"Gesamt"]
[]
["2017-10-29","BH - VT ohne AK"]
["Langelsheim","BH - VT bestanden"]
[null,"BH - VT nur SKP"]
[]
[null,"Gesamt"]
[]
["2017-10-22","BH - VT ohne AK"]
["Lindhorst","BH - VT bestanden"]
[null,"BH - VT nur SKP"]
[]
[null,"Gesamt"]
[]
["2017-11-05","BH - VT ohne AK"]
["Bockenem","BH - VT bestanden"]
[null,"BH - VT nur SKP"]
[]
[null,"Gesamt"]
[]
["2017-11-12","BH - VT ohne AK"]
["Schöningen","BH - VT bestanden"]
[null,"BH - VT nur SKP"]
[]
[null,"Gesamt"]
[]
["2014-11-29","BH - VT ohne AK"]
["Neuenfelde","BH - VT bestanden"]
[null,"BH - VT nur SKP"]
[]
[null,"Gesamt",null,null,null,{"$f":"SUM(F61:F64)","v":0}]
[]
[null,"BH - VT ohne AK"]
[null,"BH - VT bestanden"]
[null,"BH - VT nur SKP"]
[]
[null,"Gesamt",null,null,null,{"$f":"SUM(F67:F70)","v":0}]
[]
[null,"BH - VT ohne AK"]
[null,"BH - VT bestanden"]
[null,"BH - VT nur SKP"]
[]
[null,"Gesamt",null,null,null,{"$f":"SUM(F73:F76)","v":0}]
[]
["Gesamt","BH - VT ohne AK",null,null,null,{"$f":"SUM(F1,F7,F13,F19,F25,F31,F37,F43,F49,F55,F61,F67,F73)","v":4}]
[null,"BH - VT bestanden",null,null,null,{"$f":"SUM(F2,F8,F14,F20,F26,F32,F38,F44,F50,F56,F62,F68,F74)","v":18}]
[null,"BH - VT nur SKP",null,null,null,{"$f":"SUM(F3,F9,F15,F21,F27,F33,F39,F45,F51,F57,F63,F69,F75)","v":0}]
[]
[null,"Gesamt",null,null,null,{"$f":"SUM(F79:F82)","v":22}]